{"text_format":"1","workbook":"xlsx","n_sheets":9,"sheets":["カレンダー (A705)","祝日など","9-10時限","7-8時限","5-6時限","昼休憩","3-4時限","1-2時限","セミナー"],"not_rendered":{"charts":0,"images":0,"macros":1,"external_links":0,"defined_names":0,"comments":0,"pivot_tables":0},"unopened":[],"bounds":{"document_bytes":16777216,"sheet_cells":100000,"rows_first":2000,"rows_last":500,"rows_between":2000,"halvings":0,"cell_chars":16384,"cell_head_chars":4096},"cells_cut":0,"cells_raw":0,"read":"whole","date_system":"1900"}

{"sheet":"カレンダー (A705)","index":0,"n_rows":35,"n_cols":10,"rows_kept":35,"cut":false,"hidden":false,"merged":[[0,4,0,9],[1,4,1,8],[2,6,3,6],[4,0,4,1],[5,0,5,1],[6,0,6,1],[7,0,7,1],[8,0,8,1],[9,0,9,1],[10,0,10,1],[11,0,11,1],[12,0,12,1],[13,0,13,1],[14,0,14,1],[15,0,15,1],[16,0,16,1],[17,0,17,1],[18,0,18,1],[19,0,19,1],[20,0,20,1],[21,0,21,1],[22,0,22,1],[23,0,23,1],[24,0,24,1],[25,0,25,1],[26,0,26,1],[32,0,32,1],[33,0,33,1],[34,0,34,1],[27,0,27,1],[28,0,28,1],[29,0,29,1],[30,0,30,1],[31,0,31,1]]}
[{"$f":"B2","v":"2026-05-01"},null,"年",null,"A705号室（講義室/顕微鏡実習室）"]
[null,"2026-05-01","月",null,"※予定を入れる/変更する場合は，地事務までご連絡ください。",null,null,null,null,"（収容人数：31名）"]
[null,null,"時限",null,"１・２","３・４","昼休憩","５・６","７・８","９・１０"]
[null,null,"日","曜日","08:45-10:15","10:30-12:00",null,"12:50-14:20","14:35-16:05","16:20-17:50"]
[{"$f":"IFERROR(VLOOKUP(C5,祝日など!$A$2:$B$88,2,FALSE),\"\")&IFERROR(VLOOKUP(C5,祝日など!$D$2:$E$39,2,FALSE),\"\")","v":"振替授業(水)"},null,{"$f":"B2","v":"2026-05-01"},{"$f":"C5","v":46143},{"$f":"IFERROR(VLOOKUP(C5,テーブル4[],2,0),\"\")","v":""},{"$f":"IFERROR(VLOOKUP(C5,テーブル5[],2,FALSE),\"\")","v":""},{"$f":"IFERROR(VLOOKUP(C5,テーブル83[],2,FALSE),\"\")","v":""},{"$f":"IFERROR(VLOOKUP(C5,テーブル6[],2,FALSE),\"\")","v":""},{"$f":"IFERROR(VLOOKUP(C5,テーブル7[],2,FALSE),\"\")","v":"結晶光学演習\n（川添）"},{"$f":"IFERROR(VLOOKUP(C5,テーブル8[],2,FALSE),\"\")","v":""}]
[{"$f":"IFERROR(VLOOKUP(C6,祝日など!$A$2:$B$88,2,FALSE),\"\")&IFERROR(VLOOKUP(C6,祝日など!$D$2:$E$39,2,FALSE),\"\")","v":""},null,{"$f":"C5+1","v":"2026-05-02"},{"$f":"C6","v":46144},{"$f":"IFERROR(VLOOKUP(C6,テーブル4[],2,0),\"\")","v":""},{"$f":"IFERROR(VLOOKUP(C6,テーブル5[],2,FALSE),\"\")","v":""},{"$f":"IFERROR(VLOOKUP(C6,テーブル83[],2,FALSE),\"\")","v":""},{"$f":"IFERROR(VLOOKUP(C6,テーブル6[],2,FALSE),\"\")","v":""},{"$f":"IFERROR(VLOOKUP(C6,テーブル7[],2,FALSE),\"\")","v":""},{"$f":"IFERROR(VLOOKUP(C6,テーブル8[],2,FALSE),\"\")","v":""}]
[{"$f":"IFERROR(VLOOKUP(C7,祝日など!$A$2:$B$88,2,FALSE),\"\")&IFERROR(VLOOKUP(C7,祝日など!$D$2:$E$39,2,FALSE),\"\")","v":"憲法記念日"},null,{"$f":"C6+1","v":"2026-05-03"},46145,{"$f":"IFERROR(VLOOKUP(C7,テーブル4[],2,0),\"\")","v":""},{"$f":"IFERROR(VLOOKUP(C7,テーブル5[],2,FALSE),\"\")","v":""},{"$f":"IFERROR(VLOOKUP(C7,テーブル83[],2,FALSE),\"\")","v":""},{"$f":"IFERROR(VLOOKUP(C7,テーブル6[],2,FALSE),\"\")","v":""},{"$f":"IFERROR(VLOOKUP(C7,テーブル7[],2,FALSE),\"\")","v":""},{"$f":"IFERROR(VLOOKUP(C7,テーブル8[],2,FALSE),\"\")","v":""}]
[{"$f":"IFERROR(VLOOKUP(C8,祝日など!$A$2:$B$88,2,FALSE),\"\")&IFERROR(VLOOKUP(C8,祝日など!$D$2:$E$39,2,FALSE),\"\")","v":"みどりの日"},null,"2026-05-04",46146,{"$f":"IFERROR(VLOOKUP(C8,テーブル4[],2,0),\"\")","v":""},{"$f":"IFERROR(VLOOKUP(C8,テーブル5[],2,FALSE),\"\")","v":""},{"$f":"IFERROR(VLOOKUP(C8,テーブル83[],2,FALSE),\"\")","v":""},{"$f":"IFERROR(VLOOKUP(C8,テーブル6[],2,FALSE),\"\")","v":""},{"$f":"IFERROR(VLOOKUP(C8,テーブル7[],2,FALSE),\"\")","v":""},{"$f":"IFERROR(VLOOKUP(C8,テーブル8[],2,FALSE),\"\")","v":""}]
[{"$f":"IFERROR(VLOOKUP(C9,祝日など!$A$2:$B$88,2,FALSE),\"\")&IFERROR(VLOOKUP(C9,祝日など!$D$2:$E$39,2,FALSE),\"\")","v":"こどもの日"},null,"2026-05-05",46147,{"$f":"IFERROR(VLOOKUP(C9,テーブル4[],2,0),\"\")","v":""},{"$f":"IFERROR(VLOOKUP(C9,テーブル5[],2,FALSE),\"\")","v":""},{"$f":"IFERROR(VLOOKUP(C9,テーブル83[],2,FALSE),\"\")","v":""},{"$f":"IFERROR(VLOOKUP(C9,テーブル6[],2,FALSE),\"\")","v":""},{"$f":"IFERROR(VLOOKUP(C9,テーブル7[],2,FALSE),\"\")","v":""},{"$f":"IFERROR(VLOOKUP(C9,テーブル8[],2,FALSE),\"\")","v":""}]
[{"$f":"IFERROR(VLOOKUP(C10,祝日など!$A$2:$B$88,2,FALSE),\"\")&IFERROR(VLOOKUP(C10,祝日など!$D$2:$E$39,2,FALSE),\"\")","v":"振替休日"},null,"2026-05-06",46148,{"$f":"IFERROR(VLOOKUP(C10,テーブル4[],2,0),\"\")","v":""},{"$f":"IFERROR(VLOOKUP(C10,テーブル5[],2,FALSE),\"\")","v":""},{"$f":"IFERROR(VLOOKUP(C10,テーブル83[],2,FALSE),\"\")","v":""},{"$f":"IFERROR(VLOOKUP(C10,テーブル6[],2,FALSE),\"\")","v":""},{"$f":"IFERROR(VLOOKUP(C10,テーブル7[],2,FALSE),\"\")","v":""},{"$f":"IFERROR(VLOOKUP(C10,テーブル8[],2,FALSE),\"\")","v":""}]
[{"$f":"IFERROR(VLOOKUP(C11,祝日など!$A$2:$B$88,2,FALSE),\"\")&IFERROR(VLOOKUP(C11,祝日など!$D$2:$E$39,2,FALSE),\"\")","v":"振替授業(火)"},null,"2026-05-07",46149,{"$f":"IFERROR(VLOOKUP(C11,テーブル4[],2,0),\"\")","v":""},{"$f":"IFERROR(VLOOKUP(C11,テーブル5[],2,FALSE),\"\")","v":""},{"$f":"IFERROR(VLOOKUP(C11,テーブル83[],2,FALSE),\"\")","v":""},{"$f":"IFERROR(VLOOKUP(C11,テーブル6[],2,FALSE),\"\")","v":""},{"$f":"IFERROR(VLOOKUP(C11,テーブル7[],2,FALSE),\"\")","v":"結晶光学演習\n（川添）"},{"$f":"IFERROR(VLOOKUP(C11,テーブル8[],2,FALSE),\"\")","v":"超高圧セミナー\n（井上・川添・高市）"}]
[{"$f":"IFERROR(VLOOKUP(C12,祝日など!$A$2:$B$88,2,FALSE),\"\")&IFERROR(VLOOKUP(C12,祝日など!$D$2:$E$39,2,FALSE),\"\")","v":""},null,"2026-05-08",46150,{"$f":"IFERROR(VLOOKUP(C12,テーブル4[],2,0),\"\")","v":""},{"$f":"IFERROR(VLOOKUP(C12,テーブル5[],2,FALSE),\"\")","v":""},{"$f":"IFERROR(VLOOKUP(C12,テーブル83[],2,FALSE),\"\")","v":""},{"$f":"IFERROR(VLOOKUP(C12,テーブル6[],2,FALSE),\"\")","v":""},{"$f":"IFERROR(VLOOKUP(C12,テーブル7[],2,FALSE),\"\")","v":"須田"},{"$f":"IFERROR(VLOOKUP(C12,テーブル8[],2,FALSE),\"\")","v":""}]
[{"$f":"IFERROR(VLOOKUP(C13,祝日など!$A$2:$B$88,2,FALSE),\"\")&IFERROR(VLOOKUP(C13,祝日など!$D$2:$E$39,2,FALSE),\"\")","v":""},null,"2026-05-09",46151,{"$f":"IFERROR(VLOOKUP(C13,テーブル4[],2,0),\"\")","v":""},{"$f":"IFERROR(VLOOKUP(C13,テーブル5[],2,FALSE),\"\")","v":""},{"$f":"IFERROR(VLOOKUP(C13,テーブル83[],2,FALSE),\"\")","v":""},{"$f":"IFERROR(VLOOKUP(C13,テーブル6[],2,FALSE),\"\")","v":""},{"$f":"IFERROR(VLOOKUP(C13,テーブル7[],2,FALSE),\"\")","v":""},{"$f":"IFERROR(VLOOKUP(C13,テーブル8[],2,FALSE),\"\")","v":""}]
[{"$f":"IFERROR(VLOOKUP(C14,祝日など!$A$2:$B$88,2,FALSE),\"\")&IFERROR(VLOOKUP(C14,祝日など!$D$2:$E$39,2,FALSE),\"\")","v":""},null,"2026-05-10",46152,{"$f":"IFERROR(VLOOKUP(C14,テーブル4[],2,0),\"\")","v":""},{"$f":"IFERROR(VLOOKUP(C14,テーブル5[],2,FALSE),\"\")","v":""},{"$f":"IFERROR(VLOOKUP(C14,テーブル83[],2,FALSE),\"\")","v":""},{"$f":"IFERROR(VLOOKUP(C14,テーブル6[],2,FALSE),\"\")","v":""},{"$f":"IFERROR(VLOOKUP(C14,テーブル7[],2,FALSE),\"\")","v":""},{"$f":"IFERROR(VLOOKUP(C14,テーブル8[],2,FALSE),\"\")","v":""}]
[{"$f":"IFERROR(VLOOKUP(C15,祝日など!$A$2:$B$88,2,FALSE),\"\")&IFERROR(VLOOKUP(C15,祝日など!$D$2:$E$39,2,FALSE),\"\")","v":""},null,"2026-05-11",46153,{"$f":"IFERROR(VLOOKUP(C15,テーブル4[],2,0),\"\")","v":""},{"$f":"IFERROR(VLOOKUP(C15,テーブル5[],2,FALSE),\"\")","v":""},{"$f":"IFERROR(VLOOKUP(C15,テーブル83[],2,FALSE),\"\")","v":""},{"$f":"IFERROR(VLOOKUP(C15,テーブル6[],2,FALSE),\"\")","v":"変形微細組織セミナー\n（安東・DUTTA）"},{"$f":"IFERROR(VLOOKUP(C15,テーブル7[],2,FALSE),\"\")","v":""},{"$f":"IFERROR(VLOOKUP(C15,テーブル8[],2,FALSE),\"\")","v":"地球外物質系輪読会\n（小池）"}]
[{"$f":"IFERROR(VLOOKUP(C16,祝日など!$A$2:$B$88,2,FALSE),\"\")&IFERROR(VLOOKUP(C16,祝日など!$D$2:$E$39,2,FALSE),\"\")","v":""},null,"2026-05-12",46154,{"$f":"IFERROR(VLOOKUP(C16,テーブル4[],2,0),\"\")","v":""},{"$f":"IFERROR(VLOOKUP(C16,テーブル5[],2,FALSE),\"\")","v":""},{"$f":"IFERROR(VLOOKUP(C16,テーブル83[],2,FALSE),\"\")","v":""},{"$f":"IFERROR(VLOOKUP(C16,テーブル6[],2,FALSE),\"\")","v":"内物学生セミナー"},{"$f":"IFERROR(VLOOKUP(C16,テーブル7[],2,FALSE),\"\")","v":"結晶光学演習\n（川添）"},{"$f":"IFERROR(VLOOKUP(C16,テーブル8[],2,FALSE),\"\")","v":"超高圧セミナー\n（井上・川添・高市）"}]
[{"$f":"IFERROR(VLOOKUP(C17,祝日など!$A$2:$B$88,2,FALSE),\"\")&IFERROR(VLOOKUP(C17,祝日など!$D$2:$E$39,2,FALSE),\"\")","v":""},null,"2026-05-13",46155,{"$f":"IFERROR(VLOOKUP(C17,テーブル4[],2,0),\"\")","v":""},{"$f":"IFERROR(VLOOKUP(C17,テーブル5[],2,FALSE),\"\")","v":""},{"$f":"IFERROR(VLOOKUP(C17,テーブル83[],2,FALSE),\"\")","v":""},{"$f":"IFERROR(VLOOKUP(C17,テーブル6[],2,FALSE),\"\")","v":""},{"$f":"IFERROR(VLOOKUP(C17,テーブル7[],2,FALSE),\"\")","v":"結晶光学演習\n（川添）"},{"$f":"IFERROR(VLOOKUP(C17,テーブル8[],2,FALSE),\"\")","v":"地球外物質学生\nセミナー（小池）"}]
[{"$f":"IFERROR(VLOOKUP(C18,祝日など!$A$2:$B$88,2,FALSE),\"\")&IFERROR(VLOOKUP(C18,祝日など!$D$2:$E$39,2,FALSE),\"\")","v":""},null,"2026-05-14",46156,{"$f":"IFERROR(VLOOKUP(C18,テーブル4[],2,0),\"\")","v":""},{"$f":"IFERROR(VLOOKUP(C18,テーブル5[],2,FALSE),\"\")","v":""},{"$f":"IFERROR(VLOOKUP(C18,テーブル83[],2,FALSE),\"\")","v":""},{"$f":"IFERROR(VLOOKUP(C18,テーブル6[],2,FALSE),\"\")","v":""},{"$f":"IFERROR(VLOOKUP(C18,テーブル7[],2,FALSE),\"\")","v":""},{"$f":"IFERROR(VLOOKUP(C18,テーブル8[],2,FALSE),\"\")","v":""}]
[{"$f":"IFERROR(VLOOKUP(C19,祝日など!$A$2:$B$88,2,FALSE),\"\")&IFERROR(VLOOKUP(C19,祝日など!$D$2:$E$39,2,FALSE),\"\")","v":""},null,"2026-05-15",{"$f":"C19","v":46157},{"$f":"IFERROR(VLOOKUP(C19,テーブル4[],2,0),\"\")","v":""},{"$f":"IFERROR(VLOOKUP(C19,テーブル5[],2,FALSE),\"\")","v":""},{"$f":"IFERROR(VLOOKUP(C19,テーブル83[],2,FALSE),\"\")","v":""},{"$f":"IFERROR(VLOOKUP(C19,テーブル6[],2,FALSE),\"\")","v":"須田"},{"$f":"IFERROR(VLOOKUP(C19,テーブル7[],2,FALSE),\"\")","v":"須田"},{"$f":"IFERROR(VLOOKUP(C19,テーブル8[],2,FALSE),\"\")","v":""}]
[{"$f":"IFERROR(VLOOKUP(C20,祝日など!$A$2:$B$88,2,FALSE),\"\")&IFERROR(VLOOKUP(C20,祝日など!$D$2:$E$39,2,FALSE),\"\")","v":""},null,"2026-05-16",46158,{"$f":"IFERROR(VLOOKUP(C20,テーブル4[],2,0),\"\")","v":""},{"$f":"IFERROR(VLOOKUP(C20,テーブル5[],2,FALSE),\"\")","v":""},{"$f":"IFERROR(VLOOKUP(C20,テーブル83[],2,FALSE),\"\")","v":""},{"$f":"IFERROR(VLOOKUP(C20,テーブル6[],2,FALSE),\"\")","v":""},{"$f":"IFERROR(VLOOKUP(C20,テーブル7[],2,FALSE),\"\")","v":""},{"$f":"IFERROR(VLOOKUP(C20,テーブル8[],2,FALSE),\"\")","v":""}]
[{"$f":"IFERROR(VLOOKUP(C21,祝日など!$A$2:$B$88,2,FALSE),\"\")&IFERROR(VLOOKUP(C21,祝日など!$D$2:$E$39,2,FALSE),\"\")","v":""},null,"2026-05-17",46159,{"$f":"IFERROR(VLOOKUP(C21,テーブル4[],2,0),\"\")","v":""},{"$f":"IFERROR(VLOOKUP(C21,テーブル5[],2,FALSE),\"\")","v":""},{"$f":"IFERROR(VLOOKUP(C21,テーブル83[],2,FALSE),\"\")","v":""},{"$f":"IFERROR(VLOOKUP(C21,テーブル6[],2,FALSE),\"\")","v":""},{"$f":"IFERROR(VLOOKUP(C21,テーブル7[],2,FALSE),\"\")","v":""},{"$f":"IFERROR(VLOOKUP(C21,テーブル8[],2,FALSE),\"\")","v":""}]
[{"$f":"IFERROR(VLOOKUP(C22,祝日など!$A$2:$B$88,2,FALSE),\"\")&IFERROR(VLOOKUP(C22,祝日など!$D$2:$E$39,2,FALSE),\"\")","v":""},null,"2026-05-18",46160,{"$f":"IFERROR(VLOOKUP(C22,テーブル4[],2,0),\"\")","v":""},{"$f":"IFERROR(VLOOKUP(C22,テーブル5[],2,FALSE),\"\")","v":""},{"$f":"IFERROR(VLOOKUP(C22,テーブル83[],2,FALSE),\"\")","v":"DUTTA"},{"$f":"IFERROR(VLOOKUP(C22,テーブル6[],2,FALSE),\"\")","v":"変形微細組織セミナー\n（安東・DUTTA）"},{"$f":"IFERROR(VLOOKUP(C22,テーブル7[],2,FALSE),\"\")","v":""},{"$f":"IFERROR(VLOOKUP(C22,テーブル8[],2,FALSE),\"\")","v":"地球外物質系輪読会\n（小池）"}]
[{"$f":"IFERROR(VLOOKUP(C23,祝日など!$A$2:$B$88,2,FALSE),\"\")&IFERROR(VLOOKUP(C23,祝日など!$D$2:$E$39,2,FALSE),\"\")","v":""},null,{"$f":"C22+1","v":"2026-05-19"},46161,{"$f":"IFERROR(VLOOKUP(C23,テーブル4[],2,0),\"\")","v":""},{"$f":"IFERROR(VLOOKUP(C23,テーブル5[],2,FALSE),\"\")","v":""},{"$f":"IFERROR(VLOOKUP(C23,テーブル83[],2,FALSE),\"\")","v":""},{"$f":"IFERROR(VLOOKUP(C23,テーブル6[],2,FALSE),\"\")","v":"内物学生セミナー"},{"$f":"IFERROR(VLOOKUP(C23,テーブル7[],2,FALSE),\"\")","v":"結晶光学演習\n（川添）"},{"$f":"IFERROR(VLOOKUP(C23,テーブル8[],2,FALSE),\"\")","v":"超高圧セミナー\n（井上・川添・高市）"}]
[{"$f":"IFERROR(VLOOKUP(C24,祝日など!$A$2:$B$88,2,FALSE),\"\")&IFERROR(VLOOKUP(C24,祝日など!$D$2:$E$39,2,FALSE),\"\")","v":""},null,"2026-05-20",46162,{"$f":"IFERROR(VLOOKUP(C24,テーブル4[],2,0),\"\")","v":"DAS"},{"$f":"IFERROR(VLOOKUP(C24,テーブル5[],2,FALSE),\"\")","v":"DAS"},{"$f":"IFERROR(VLOOKUP(C24,テーブル83[],2,FALSE),\"\")","v":""},{"$f":"IFERROR(VLOOKUP(C24,テーブル6[],2,FALSE),\"\")","v":"14時～立石"},{"$f":"IFERROR(VLOOKUP(C24,テーブル7[],2,FALSE),\"\")","v":"結晶光学演習\n（川添）"},{"$f":"IFERROR(VLOOKUP(C24,テーブル8[],2,FALSE),\"\")","v":"地球外物質学生\nセミナー（小池）"}]
[{"$f":"IFERROR(VLOOKUP(C25,祝日など!$A$2:$B$88,2,FALSE),\"\")&IFERROR(VLOOKUP(C25,祝日など!$D$2:$E$39,2,FALSE),\"\")","v":""},null,"2026-05-21",46163,{"$f":"IFERROR(VLOOKUP(C25,テーブル4[],2,0),\"\")","v":""},{"$f":"IFERROR(VLOOKUP(C25,テーブル5[],2,FALSE),\"\")","v":""},{"$f":"IFERROR(VLOOKUP(C25,テーブル83[],2,FALSE),\"\")","v":""},{"$f":"IFERROR(VLOOKUP(C25,テーブル6[],2,FALSE),\"\")","v":""},{"$f":"IFERROR(VLOOKUP(C25,テーブル7[],2,FALSE),\"\")","v":""},{"$f":"IFERROR(VLOOKUP(C25,テーブル8[],2,FALSE),\"\")","v":"超高圧セミナー\n（井上・川添・高市）"}]
[{"$f":"IFERROR(VLOOKUP(C26,祝日など!$A$2:$B$88,2,FALSE),\"\")&IFERROR(VLOOKUP(C26,祝日など!$D$2:$E$39,2,FALSE),\"\")","v":""},null,"2026-05-22",46164,{"$f":"IFERROR(VLOOKUP(C26,テーブル4[],2,0),\"\")","v":""},{"$f":"IFERROR(VLOOKUP(C26,テーブル5[],2,FALSE),\"\")","v":""},{"$f":"IFERROR(VLOOKUP(C26,テーブル83[],2,FALSE),\"\")","v":""},{"$f":"IFERROR(VLOOKUP(C26,テーブル6[],2,FALSE),\"\")","v":""},{"$f":"IFERROR(VLOOKUP(C26,テーブル7[],2,FALSE),\"\")","v":""},{"$f":"IFERROR(VLOOKUP(C26,テーブル8[],2,FALSE),\"\")","v":""}]
[{"$f":"IFERROR(VLOOKUP(C27,祝日など!$A$2:$B$88,2,FALSE),\"\")&IFERROR(VLOOKUP(C27,祝日など!$D$2:$E$39,2,FALSE),\"\")","v":""},null,"2026-05-23",46165,{"$f":"IFERROR(VLOOKUP(C27,テーブル4[],2,0),\"\")","v":""},{"$f":"IFERROR(VLOOKUP(C27,テーブル5[],2,FALSE),\"\")","v":""},{"$f":"IFERROR(VLOOKUP(C27,テーブル83[],2,FALSE),\"\")","v":""},{"$f":"IFERROR(VLOOKUP(C27,テーブル6[],2,FALSE),\"\")","v":""},{"$f":"IFERROR(VLOOKUP(C27,テーブル7[],2,FALSE),\"\")","v":""},{"$f":"IFERROR(VLOOKUP(C27,テーブル8[],2,FALSE),\"\")","v":""}]
[{"$f":"IFERROR(VLOOKUP(C28,祝日など!$A$2:$B$88,2,FALSE),\"\")&IFERROR(VLOOKUP(C28,祝日など!$D$2:$E$39,2,FALSE),\"\")","v":""},null,"2026-05-24",46166,{"$f":"IFERROR(VLOOKUP(C28,テーブル4[],2,0),\"\")","v":""},{"$f":"IFERROR(VLOOKUP(C28,テーブル5[],2,FALSE),\"\")","v":""},{"$f":"IFERROR(VLOOKUP(C28,テーブル83[],2,FALSE),\"\")","v":""},{"$f":"IFERROR(VLOOKUP(C28,テーブル6[],2,FALSE),\"\")","v":""},{"$f":"IFERROR(VLOOKUP(C28,テーブル7[],2,FALSE),\"\")","v":""},{"$f":"IFERROR(VLOOKUP(C28,テーブル8[],2,FALSE),\"\")","v":""}]
[{"$f":"IFERROR(VLOOKUP(C29,祝日など!$A$2:$B$88,2,FALSE),\"\")&IFERROR(VLOOKUP(C29,祝日など!$D$2:$E$39,2,FALSE),\"\")","v":""},null,"2026-05-25",46167,{"$f":"IFERROR(VLOOKUP(C29,テーブル4[],2,0),\"\")","v":""},{"$f":"IFERROR(VLOOKUP(C29,テーブル5[],2,FALSE),\"\")","v":""},{"$f":"IFERROR(VLOOKUP(C29,テーブル83[],2,FALSE),\"\")","v":""},{"$f":"IFERROR(VLOOKUP(C29,テーブル6[],2,FALSE),\"\")","v":"変形微細組織セミナー\n（安東・DUTTA）"},{"$f":"IFERROR(VLOOKUP(C29,テーブル7[],2,FALSE),\"\")","v":""},{"$f":"IFERROR(VLOOKUP(C29,テーブル8[],2,FALSE),\"\")","v":"地球外物質系輪読会\n（小池）"}]
[{"$f":"IFERROR(VLOOKUP(C30,祝日など!$A$2:$B$88,2,FALSE),\"\")&IFERROR(VLOOKUP(C30,祝日など!$D$2:$E$39,2,FALSE),\"\")","v":""},null,"2026-05-26",{"$f":"C30","v":46168},{"$f":"IFERROR(VLOOKUP(C30,テーブル4[],2,0),\"\")","v":""},{"$f":"IFERROR(VLOOKUP(C30,テーブル5[],2,FALSE),\"\")","v":""},{"$f":"IFERROR(VLOOKUP(C30,テーブル83[],2,FALSE),\"\")","v":""},{"$f":"IFERROR(VLOOKUP(C30,テーブル6[],2,FALSE),\"\")","v":"内物学生セミナー"},{"$f":"IFERROR(VLOOKUP(C30,テーブル7[],2,FALSE),\"\")","v":"結晶光学演習\n（川添）"},{"$f":"IFERROR(VLOOKUP(C30,テーブル8[],2,FALSE),\"\")","v":"超高圧セミナー\n（井上・川添・高市）"}]
[{"$f":"IFERROR(VLOOKUP(C31,祝日など!$A$2:$B$88,2,FALSE),\"\")&IFERROR(VLOOKUP(C31,祝日など!$D$2:$E$39,2,FALSE),\"\")","v":""},null,"2026-05-27",46169,{"$f":"IFERROR(VLOOKUP(C31,テーブル4[],2,0),\"\")","v":""},{"$f":"IFERROR(VLOOKUP(C31,テーブル5[],2,FALSE),\"\")","v":""},{"$f":"IFERROR(VLOOKUP(C31,テーブル83[],2,FALSE),\"\")","v":""},{"$f":"IFERROR(VLOOKUP(C31,テーブル6[],2,FALSE),\"\")","v":""},{"$f":"IFERROR(VLOOKUP(C31,テーブル7[],2,FALSE),\"\")","v":"結晶光学演習\n（川添）"},{"$f":"IFERROR(VLOOKUP(C31,テーブル8[],2,FALSE),\"\")","v":""}]
[{"$f":"IFERROR(VLOOKUP(C32,祝日など!$A$2:$B$88,2,FALSE),\"\")&IFERROR(VLOOKUP(C32,祝日など!$D$2:$E$39,2,FALSE),\"\")","v":""},null,{"$f":"C31+1","v":"2026-05-28"},46170,{"$f":"IFERROR(VLOOKUP(C32,テーブル4[],2,0),\"\")","v":""},{"$f":"IFERROR(VLOOKUP(C32,テーブル5[],2,FALSE),\"\")","v":""},{"$f":"IFERROR(VLOOKUP(C32,テーブル83[],2,FALSE),\"\")","v":""},{"$f":"IFERROR(VLOOKUP(C32,テーブル6[],2,FALSE),\"\")","v":""},{"$f":"IFERROR(VLOOKUP(C32,テーブル7[],2,FALSE),\"\")","v":""},{"$f":"IFERROR(VLOOKUP(C32,テーブル8[],2,FALSE),\"\")","v":""}]
[{"$f":"IFERROR(VLOOKUP(C33,祝日など!$A$2:$B$88,2,FALSE),\"\")&IFERROR(VLOOKUP(C33,祝日など!$D$2:$E$39,2,FALSE),\"\")","v":""},null,{"$f":"IF(C32=\"\",\"\",IF(DAY(C32+1)=1,\"\",C32+1))","v":"2026-05-29"},46171,{"$f":"IFERROR(VLOOKUP(C33,テーブル4[],2,0),\"\")","v":""},{"$f":"IFERROR(VLOOKUP(C33,テーブル5[],2,FALSE),\"\")","v":""},{"$f":"IFERROR(VLOOKUP(C33,テーブル83[],2,FALSE),\"\")","v":""},{"$f":"IFERROR(VLOOKUP(C33,テーブル6[],2,FALSE),\"\")","v":""},{"$f":"IFERROR(VLOOKUP(C33,テーブル7[],2,FALSE),\"\")","v":""},{"$f":"IFERROR(VLOOKUP(C33,テーブル8[],2,FALSE),\"\")","v":""}]
[{"$f":"IFERROR(VLOOKUP(C34,祝日など!$A$2:$B$88,2,FALSE),\"\")&IFERROR(VLOOKUP(C34,祝日など!$D$2:$E$39,2,FALSE),\"\")","v":""},null,{"$f":"IF(C33=\"\",\"\",IF(DAY(C33+1)=1,\"\",C33+1))","v":"2026-05-30"},46172,{"$f":"IFERROR(VLOOKUP(C34,テーブル4[],2,0),\"\")","v":""},{"$f":"IFERROR(VLOOKUP(C34,テーブル5[],2,FALSE),\"\")","v":""},{"$f":"IFERROR(VLOOKUP(C34,テーブル83[],2,FALSE),\"\")","v":""},{"$f":"IFERROR(VLOOKUP(C34,テーブル6[],2,FALSE),\"\")","v":""},{"$f":"IFERROR(VLOOKUP(C34,テーブル7[],2,FALSE),\"\")","v":""},{"$f":"IFERROR(VLOOKUP(C34,テーブル8[],2,FALSE),\"\")","v":""}]
[{"$f":"IFERROR(VLOOKUP(C35,祝日など!$A$2:$B$88,2,FALSE),\"\")&IFERROR(VLOOKUP(C35,祝日など!$D$2:$E$39,2,FALSE),\"\")","v":""},null,"2026-05-31",46173,{"$f":"IFERROR(VLOOKUP(C35,テーブル4[],2,0),\"\")","v":""},{"$f":"IFERROR(VLOOKUP(C35,テーブル5[],2,FALSE),\"\")","v":""},{"$f":"IFERROR(VLOOKUP(C35,テーブル83[],2,FALSE),\"\")","v":""},{"$f":"IFERROR(VLOOKUP(C35,テーブル6[],2,FALSE),\"\")","v":""},{"$f":"IFERROR(VLOOKUP(C35,テーブル7[],2,FALSE),\"\")","v":""},{"$f":"IFERROR(VLOOKUP(C35,テーブル8[],2,FALSE),\"\")","v":""}]

{"sheet":"祝日など","index":1,"n_rows":88,"n_cols":5,"rows_kept":88,"cut":false,"hidden":false,"merged":[]}
["祝日の日付","名称",null,"授業関係日付","授業関係"]
["2025-01-01","元日",null,"2025-04-03","入学式"]
["2025-01-02","休日",null,"2025-04-08","第1ターム開始"]
["2025-01-03","休日",null,"2025-05-01","振替授業(火)"]
["2025-01-13","成人の日",null,"2025-05-07","振替授業(月)"]
["2025-02-11","建国記念の日",null,"2025-06-06","第2ターム開始"]
["2025-02-23","天皇誕生日",null,"2025-07-18","振替授業(月)"]
["2025-02-24","振替休日",null,"2025-08-04","夏季休暇開始"]
["2025-03-20","春分の日",null,"2025-09-19","秋季\n学位記授与式"]
["2025-04-29","昭和の日",null,"2025-10-01","秋季入学式"]
["2025-05-03","憲法記念日",null,"2025-10-02","第3ターム開始"]
["2025-05-04","みどりの日",null,"2025-10-16","振替授業(月)"]
["2025-05-05","こどもの日",null,"2025-11-07","振替授業(月)"]
["2025-05-06","振替休日",null,"2025-12-02","第4ターム開始"]
["2025-07-21","海の日",null,"2025-12-25","振替授業(金)"]
["2025-08-11","山の日",null,"2026-01-06","振替授業(月)"]
["2025-08-12","夏季休業",null,"2026-01-14","振替授業(月)"]
["2025-08-13","夏季休業",null,"2026-01-17","大学入学\n共通テスト"]
["2025-08-14","夏季休業",null,"2026-01-18","大学入学\n共通テスト"]
["2025-08-15","夏季休業",null,"2026-02-09","春季休暇開始"]
["2025-09-15","敬老の日",null,"2026-03-23","学位記授与式"]
["2025-09-23","秋分の日",null,"2026-04-03","入学式"]
["2025-10-13","スポーツの日",null,"2026-04-08","第1ターム開始"]
["2025-11-03","文化の日",null,"2026-05-01","振替授業(水)"]
["2025-11-23","勤労感謝の日",null,"2026-05-07","振替授業(火)"]
["2025-11-24","振替休日",null,"2026-06-09","第2ターム開始"]
["2025-12-29","冬季休業",null,"2026-07-14","振替授業(月)"]
["2025-12-30","冬季休業",null,"2026-08-05","夏季休暇開始"]
["2025-12-31","冬季休業",null,"2026-09-18","秋季\n学位記授与式"]
["2026-01-01","元日",null,"2026-10-01","秋季入学式"]
["2026-01-02","休日",null,"2026-10-02","第3ターム開始"]
["2026-01-03","休日",null,"2026-10-16","振替授業(月)"]
["2026-01-12","成人の日",null,"2026-12-02","第4ターム開始"]
["2026-02-11","建国記念の日",null,"2027-01-06","振替授業(火)"]
["2026-02-23","天皇誕生日",null,"2027-01-14","振替授業(月)"]
["2026-03-20","春分の日",null,"2027-01-16","大学入学\n共通テスト"]
["2026-04-29","昭和の日",null,"2027-01-17","大学入学\n共通テスト"]
["2026-05-03","憲法記念日",null,"2027-02-09","春季休暇開始"]
["2026-05-04","みどりの日",null,"2027-03-23","学位記授与式"]
["2026-05-05","こどもの日"]
["2026-05-06","振替休日"]
["2026-07-20","海の日"]
["2026-08-11","山の日"]
["2026-08-12","夏季休業"]
["2026-08-13","夏季休業"]
["2026-08-14","夏季休業"]
["2026-09-21","敬老の日"]
["2026-09-22","振替休日"]
["2026-09-23","秋分の日"]
["2026-10-12","スポーツの日"]
["2026-11-03","文化の日"]
["2026-11-23","勤労感謝の日"]
["2026-12-29","冬季休業"]
["2026-12-30","冬季休業"]
["2026-12-31","冬季休業"]
["2027-01-01","元日"]
["2027-01-11","成人の日"]
["2027-02-11","建国記念の日"]
["2027-02-23","天皇誕生日"]
["2027-03-21","春分の日"]
["2027-03-22","振替休日"]
["2027-04-29","昭和の日"]
["2027-05-03","憲法記念日"]
["2027-05-04","みどりの日"]
["2027-05-05","こどもの日"]
["2027-07-19","海の日"]
["2027-08-11","山の日"]
["2027-09-20","敬老の日"]
["2027-09-23","秋分の日"]
["2027-10-11","スポーツの日"]
["2027-11-03","文化の日"]
["2027-11-23","勤労感謝の日"]
["2028-01-01","元日"]
["2028-01-10","成人の日"]
["2028-02-11","建国記念の日"]
["2028-02-23","天皇誕生日"]
["2028-03-20","春分の日"]
["2028-04-29","昭和の日"]
["2028-05-03","憲法記念日"]
["2028-05-04","みどりの日"]
["2028-05-05","こどもの日"]
["2028-07-17","海の日"]
["2028-08-11","山の日"]
["2028-09-18","敬老の日"]
["2028-09-22","秋分の日"]
["2028-10-09","スポーツの日"]
["2028-11-03","文化の日"]
["2028-11-23","勤労感謝の日"]

{"sheet":"9-10時限","index":2,"n_rows":78,"n_cols":2,"rows_kept":78,"cut":false,"hidden":false,"merged":[]}
["日付","9-10時限"]
["2025-04-08","超高圧セミナー\n（井上・川添・高市）"]
["2025-04-15","超高圧セミナー\n（井上・川添・高市）"]
["2025-04-22","超高圧セミナー\n（井上・川添・高市）"]
["2025-05-01","超高圧セミナー\n（井上・川添・高市）"]
["2025-05-13","超高圧セミナー\n（井上・川添・高市）"]
["2025-05-20","超高圧セミナー\n（井上・川添・高市）"]
["2025-05-27","超高圧セミナー\n（井上・川添・高市）"]
["2025-06-03","超高圧セミナー\n（井上・川添・高市）"]
["2025-07-01","超高圧セミナー\n（井上・川添・高市）"]
["2025-07-05","地学実験A"]
["2025-07-14","企業説明会・三菱ガス化学㈱\n15：00-17：00（秋澤）"]
["2025-08-08","←　DAS　→"]
["2025-08-31","全学停電（8：30～18：00）"]
["2025-09-01","薮田セミナー"]
["2025-10-07","超高圧セミナー\n（井上・川添・高市）"]
["2025-10-14","超高圧セミナー\n（井上・川添・高市）"]
["2025-10-21","超高圧セミナー\n（井上・川添・高市）"]
["2025-10-28","超高圧セミナー\n（井上・川添・高市）"]
["2025-11-04","超高圧セミナー\n（井上・川添・高市）"]
["2025-11-11","超高圧セミナー\n（井上・川添・高市）"]
["2025-11-18","超高圧セミナー\n（井上・川添・高市）"]
["2025-11-25","超高圧セミナー\n（井上・川添・高市）"]
["2025-12-02","超高圧セミナー\n（井上・川添・高市）"]
["2025-12-20","改修用停電"]
["2025-12-21","改修用停電"]
["2026-01-30","教員会"]
["2026-02-21","改修用停電"]
["2026-02-22","改修用停電"]
["2026-03-05","顕微鏡点検"]
["2026-03-12","後期試験"]
["2026-04-06","地球外物質系輪読会\n（小池）"]
["2026-04-08","地球外物質学生\nセミナー（小池）"]
["2026-04-13","地球外物質系輪読会\n（小池）"]
["2026-04-14","超高圧セミナー\n（井上・川添・高市）"]
["2026-04-16","内物・超高圧セミナー"]
["2026-04-20","地球外物質系輪読会\n（小池）"]
["2026-04-21","超高圧セミナー\n（井上・川添・高市）"]
["2026-04-22","地球外物質学生\nセミナー（小池）"]
["2026-04-27","地球外物質系輪読会\n（小池）"]
["2026-04-28","超高圧セミナー\n（井上・川添・高市）"]
["2026-04-30","薮田"]
["2026-05-07","超高圧セミナー\n（井上・川添・高市）"]
["2026-05-11","地球外物質系輪読会\n（小池）"]
["2026-05-12","超高圧セミナー\n（井上・川添・高市）"]
["2026-05-13","地球外物質学生\nセミナー（小池）"]
["2026-05-18","地球外物質系輪読会\n（小池）"]
["2026-05-19","超高圧セミナー\n（井上・川添・高市）"]
["2026-05-20","地球外物質学生\nセミナー（小池）"]
["2026-05-21","超高圧セミナー\n（井上・川添・高市）"]
["2026-05-25","地球外物質系輪読会\n（小池）"]
["2026-05-26","超高圧セミナー\n（井上・川添・高市）"]
["2026-06-01","地球外物質系輪読会\n（小池）"]
["2026-06-02","超高圧セミナー\n（井上・川添・高市）"]
["2026-06-08","地球外物質系輪読会\n（小池）"]
["2026-06-09","超高圧セミナー\n（井上・川添・高市）"]
["2026-06-10","地球外物質学生\nセミナー（小池）"]
["2026-06-15","地球外物質系輪読会\n（小池）"]
["2026-06-16","超高圧セミナー\n（井上・川添・高市）"]
["2026-06-22","地球外物質系輪読会\n（小池）"]
["2026-06-23","超高圧セミナー\n（井上・川添・高市）"]
["2026-06-24","地球外物質学生\nセミナー（小池）"]
["2026-06-29","地球外物質系輪読会\n（小池）"]
["2026-06-30","超高圧セミナー\n（井上・川添・高市）"]
["2026-07-04","地学実験A"]
["2026-07-06","地球外物質系輪読会\n（小池）"]
["2026-07-07","超高圧セミナー\n（井上・川添・高市）"]
["2026-07-08","地球外物質学生\nセミナー（小池）"]
["2026-07-13","地球外物質系輪読会\n（小池）"]
["2026-07-14","地球外物質系輪読会\n（小池）"]
["2026-07-21","超高圧セミナー\n（井上・川添・高市）"]
["2026-07-22","地球外物質学生\nセミナー（小池）"]
["2026-07-27","地球外物質系輪読会\n（小池）"]
["2026-07-28","超高圧セミナー\n（井上・川添・高市）"]
["2026-08-03","地球外物質系輪読会\n（小池）"]
["2026-08-04","超高圧セミナー\n（井上・川添・高市）"]
["2026-08-30","停電"]
["2027-03-12","後期試験"]

{"sheet":"7-8時限","index":3,"n_rows":106,"n_cols":2,"rows_kept":106,"cut":false,"hidden":false,"merged":[]}
["日付","7-8時限"]
["2025-04-08","結晶光学演習\n（片山）"]
["2025-04-09","結晶光学演習\n（片山）"]
["2025-04-15","結晶光学演習\n（片山）"]
["2025-04-16","結晶光学演習\n（片山）"]
["2025-04-22","結晶光学演習\n（片山）"]
["2025-04-23","結晶光学演習\n（片山）"]
["2025-04-30","結晶光学演習\n（片山）"]
["2025-05-01","結晶光学演習\n（片山）"]
["2025-05-13","結晶光学演習\n（片山）"]
["2025-05-14","結晶光学演習\n（片山）"]
["2025-05-20","結晶光学演習\n（片山）"]
["2025-05-21","結晶光学演習\n（片山）"]
["2025-05-27","結晶光学演習\n（片山）"]
["2025-05-28","結晶光学演習\n（片山）"]
["2025-06-03","結晶光学演習\n（片山）"]
["2025-06-04","結晶光学演習\n（片山）"]
["2025-06-10","超高圧セミナー\n（井上・川添・高市）"]
["2025-06-12","岩石変形学Ⅰ\n（片山）"]
["2025-06-17","超高圧セミナー\n（井上・川添・高市）"]
["2025-06-19","岩石変形学Ⅰ\n（片山）"]
["2025-06-24","超高圧セミナー\n（井上・川添・高市）"]
["2025-06-26","岩石変形学Ⅰ\n（片山）"]
["2025-07-01","超高圧セミナー\n（井上・川添・高市）"]
["2025-07-03","岩石変形学Ⅰ\n（片山）"]
["2025-07-05","地学実験A"]
["2025-07-08","超高圧セミナー\n（井上・川添・高市）"]
["2025-07-10","岩石変形学Ⅰ\n（片山）"]
["2025-07-14","企業説明会・三菱ガス化学㈱\n15：00-17：00（秋澤）"]
["2025-07-15","超高圧セミナー\n（井上・川添・高市）"]
["2025-07-17","岩石変形学Ⅰ\n（片山）"]
["2025-07-22","超高圧セミナー\n（井上・川添・高市）"]
["2025-07-24","岩石変形学Ⅰ\n（片山）"]
["2025-07-25","岩石変形学Ⅰ\n（片山）"]
["2025-07-29","超高圧セミナー\n（井上・川添・高市）"]
["2025-07-31","岩石変形学Ⅰ\n（片山）"]
["2025-08-08","←　DAS　→"]
["2025-08-31","全学停電（8：30～18：00）"]
["2025-09-01","薮田セミナー"]
["2025-09-04","超高圧グループ"]
["2025-10-02","岡﨑セミナー"]
["2025-12-02","岩石学演習（岡崎）"]
["2025-12-08","超高圧セミナー\n（井上・川添・高市）"]
["2025-12-09","岩石学演習（岡崎）"]
["2025-12-15","超高圧セミナー\n（井上・川添・高市）"]
["2025-12-16","岩石学演習（岡崎）"]
["2025-12-20","改修用停電"]
["2025-12-21","改修用停電"]
["2025-12-22","超高圧セミナー\n（井上・川添・高市）"]
["2025-12-23","岩石学演習（岡崎）"]
["2026-01-06","超高圧セミナー\n（井上・川添・高市）"]
["2026-01-13","岩石学演習（岡崎）"]
["2026-01-14","超高圧セミナー\n（井上・川添・高市）"]
["2026-01-19","超高圧セミナー\n（井上・川添・高市）"]
["2026-01-20","岩石学演習（岡崎）"]
["2026-01-26","超高圧セミナー\n（井上・川添・高市）"]
["2026-01-27","岩石学演習（岡崎）"]
["2026-01-30","教員会"]
["2026-02-02","超高圧セミナー\n（井上・川添・高市）"]
["2026-02-03","岩石学演習（岡崎）"]
["2026-02-09","超高圧セミナー\n（井上・川添・高市）"]
["2026-02-21","改修用停電"]
["2026-02-22","改修用停電"]
["2026-03-05","顕微鏡点検"]
["2026-03-12","後期試験"]
["2026-04-08","結晶光学演習\n（川添）"]
["2026-04-14","結晶光学演習\n（川添）"]
["2026-04-15","結晶光学演習\n（川添）"]
["2026-04-16","14：55-15：55　清原"]
["2026-04-17","15：00-16：00　中川"]
["2026-04-21","結晶光学演習\n（川添）"]
["2026-04-22","結晶光学演習\n（川添）"]
["2026-04-23"]
["2026-04-24","14：45-15：15　清原\n15：30-16：10　森下"]
["2026-04-28","結晶光学演習\n（川添）"]
["2026-05-01","結晶光学演習\n（川添）"]
["2026-05-07","結晶光学演習\n（川添）"]
["2026-05-08","須田"]
["2026-05-12","結晶光学演習\n（川添）"]
["2026-05-13","結晶光学演習\n（川添）"]
["2026-05-15","須田"]
["2026-05-19","結晶光学演習\n（川添）"]
["2026-05-20","結晶光学演習\n（川添）"]
["2026-05-26","結晶光学演習\n（川添）"]
["2026-05-27","結晶光学演習\n（川添）"]
["2026-06-02","結晶光学演習\n（川添）"]
["2026-06-03","結晶光学演習\n（川添）"]
["2026-06-09","地球内部物質学（井上）"]
["2026-06-10","地球ダイナミクス（安東）"]
["2026-06-16","地球内部物質学（井上）"]
["2026-06-17","地球ダイナミクス（安東）"]
["2026-06-23","地球内部物質学（井上）"]
["2026-06-24","地球ダイナミクス（安東）"]
["2026-06-30","地球内部物質学（井上）"]
["2026-07-01","地球ダイナミクス（安東）"]
["2026-07-04","地学実験A"]
["2026-07-07","地球内部物質学（井上）"]
["2026-07-08","地球ダイナミクス（安東）"]
["2026-07-15","地球ダイナミクス（安東）"]
["2026-07-21","地球内部物質学（井上）"]
["2026-07-22","地球ダイナミクス（安東）"]
["2026-07-28","地球内部物質学（井上）"]
["2026-07-29","地球ダイナミクス（安東）"]
["2026-08-04","地球内部物質学（井上）"]
["2026-08-30","停電"]
["2027-03-12","後期試験"]

{"sheet":"5-6時限","index":4,"n_rows":96,"n_cols":2,"rows_kept":96,"cut":false,"hidden":false,"merged":[]}
["日付","5-6時限"]
["2025-04-14","地球惑星物質学セミナー\n（安東・DAS・大川）"]
["2025-04-21","地球惑星物質学セミナー\n（安東・DAS・大川）"]
["2025-04-28","地球惑星物質学セミナー\n（安東・DAS・大川）"]
["2025-05-07","地球惑星物質学セミナー\n（安東・DAS・大川）"]
["2025-05-12","地球惑星物質学セミナー\n（安東・DAS・大川）"]
["2025-05-19","地球惑星物質学セミナー\n（安東・DAS・大川）"]
["2025-05-26","地球惑星物質学セミナー\n（安東・DAS・大川）"]
["2025-06-02","地球惑星物質学セミナー\n（安東・DAS・大川）"]
["2025-06-09","地球惑星物質学セミナー\n（安東・DAS・大川）"]
["2025-06-16","地球惑星物質学セミナー\n（安東・DAS・大川）"]
["2025-06-23","地球惑星物質学セミナー\n（安東・DAS・大川）"]
["2025-06-30","地球惑星物質学セミナー\n（安東・DAS・大川）"]
["2025-07-05","地学実験A"]
["2025-07-07","地球惑星物質学セミナー\n（安東・DAS・大川）"]
["2025-07-14","地球惑星物質学セミナー\n（安東・DAS・大川）"]
["2025-07-18","地球惑星物質学セミナー\n（安東・DAS・大川）"]
["2025-07-28","地球惑星物質学セミナー\n（安東・DAS・大川）"]
["2025-08-31","全学停電（8：30～18：00）"]
["2025-09-03","←　DAS　→"]
["2025-09-04","超高圧グループ"]
["2025-10-02","岡﨑セミナー"]
["2025-10-08","地球惑星物質学セミナー\n(安東･DAS･大川･DUTTA)"]
["2025-10-15","地球惑星物質学セミナー\n(安東･DAS･大川･DUTTA)"]
["2025-10-22","地球惑星物質学セミナー\n(安東･DAS･大川･DUTTA)"]
["2025-10-29","地球惑星物質学セミナー\n(安東･DAS･大川･DUTTA)"]
["2025-11-05","地球惑星物質学セミナー\n(安東･DAS･大川･DUTTA)"]
["2025-11-12","地球惑星物質学セミナー\n(安東･DAS･大川･DUTTA)"]
["2025-11-19","地球惑星物質学セミナー\n(安東･DAS･大川･DUTTA)"]
["2025-11-26","地球惑星物質学セミナー\n(安東･DAS･大川･DUTTA)"]
["2025-12-02","岩石学演習（岡崎）"]
["2025-12-03","地球惑星物質学セミナー\n(安東･DAS･大川･DUTTA)"]
["2025-12-09","岩石学演習（岡崎）"]
["2025-12-10","地球惑星物質学セミナー\n(安東･DAS･大川･DUTTA)"]
["2025-12-16","岩石学演習（岡崎）"]
["2025-12-17","地球惑星物質学セミナー\n(安東･DAS･大川･DUTTA)"]
["2025-12-20","改修用停電"]
["2025-12-21","改修用停電"]
["2025-12-23","岩石学演習（岡崎）"]
["2025-12-24","地球惑星物質学セミナー\n(安東･DAS･大川･DUTTA)"]
["2026-01-07","地球惑星物質学セミナー\n(安東･DAS･大川･DUTTA)"]
["2026-01-13","岩石学演習（岡崎）"]
["2026-01-20","岩石学演習（岡崎）"]
["2026-01-21","地球惑星物質学セミナー\n(安東･DAS･大川･DUTTA)"]
["2026-01-27","岩石学演習（岡崎）"]
["2026-01-28","地球惑星物質学セミナー\n(安東･DAS･大川･DUTTA)"]
["2026-02-03","岩石学演習（岡崎）"]
["2026-02-04","地球惑星物質学セミナー\n(安東･DAS･大川･DUTTA)"]
["2026-02-09","超高圧セミナー\n（井上・川添・高市）"]
["2026-02-21","改修用停電"]
["2026-02-22","改修用停電"]
["2026-03-05","顕微鏡点検"]
["2026-03-12","後期試験"]
["2026-04-13","変形微細組織セミナー\n（安東・DUTTA）"]
["2026-04-16","岡﨑"]
["2026-04-20","変形微細組織セミナー\n（安東・DUTTA）"]
["2026-04-27","変形微細組織セミナー\n（安東・DUTTA）"]
["2026-04-28","内物学生セミナー"]
["2026-04-29","13：10-13：45　立石"]
["2026-05-11","変形微細組織セミナー\n（安東・DUTTA）"]
["2026-05-12","内物学生セミナー"]
["2026-05-15","須田"]
["2026-05-18","変形微細組織セミナー\n（安東・DUTTA）"]
["2026-05-19","内物学生セミナー"]
["2026-05-20","14時～立石"]
["2026-05-25","変形微細組織セミナー\n（安東・DUTTA）"]
["2026-05-26","内物学生セミナー"]
["2026-06-01","変形微細組織セミナー\n（安東・DUTTA）"]
["2026-06-08","変形微細組織セミナー\n（安東・DUTTA）"]
["2026-06-09","地球内部物質学（井上）"]
["2026-06-10","地球ダイナミクス（安東）"]
["2026-06-15","変形微細組織セミナー\n（安東・DUTTA）"]
["2026-06-16","地球内部物質学（井上）"]
["2026-06-17","地球ダイナミクス（安東）"]
["2026-06-22","変形微細組織セミナー\n（安東・DUTTA）"]
["2026-06-23","地球内部物質学（井上）"]
["2026-06-24","地球ダイナミクス（安東）"]
["2026-06-29","変形微細組織セミナー\n（安東・DUTTA）"]
["2026-06-30","地球内部物質学（井上）"]
["2026-07-01","地球ダイナミクス（安東）"]
["2026-07-04","地学実験A"]
["2026-07-06","変形微細組織セミナー\n（安東・DUTTA）"]
["2026-07-07","地球内部物質学（井上）"]
["2026-07-08","地球ダイナミクス（安東）"]
["2026-07-13","変形微細組織セミナー\n（安東・DUTTA）"]
["2026-07-14","変形微細組織セミナー\n（安東・DUTTA）"]
["2026-07-15","地球ダイナミクス（安東）"]
["2026-07-21","地球内部物質学（井上）"]
["2026-07-22","地球ダイナミクス（安東）"]
["2026-07-27","変形微細組織セミナー\n（安東・DUTTA）"]
["2026-07-28","地球内部物質学（井上）"]
["2026-07-29","地球ダイナミクス（安東）"]
["2026-08-03","変形微細組織セミナー\n（安東・DUTTA）"]
["2026-08-04","地球内部物質学（井上）"]
["2026-08-30","停電"]
["2027-03-12","後期試験"]

{"sheet":"昼休憩","index":5,"n_rows":15,"n_cols":2,"rows_kept":15,"cut":false,"hidden":false,"merged":[]}
["日付","昼休憩"]
["2025-07-12","安東"]
["2025-08-31","停電"]
["2025-09-03","DAS"]
["2025-12-20","停電"]
["2025-12-21","停電"]
["2026-02-21","停電"]
["2026-02-22","停電"]
["2026-03-05","点検"]
["2026-03-12","試験"]
["2026-04-16","岡﨑"]
["2026-05-18","DUTTA"]
["2026-07-04","地学\n実験A"]
["2026-08-30","停電"]
["2027-03-12","試験"]

{"sheet":"3-4時限","index":6,"n_rows":54,"n_cols":2,"rows_kept":54,"cut":false,"hidden":false,"merged":[]}
["日付","3-4時限"]
["2025-07-05","地学実験A"]
["2025-06-10","岩石変形学Ⅰ\n（片山）"]
["2025-06-17","岩石変形学Ⅰ\n（片山）"]
["2025-06-24","岩石変形学Ⅰ\n（片山）"]
["2025-07-05","地学実験A"]
["2025-07-08","岩石変形学Ⅰ\n（片山）"]
["2025-07-10","←　DAS　→"]
["2025-07-12","←　安東　→"]
["2025-07-15","岩石変形学Ⅰ\n（片山）"]
["2025-07-22","岩石変形学Ⅰ\n（片山）"]
["2025-07-29","岩石変形学Ⅰ\n（片山）"]
["2025-08-08","←　DAS　→"]
["2025-08-31","全学停電（8：30～18：00）"]
["2025-09-01","薮田研セミナー"]
["2025-09-03","←　DAS　→"]
["2025-10-02","地球史\n(DAS･白石･柴田･DUTTA 他)"]
["2025-10-07","PRDセミナー\n(安東・DAS･DUTTA)"]
["2025-10-09","地球史\n(DAS･白石･柴田･DUTTA 他)"]
["2025-10-14","PRDセミナー\n(安東・DAS･DUTTA)"]
["2025-10-21","PRDセミナー\n(安東・DAS･DUTTA)"]
["2025-10-23","地球史\n(DAS･白石･柴田･DUTTA 他)"]
["2025-10-24","薮田研セミナー"]
["2025-10-28","PRDセミナー\n(安東・DAS･DUTTA)"]
["2025-10-30","地球史\n(DAS･白石･柴田･DUTTA 他)"]
["2025-10-31","薮田研セミナー"]
["2025-11-04","PRDセミナー\n(安東・DAS･DUTTA)"]
["2025-11-06","地球史\n(DAS･白石･柴田･DUTTA 他)"]
["2025-11-11","PRDセミナー\n(安東・DAS･DUTTA)"]
["2025-11-13","地球史\n(DAS･白石･柴田･DUTTA 他)"]
["2025-11-18","PRDセミナー\n(安東・DAS･DUTTA)"]
["2025-11-20","地球史\n(DAS･白石･柴田･DUTTA 他)"]
["2025-11-25","PRDセミナー\n(安東・DAS･DUTTA)"]
["2025-11-27","地球史\n(DAS･白石･柴田･DUTTA 他)"]
["2025-12-02","PRDセミナー\n(安東・DAS･DUTTA)"]
["2025-12-09","PRDセミナー\n(安東・DAS･DUTTA)"]
["2025-12-16","PRDセミナー\n(安東・DAS･DUTTA)"]
["2025-12-20","改修用停電"]
["2025-12-21","改修用停電"]
["2025-12-23","PRDセミナー\n(安東・DAS･DUTTA)"]
["2026-01-13","PRDセミナー\n(安東・DAS･DUTTA)"]
["2026-01-16","地球外物質\n学生セミナー"]
["2026-01-20","PRDセミナー\n(安東・DAS･DUTTA)"]
["2026-01-27","PRDセミナー\n(安東・DAS･DUTTA)"]
["2026-02-03","PRDセミナー\n(安東・DAS･DUTTA)"]
["2026-02-21","改修用停電"]
["2026-02-22","改修用停電"]
["2026-03-05","顕微鏡点検"]
["2026-03-12","後期試験"]
["2026-04-16","11時-岡﨑"]
["2026-05-20","DAS"]
["2026-07-04","地学実験A"]
["2026-08-30","停電"]
["2027-03-12","後期試験"]

{"sheet":"1-2時限","index":7,"n_rows":25,"n_cols":2,"rows_kept":25,"cut":false,"hidden":false,"merged":[]}
["日付","1-2時限"]
["2025-07-05","地学実験A"]
["2025-08-08","←　DAS　→"]
["2025-08-31","全学停電（8：30～18：00）"]
["2025-10-02","地球史\n(DAS･白石･柴田･DUTTA 他)"]
["2025-10-09","地球史\n(DAS･白石･柴田･DUTTA 他)"]
["2025-10-23","地球史\n(DAS･白石･柴田･DUTTA 他)"]
["2025-10-24","薮田研セミナー"]
["2025-10-30","地球史\n(DAS･白石･柴田･DUTTA 他)"]
["2025-10-31","薮田研セミナー"]
["2025-11-06","地球史\n(DAS･白石･柴田･DUTTA 他)"]
["2025-11-13","地球史\n(DAS･白石･柴田･DUTTA 他)"]
["2025-11-20","地球史\n(DAS･白石･柴田･DUTTA 他)"]
["2025-11-27","地球史\n(DAS･白石･柴田･DUTTA 他)"]
["2025-12-20","改修用停電"]
["2025-12-21","改修用停電"]
["2026-01-16","薮田研セミナー"]
["2026-02-21","改修用停電"]
["2026-02-22","改修用停電"]
["2026-03-05","顕微鏡点検"]
["2026-03-12","後期試験"]
["2026-05-20","DAS"]
["2026-07-04","地学実験A"]
["2026-08-30","停電"]
["2027-03-12","後期試験"]

{"sheet":"セミナー","index":8,"n_rows":743,"n_cols":9,"rows_kept":743,"cut":false,"hidden":false,"merged":[]}
["日付","曜日","祝日など","1-2時限","3-4時限","昼休憩","5-6時限","7-8時限","9-10時限"]
["2025-04-01","(火)",{"$f":"IFERROR(VLOOKUP(A2,テーブル1[],2,FALSE),\"\")&IFERROR(VLOOKUP(A2,祝日など!$D$2:$E$20,2,FALSE),\"\")","v":""}]
["2025-04-02","(水)",{"$f":"IFERROR(VLOOKUP(A3,テーブル1[],2,FALSE),\"\")&IFERROR(VLOOKUP(A3,祝日など!$D$2:$E$20,2,FALSE),\"\")","v":""}]
["2025-04-03","(木)",{"$f":"IFERROR(VLOOKUP(A4,テーブル1[],2,FALSE),\"\")&IFERROR(VLOOKUP(A4,祝日など!$D$2:$E$20,2,FALSE),\"\")","v":"入学式"}]
["2025-04-04","(金)",{"$f":"IFERROR(VLOOKUP(A5,テーブル1[],2,FALSE),\"\")&IFERROR(VLOOKUP(A5,祝日など!$D$2:$E$20,2,FALSE),\"\")","v":""}]
["2025-04-05","(土)",{"$f":"IFERROR(VLOOKUP(A6,テーブル1[],2,FALSE),\"\")&IFERROR(VLOOKUP(A6,祝日など!$D$2:$E$20,2,FALSE),\"\")","v":""}]
["2025-04-06","(日)",{"$f":"IFERROR(VLOOKUP(A7,テーブル1[],2,FALSE),\"\")&IFERROR(VLOOKUP(A7,祝日など!$D$2:$E$20,2,FALSE),\"\")","v":""}]
["2025-04-07","(月)",{"$f":"IFERROR(VLOOKUP(A8,テーブル1[],2,FALSE),\"\")&IFERROR(VLOOKUP(A8,祝日など!$D$2:$E$20,2,FALSE),\"\")","v":""}]
["2025-04-08","(火)",{"$f":"IFERROR(VLOOKUP(A9,テーブル1[],2,FALSE),\"\")&IFERROR(VLOOKUP(A9,祝日など!$D$2:$E$20,2,FALSE),\"\")","v":"第1ターム開始"},null,null,null,null,"結晶光学演習\n（片山）","超高圧セミナー\n（井上・川添・高市）"]
["2025-04-09","(水)",{"$f":"IFERROR(VLOOKUP(A10,テーブル1[],2,FALSE),\"\")&IFERROR(VLOOKUP(A10,祝日など!$D$2:$E$20,2,FALSE),\"\")","v":""},null,null,null,null,"結晶光学演習\n（片山）"]
["2025-04-10","(木)",{"$f":"IFERROR(VLOOKUP(A11,テーブル1[],2,FALSE),\"\")&IFERROR(VLOOKUP(A11,祝日など!$D$2:$E$20,2,FALSE),\"\")","v":""}]
["2025-04-11","(金)",{"$f":"IFERROR(VLOOKUP(A12,テーブル1[],2,FALSE),\"\")&IFERROR(VLOOKUP(A12,祝日など!$D$2:$E$20,2,FALSE),\"\")","v":""}]
["2025-04-12","(土)",{"$f":"IFERROR(VLOOKUP(A13,テーブル1[],2,FALSE),\"\")&IFERROR(VLOOKUP(A13,祝日など!$D$2:$E$20,2,FALSE),\"\")","v":""}]
["2025-04-13","(日)",{"$f":"IFERROR(VLOOKUP(A14,テーブル1[],2,FALSE),\"\")&IFERROR(VLOOKUP(A14,祝日など!$D$2:$E$20,2,FALSE),\"\")","v":""}]
["2025-04-14","(月)",{"$f":"IFERROR(VLOOKUP(A15,テーブル1[],2,FALSE),\"\")&IFERROR(VLOOKUP(A15,祝日など!$D$2:$E$20,2,FALSE),\"\")","v":""},null,null,null,"地球惑星物質学セミナー\n（安東・DAS・大川）"]
["2025-04-15","(火)",{"$f":"IFERROR(VLOOKUP(A16,テーブル1[],2,FALSE),\"\")&IFERROR(VLOOKUP(A16,祝日など!$D$2:$E$20,2,FALSE),\"\")","v":""},null,null,null,null,"結晶光学演習\n（片山）","超高圧セミナー\n（井上・川添・高市）"]
["2025-04-16","(水)",{"$f":"IFERROR(VLOOKUP(A17,テーブル1[],2,FALSE),\"\")&IFERROR(VLOOKUP(A17,祝日など!$D$2:$E$20,2,FALSE),\"\")","v":""},null,null,null,null,"結晶光学演習\n（片山）"]
["2025-04-17","(木)",{"$f":"IFERROR(VLOOKUP(A18,テーブル1[],2,FALSE),\"\")&IFERROR(VLOOKUP(A18,祝日など!$D$2:$E$20,2,FALSE),\"\")","v":""}]
["2025-04-18","(金)",{"$f":"IFERROR(VLOOKUP(A19,テーブル1[],2,FALSE),\"\")&IFERROR(VLOOKUP(A19,祝日など!$D$2:$E$20,2,FALSE),\"\")","v":""}]
["2025-04-19","(土)",{"$f":"IFERROR(VLOOKUP(A20,テーブル1[],2,FALSE),\"\")&IFERROR(VLOOKUP(A20,祝日など!$D$2:$E$20,2,FALSE),\"\")","v":""}]
["2025-04-20","(日)",{"$f":"IFERROR(VLOOKUP(A21,テーブル1[],2,FALSE),\"\")&IFERROR(VLOOKUP(A21,祝日など!$D$2:$E$20,2,FALSE),\"\")","v":""}]
["2025-04-21","(月)",{"$f":"IFERROR(VLOOKUP(A22,テーブル1[],2,FALSE),\"\")&IFERROR(VLOOKUP(A22,祝日など!$D$2:$E$20,2,FALSE),\"\")","v":""},null,null,null,"地球惑星物質学セミナー\n（安東・DAS・大川）"]
["2025-04-22","(火)",{"$f":"IFERROR(VLOOKUP(A23,テーブル1[],2,FALSE),\"\")&IFERROR(VLOOKUP(A23,祝日など!$D$2:$E$20,2,FALSE),\"\")","v":""},null,null,null,null,"結晶光学演習\n（片山）","超高圧セミナー\n（井上・川添・高市）"]
["2025-04-23","(水)",{"$f":"IFERROR(VLOOKUP(A24,テーブル1[],2,FALSE),\"\")&IFERROR(VLOOKUP(A24,祝日など!$D$2:$E$20,2,FALSE),\"\")","v":""},null,null,null,null,"結晶光学演習\n（片山）"]
["2025-04-24","(木)",{"$f":"IFERROR(VLOOKUP(A25,テーブル1[],2,FALSE),\"\")&IFERROR(VLOOKUP(A25,祝日など!$D$2:$E$20,2,FALSE),\"\")","v":""}]
["2025-04-25","(金)",{"$f":"IFERROR(VLOOKUP(A26,テーブル1[],2,FALSE),\"\")&IFERROR(VLOOKUP(A26,祝日など!$D$2:$E$20,2,FALSE),\"\")","v":""}]
["2025-04-26","(土)",{"$f":"IFERROR(VLOOKUP(A27,テーブル1[],2,FALSE),\"\")&IFERROR(VLOOKUP(A27,祝日など!$D$2:$E$20,2,FALSE),\"\")","v":""}]
["2025-04-27","(日)",{"$f":"IFERROR(VLOOKUP(A28,テーブル1[],2,FALSE),\"\")&IFERROR(VLOOKUP(A28,祝日など!$D$2:$E$20,2,FALSE),\"\")","v":""}]
["2025-04-28","(月)",{"$f":"IFERROR(VLOOKUP(A29,テーブル1[],2,FALSE),\"\")&IFERROR(VLOOKUP(A29,祝日など!$D$2:$E$20,2,FALSE),\"\")","v":""},null,null,null,"地球惑星物質学セミナー\n（安東・DAS・大川）"]
["2025-04-29","(火)",{"$f":"IFERROR(VLOOKUP(A30,テーブル1[],2,FALSE),\"\")&IFERROR(VLOOKUP(A30,祝日など!$D$2:$E$20,2,FALSE),\"\")","v":"昭和の日"}]
["2025-04-30","(水)",{"$f":"IFERROR(VLOOKUP(A31,テーブル1[],2,FALSE),\"\")&IFERROR(VLOOKUP(A31,祝日など!$D$2:$E$20,2,FALSE),\"\")","v":""},null,null,null,null,"結晶光学演習\n（片山）"]
["2025-05-01","(木)",{"$f":"IFERROR(VLOOKUP(A32,テーブル1[],2,FALSE),\"\")&IFERROR(VLOOKUP(A32,祝日など!$D$2:$E$20,2,FALSE),\"\")","v":"振替授業(火)"},null,null,null,null,"結晶光学演習\n（片山）","超高圧セミナー\n（井上・川添・高市）"]
["2025-05-02","(金)",{"$f":"IFERROR(VLOOKUP(A33,テーブル1[],2,FALSE),\"\")&IFERROR(VLOOKUP(A33,祝日など!$D$2:$E$20,2,FALSE),\"\")","v":""}]
["2025-05-03","(土)",{"$f":"IFERROR(VLOOKUP(A34,テーブル1[],2,FALSE),\"\")&IFERROR(VLOOKUP(A34,祝日など!$D$2:$E$20,2,FALSE),\"\")","v":"憲法記念日"}]
["2025-05-04","(日)",{"$f":"IFERROR(VLOOKUP(A35,テーブル1[],2,FALSE),\"\")&IFERROR(VLOOKUP(A35,祝日など!$D$2:$E$20,2,FALSE),\"\")","v":"みどりの日"}]
["2025-05-05","(月)",{"$f":"IFERROR(VLOOKUP(A36,テーブル1[],2,FALSE),\"\")&IFERROR(VLOOKUP(A36,祝日など!$D$2:$E$20,2,FALSE),\"\")","v":"こどもの日"}]
["2025-05-06","(火)",{"$f":"IFERROR(VLOOKUP(A37,テーブル1[],2,FALSE),\"\")&IFERROR(VLOOKUP(A37,祝日など!$D$2:$E$20,2,FALSE),\"\")","v":"振替休日"}]
["2025-05-07","(水)",{"$f":"IFERROR(VLOOKUP(A38,テーブル1[],2,FALSE),\"\")&IFERROR(VLOOKUP(A38,祝日など!$D$2:$E$20,2,FALSE),\"\")","v":"振替授業(月)"},null,null,null,"地球惑星物質学セミナー\n（安東・DAS・大川）"]
["2025-05-08","(木)",{"$f":"IFERROR(VLOOKUP(A39,テーブル1[],2,FALSE),\"\")&IFERROR(VLOOKUP(A39,祝日など!$D$2:$E$20,2,FALSE),\"\")","v":""}]
["2025-05-09","(金)",{"$f":"IFERROR(VLOOKUP(A40,テーブル1[],2,FALSE),\"\")&IFERROR(VLOOKUP(A40,祝日など!$D$2:$E$20,2,FALSE),\"\")","v":""}]
["2025-05-10","(土)",{"$f":"IFERROR(VLOOKUP(A41,テーブル1[],2,FALSE),\"\")&IFERROR(VLOOKUP(A41,祝日など!$D$2:$E$20,2,FALSE),\"\")","v":""}]
["2025-05-11","(日)",{"$f":"IFERROR(VLOOKUP(A42,テーブル1[],2,FALSE),\"\")&IFERROR(VLOOKUP(A42,祝日など!$D$2:$E$20,2,FALSE),\"\")","v":""}]
["2025-05-12","(月)",{"$f":"IFERROR(VLOOKUP(A43,テーブル1[],2,FALSE),\"\")&IFERROR(VLOOKUP(A43,祝日など!$D$2:$E$20,2,FALSE),\"\")","v":""},null,null,null,"地球惑星物質学セミナー\n（安東・DAS・大川）"]
["2025-05-13","(火)",{"$f":"IFERROR(VLOOKUP(A44,テーブル1[],2,FALSE),\"\")&IFERROR(VLOOKUP(A44,祝日など!$D$2:$E$20,2,FALSE),\"\")","v":""},null,null,null,null,"結晶光学演習\n（片山）","超高圧セミナー\n（井上・川添・高市）"]
["2025-05-14","(水)",{"$f":"IFERROR(VLOOKUP(A45,テーブル1[],2,FALSE),\"\")&IFERROR(VLOOKUP(A45,祝日など!$D$2:$E$20,2,FALSE),\"\")","v":""},null,null,null,null,"結晶光学演習\n（片山）"]
["2025-05-15","(木)",{"$f":"IFERROR(VLOOKUP(A46,テーブル1[],2,FALSE),\"\")&IFERROR(VLOOKUP(A46,祝日など!$D$2:$E$20,2,FALSE),\"\")","v":""}]
["2025-05-16","(金)",{"$f":"IFERROR(VLOOKUP(A47,テーブル1[],2,FALSE),\"\")&IFERROR(VLOOKUP(A47,祝日など!$D$2:$E$20,2,FALSE),\"\")","v":""}]
["2025-05-17","(土)",{"$f":"IFERROR(VLOOKUP(A48,テーブル1[],2,FALSE),\"\")&IFERROR(VLOOKUP(A48,祝日など!$D$2:$E$20,2,FALSE),\"\")","v":""}]
["2025-05-18","(日)",{"$f":"IFERROR(VLOOKUP(A49,テーブル1[],2,FALSE),\"\")&IFERROR(VLOOKUP(A49,祝日など!$D$2:$E$20,2,FALSE),\"\")","v":""}]
["2025-05-19","(月)",{"$f":"IFERROR(VLOOKUP(A50,テーブル1[],2,FALSE),\"\")&IFERROR(VLOOKUP(A50,祝日など!$D$2:$E$20,2,FALSE),\"\")","v":""},null,null,null,"地球惑星物質学セミナー\n（安東・DAS・大川）"]
["2025-05-20","(火)",{"$f":"IFERROR(VLOOKUP(A51,テーブル1[],2,FALSE),\"\")&IFERROR(VLOOKUP(A51,祝日など!$D$2:$E$20,2,FALSE),\"\")","v":""},null,null,null,null,"結晶光学演習\n（片山）","超高圧セミナー\n（井上・川添・高市）"]
["2025-05-21","(水)",{"$f":"IFERROR(VLOOKUP(A52,テーブル1[],2,FALSE),\"\")&IFERROR(VLOOKUP(A52,祝日など!$D$2:$E$20,2,FALSE),\"\")","v":""},null,null,null,null,"結晶光学演習\n（片山）"]
["2025-05-22","(木)",{"$f":"IFERROR(VLOOKUP(A53,テーブル1[],2,FALSE),\"\")&IFERROR(VLOOKUP(A53,祝日など!$D$2:$E$20,2,FALSE),\"\")","v":""}]
["2025-05-23","(金)",{"$f":"IFERROR(VLOOKUP(A54,テーブル1[],2,FALSE),\"\")&IFERROR(VLOOKUP(A54,祝日など!$D$2:$E$20,2,FALSE),\"\")","v":""}]
["2025-05-24","(土)",{"$f":"IFERROR(VLOOKUP(A55,テーブル1[],2,FALSE),\"\")&IFERROR(VLOOKUP(A55,祝日など!$D$2:$E$20,2,FALSE),\"\")","v":""}]
["2025-05-25","(日)",{"$f":"IFERROR(VLOOKUP(A56,テーブル1[],2,FALSE),\"\")&IFERROR(VLOOKUP(A56,祝日など!$D$2:$E$20,2,FALSE),\"\")","v":""}]
["2025-05-26","(月)",{"$f":"IFERROR(VLOOKUP(A57,テーブル1[],2,FALSE),\"\")&IFERROR(VLOOKUP(A57,祝日など!$D$2:$E$20,2,FALSE),\"\")","v":""},null,null,null,"地球惑星物質学セミナー\n（安東・DAS・大川）"]
["2025-05-27","(火)",{"$f":"IFERROR(VLOOKUP(A58,テーブル1[],2,FALSE),\"\")&IFERROR(VLOOKUP(A58,祝日など!$D$2:$E$20,2,FALSE),\"\")","v":""},null,null,null,null,"結晶光学演習\n（片山）","超高圧セミナー\n（井上・川添・高市）"]
["2025-05-28","(水)",{"$f":"IFERROR(VLOOKUP(A59,テーブル1[],2,FALSE),\"\")&IFERROR(VLOOKUP(A59,祝日など!$D$2:$E$20,2,FALSE),\"\")","v":""},null,null,null,null,"結晶光学演習\n（片山）"]
["2025-05-29","(木)",{"$f":"IFERROR(VLOOKUP(A60,テーブル1[],2,FALSE),\"\")&IFERROR(VLOOKUP(A60,祝日など!$D$2:$E$20,2,FALSE),\"\")","v":""}]
["2025-05-30","(金)",{"$f":"IFERROR(VLOOKUP(A61,テーブル1[],2,FALSE),\"\")&IFERROR(VLOOKUP(A61,祝日など!$D$2:$E$20,2,FALSE),\"\")","v":""}]
["2025-05-31","(土)",{"$f":"IFERROR(VLOOKUP(A62,テーブル1[],2,FALSE),\"\")&IFERROR(VLOOKUP(A62,祝日など!$D$2:$E$20,2,FALSE),\"\")","v":""}]
["2025-06-01","(日)",{"$f":"IFERROR(VLOOKUP(A63,テーブル1[],2,FALSE),\"\")&IFERROR(VLOOKUP(A63,祝日など!$D$2:$E$20,2,FALSE),\"\")","v":""}]
["2025-06-02","(月)",{"$f":"IFERROR(VLOOKUP(A64,テーブル1[],2,FALSE),\"\")&IFERROR(VLOOKUP(A64,祝日など!$D$2:$E$20,2,FALSE),\"\")","v":""},null,null,null,"地球惑星物質学セミナー\n（安東・DAS・大川）"]
["2025-06-03","(火)",{"$f":"IFERROR(VLOOKUP(A65,テーブル1[],2,FALSE),\"\")&IFERROR(VLOOKUP(A65,祝日など!$D$2:$E$20,2,FALSE),\"\")","v":""},null,null,null,null,"結晶光学演習\n（片山）","超高圧セミナー\n（井上・川添・高市）"]
["2025-06-04","(水)",{"$f":"IFERROR(VLOOKUP(A66,テーブル1[],2,FALSE),\"\")&IFERROR(VLOOKUP(A66,祝日など!$D$2:$E$20,2,FALSE),\"\")","v":""},null,null,null,null,"結晶光学演習\n（片山）"]
["2025-06-05","(木)",{"$f":"IFERROR(VLOOKUP(A67,テーブル1[],2,FALSE),\"\")&IFERROR(VLOOKUP(A67,祝日など!$D$2:$E$20,2,FALSE),\"\")","v":""}]
["2025-06-06","(金)",{"$f":"IFERROR(VLOOKUP(A68,テーブル1[],2,FALSE),\"\")&IFERROR(VLOOKUP(A68,祝日など!$D$2:$E$20,2,FALSE),\"\")","v":"第2ターム開始"}]
["2025-06-07","(土)",{"$f":"IFERROR(VLOOKUP(A69,テーブル1[],2,FALSE),\"\")&IFERROR(VLOOKUP(A69,祝日など!$D$2:$E$20,2,FALSE),\"\")","v":""}]
["2025-06-08","(日)",{"$f":"IFERROR(VLOOKUP(A70,テーブル1[],2,FALSE),\"\")&IFERROR(VLOOKUP(A70,祝日など!$D$2:$E$20,2,FALSE),\"\")","v":""}]
["2025-06-09","(月)",{"$f":"IFERROR(VLOOKUP(A71,テーブル1[],2,FALSE),\"\")&IFERROR(VLOOKUP(A71,祝日など!$D$2:$E$20,2,FALSE),\"\")","v":""},null,null,null,"地球惑星物質学セミナー\n（安東・DAS・大川）"]
["2025-06-10","(火)",{"$f":"IFERROR(VLOOKUP(A72,テーブル1[],2,FALSE),\"\")&IFERROR(VLOOKUP(A72,祝日など!$D$2:$E$20,2,FALSE),\"\")","v":""},"岩石変形学Ⅰ\n（片山）",null,null,null,"超高圧セミナー\n（井上・川添・高市）"]
["2025-06-11","(水)",{"$f":"IFERROR(VLOOKUP(A73,テーブル1[],2,FALSE),\"\")&IFERROR(VLOOKUP(A73,祝日など!$D$2:$E$20,2,FALSE),\"\")","v":""}]
["2025-06-12","(木)",{"$f":"IFERROR(VLOOKUP(A74,テーブル1[],2,FALSE),\"\")&IFERROR(VLOOKUP(A74,祝日など!$D$2:$E$20,2,FALSE),\"\")","v":""},null,null,null,null,"岩石変形学Ⅰ\n（片山）"]
["2025-06-13","(金)",{"$f":"IFERROR(VLOOKUP(A75,テーブル1[],2,FALSE),\"\")&IFERROR(VLOOKUP(A75,祝日など!$D$2:$E$20,2,FALSE),\"\")","v":""}]
["2025-06-14","(土)",{"$f":"IFERROR(VLOOKUP(A76,テーブル1[],2,FALSE),\"\")&IFERROR(VLOOKUP(A76,祝日など!$D$2:$E$20,2,FALSE),\"\")","v":""}]
["2025-06-15","(日)",{"$f":"IFERROR(VLOOKUP(A77,テーブル1[],2,FALSE),\"\")&IFERROR(VLOOKUP(A77,祝日など!$D$2:$E$20,2,FALSE),\"\")","v":""}]
["2025-06-16","(月)",{"$f":"IFERROR(VLOOKUP(A78,テーブル1[],2,FALSE),\"\")&IFERROR(VLOOKUP(A78,祝日など!$D$2:$E$20,2,FALSE),\"\")","v":""},null,null,null,"地球惑星物質学セミナー\n（安東・DAS・大川）"]
["2025-06-17","(火)",{"$f":"IFERROR(VLOOKUP(A79,テーブル1[],2,FALSE),\"\")&IFERROR(VLOOKUP(A79,祝日など!$D$2:$E$20,2,FALSE),\"\")","v":""},"岩石変形学Ⅰ\n（片山）",null,null,null,"超高圧セミナー\n（井上・川添・高市）"]
["2025-06-18","(水)",{"$f":"IFERROR(VLOOKUP(A80,テーブル1[],2,FALSE),\"\")&IFERROR(VLOOKUP(A80,祝日など!$D$2:$E$20,2,FALSE),\"\")","v":""}]
["2025-06-19","(木)",{"$f":"IFERROR(VLOOKUP(A81,テーブル1[],2,FALSE),\"\")&IFERROR(VLOOKUP(A81,祝日など!$D$2:$E$20,2,FALSE),\"\")","v":""},null,null,null,null,"岩石変形学Ⅰ\n（片山）"]
["2025-06-20","(金)",{"$f":"IFERROR(VLOOKUP(A82,テーブル1[],2,FALSE),\"\")&IFERROR(VLOOKUP(A82,祝日など!$D$2:$E$20,2,FALSE),\"\")","v":""}]
["2025-06-21","(土)",{"$f":"IFERROR(VLOOKUP(A83,テーブル1[],2,FALSE),\"\")&IFERROR(VLOOKUP(A83,祝日など!$D$2:$E$20,2,FALSE),\"\")","v":""}]
["2025-06-22","(日)",{"$f":"IFERROR(VLOOKUP(A84,テーブル1[],2,FALSE),\"\")&IFERROR(VLOOKUP(A84,祝日など!$D$2:$E$20,2,FALSE),\"\")","v":""}]
["2025-06-23","(月)",{"$f":"IFERROR(VLOOKUP(A85,テーブル1[],2,FALSE),\"\")&IFERROR(VLOOKUP(A85,祝日など!$D$2:$E$20,2,FALSE),\"\")","v":""},null,null,null,"地球惑星物質学セミナー\n（安東・DAS・大川）"]
["2025-06-24","(火)",{"$f":"IFERROR(VLOOKUP(A86,テーブル1[],2,FALSE),\"\")&IFERROR(VLOOKUP(A86,祝日など!$D$2:$E$20,2,FALSE),\"\")","v":""},"岩石変形学Ⅰ\n（片山）",null,null,null,"超高圧セミナー\n（井上・川添・高市）"]
["2025-06-25","(水)",{"$f":"IFERROR(VLOOKUP(A87,テーブル1[],2,FALSE),\"\")&IFERROR(VLOOKUP(A87,祝日など!$D$2:$E$20,2,FALSE),\"\")","v":""}]
["2025-06-26","(木)",{"$f":"IFERROR(VLOOKUP(A88,テーブル1[],2,FALSE),\"\")&IFERROR(VLOOKUP(A88,祝日など!$D$2:$E$20,2,FALSE),\"\")","v":""},null,null,null,null,"岩石変形学Ⅰ\n（片山）"]
["2025-06-27","(金)",{"$f":"IFERROR(VLOOKUP(A89,テーブル1[],2,FALSE),\"\")&IFERROR(VLOOKUP(A89,祝日など!$D$2:$E$20,2,FALSE),\"\")","v":""}]
["2025-06-28","(土)",{"$f":"IFERROR(VLOOKUP(A90,テーブル1[],2,FALSE),\"\")&IFERROR(VLOOKUP(A90,祝日など!$D$2:$E$20,2,FALSE),\"\")","v":""}]
["2025-06-29","(日)",{"$f":"IFERROR(VLOOKUP(A91,テーブル1[],2,FALSE),\"\")&IFERROR(VLOOKUP(A91,祝日など!$D$2:$E$20,2,FALSE),\"\")","v":""}]
["2025-06-30","(月)",{"$f":"IFERROR(VLOOKUP(A92,テーブル1[],2,FALSE),\"\")&IFERROR(VLOOKUP(A92,祝日など!$D$2:$E$20,2,FALSE),\"\")","v":""},null,null,null,"地球惑星物質学セミナー\n（安東・DAS・大川）"]
["2025-07-01","(火)",{"$f":"IFERROR(VLOOKUP(A93,テーブル1[],2,FALSE),\"\")&IFERROR(VLOOKUP(A93,祝日など!$D$2:$E$20,2,FALSE),\"\")","v":""},"岩石変形学Ⅰ\n（片山）",null,null,null,"超高圧セミナー\n（井上・川添・高市）","超高圧セミナー\n（井上・川添・高市）"]
["2025-07-02","(水)",{"$f":"IFERROR(VLOOKUP(A94,テーブル1[],2,FALSE),\"\")&IFERROR(VLOOKUP(A94,祝日など!$D$2:$E$20,2,FALSE),\"\")","v":""}]
["2025-07-03","(木)",{"$f":"IFERROR(VLOOKUP(A95,テーブル1[],2,FALSE),\"\")&IFERROR(VLOOKUP(A95,祝日など!$D$2:$E$20,2,FALSE),\"\")","v":""},null,null,null,null,"岩石変形学Ⅰ\n（片山）"]
["2025-07-04","(金)",{"$f":"IFERROR(VLOOKUP(A96,テーブル1[],2,FALSE),\"\")&IFERROR(VLOOKUP(A96,祝日など!$D$2:$E$20,2,FALSE),\"\")","v":""}]
["2025-07-05","(土)",{"$f":"IFERROR(VLOOKUP(A97,テーブル1[],2,FALSE),\"\")&IFERROR(VLOOKUP(A97,祝日など!$D$2:$E$20,2,FALSE),\"\")","v":""}]
["2025-07-06","(日)",{"$f":"IFERROR(VLOOKUP(A98,テーブル1[],2,FALSE),\"\")&IFERROR(VLOOKUP(A98,祝日など!$D$2:$E$20,2,FALSE),\"\")","v":""}]
["2025-07-07","(月)",{"$f":"IFERROR(VLOOKUP(A99,テーブル1[],2,FALSE),\"\")&IFERROR(VLOOKUP(A99,祝日など!$D$2:$E$20,2,FALSE),\"\")","v":""},null,null,null,"地球惑星物質学セミナー\n（安東・DAS・大川）"]
["2025-07-08","(火)",{"$f":"IFERROR(VLOOKUP(A100,テーブル1[],2,FALSE),\"\")&IFERROR(VLOOKUP(A100,祝日など!$D$2:$E$20,2,FALSE),\"\")","v":""},"岩石変形学Ⅰ\n（片山）",null,null,null,"超高圧セミナー\n（井上・川添・高市）"]
["2025-07-09","(水)",{"$f":"IFERROR(VLOOKUP(A101,テーブル1[],2,FALSE),\"\")&IFERROR(VLOOKUP(A101,祝日など!$D$2:$E$20,2,FALSE),\"\")","v":""}]
["2025-07-10","(木)",{"$f":"IFERROR(VLOOKUP(A102,テーブル1[],2,FALSE),\"\")&IFERROR(VLOOKUP(A102,祝日など!$D$2:$E$20,2,FALSE),\"\")","v":""},null,"←　DAS　→",null,null,"岩石変形学Ⅰ\n（片山）"]
["2025-07-11","(金)",{"$f":"IFERROR(VLOOKUP(A103,テーブル1[],2,FALSE),\"\")&IFERROR(VLOOKUP(A103,祝日など!$D$2:$E$20,2,FALSE),\"\")","v":""}]
["2025-07-12","(土)",{"$f":"IFERROR(VLOOKUP(A104,テーブル1[],2,FALSE),\"\")&IFERROR(VLOOKUP(A104,祝日など!$D$2:$E$20,2,FALSE),\"\")","v":""},null,"←　安東　→","安東"]
["2025-07-13","(日)",{"$f":"IFERROR(VLOOKUP(A105,テーブル1[],2,FALSE),\"\")&IFERROR(VLOOKUP(A105,祝日など!$D$2:$E$20,2,FALSE),\"\")","v":""}]
["2025-07-14","(月)",{"$f":"IFERROR(VLOOKUP(A106,テーブル1[],2,FALSE),\"\")&IFERROR(VLOOKUP(A106,祝日など!$D$2:$E$20,2,FALSE),\"\")","v":""},null,null,null,"地球惑星物質学セミナー\n（安東・DAS・大川）","企業説明会・三菱ガス化学㈱\n15：00-17：00（秋澤）","企業説明会・三菱ガス化学㈱\n15：00-17：00（秋澤）"]
["2025-07-15","(火)",{"$f":"IFERROR(VLOOKUP(A107,テーブル1[],2,FALSE),\"\")&IFERROR(VLOOKUP(A107,祝日など!$D$2:$E$20,2,FALSE),\"\")","v":""},"岩石変形学Ⅰ\n（片山）",null,null,null,"超高圧セミナー\n（井上・川添・高市）"]
["2025-07-16","(水)",{"$f":"IFERROR(VLOOKUP(A108,テーブル1[],2,FALSE),\"\")&IFERROR(VLOOKUP(A108,祝日など!$D$2:$E$20,2,FALSE),\"\")","v":""}]
["2025-07-17","(木)",{"$f":"IFERROR(VLOOKUP(A109,テーブル1[],2,FALSE),\"\")&IFERROR(VLOOKUP(A109,祝日など!$D$2:$E$20,2,FALSE),\"\")","v":""},null,null,null,null,"岩石変形学Ⅰ\n（片山）"]
["2025-07-18","(金)",{"$f":"IFERROR(VLOOKUP(A110,テーブル1[],2,FALSE),\"\")&IFERROR(VLOOKUP(A110,祝日など!$D$2:$E$20,2,FALSE),\"\")","v":"振替授業(月)"},null,null,null,"地球惑星物質学セミナー\n（安東・DAS・大川）"]
["2025-07-19","(土)",{"$f":"IFERROR(VLOOKUP(A111,テーブル1[],2,FALSE),\"\")&IFERROR(VLOOKUP(A111,祝日など!$D$2:$E$20,2,FALSE),\"\")","v":""}]
["2025-07-20","(日)",{"$f":"IFERROR(VLOOKUP(A112,テーブル1[],2,FALSE),\"\")&IFERROR(VLOOKUP(A112,祝日など!$D$2:$E$20,2,FALSE),\"\")","v":""}]
["2025-07-21","(月)",{"$f":"IFERROR(VLOOKUP(A113,テーブル1[],2,FALSE),\"\")&IFERROR(VLOOKUP(A113,祝日など!$D$2:$E$20,2,FALSE),\"\")","v":"海の日"}]
["2025-07-22","(火)",{"$f":"IFERROR(VLOOKUP(A114,テーブル1[],2,FALSE),\"\")&IFERROR(VLOOKUP(A114,祝日など!$D$2:$E$20,2,FALSE),\"\")","v":""},"岩石変形学Ⅰ\n（片山）",null,null,null,"超高圧セミナー\n（井上・川添・高市）"]
["2025-07-23","(水)",{"$f":"IFERROR(VLOOKUP(A115,テーブル1[],2,FALSE),\"\")&IFERROR(VLOOKUP(A115,祝日など!$D$2:$E$20,2,FALSE),\"\")","v":""}]
["2025-07-24","(木)",{"$f":"IFERROR(VLOOKUP(A116,テーブル1[],2,FALSE),\"\")&IFERROR(VLOOKUP(A116,祝日など!$D$2:$E$20,2,FALSE),\"\")","v":""},null,null,null,null,"岩石変形学Ⅰ\n（片山）"]
["2025-07-25","(金)",{"$f":"IFERROR(VLOOKUP(A117,テーブル1[],2,FALSE),\"\")&IFERROR(VLOOKUP(A117,祝日など!$D$2:$E$20,2,FALSE),\"\")","v":""},null,null,null,null,"岩石変形学Ⅰ\n（片山）"]
["2025-07-26","(土)",{"$f":"IFERROR(VLOOKUP(A118,テーブル1[],2,FALSE),\"\")&IFERROR(VLOOKUP(A118,祝日など!$D$2:$E$20,2,FALSE),\"\")","v":""}]
["2025-07-27","(日)",{"$f":"IFERROR(VLOOKUP(A119,テーブル1[],2,FALSE),\"\")&IFERROR(VLOOKUP(A119,祝日など!$D$2:$E$20,2,FALSE),\"\")","v":""}]
["2025-07-28","(月)",{"$f":"IFERROR(VLOOKUP(A120,テーブル1[],2,FALSE),\"\")&IFERROR(VLOOKUP(A120,祝日など!$D$2:$E$20,2,FALSE),\"\")","v":""},null,null,null,"地球惑星物質学セミナー\n（安東・DAS・大川）"]
["2025-07-29","(火)",{"$f":"IFERROR(VLOOKUP(A121,テーブル1[],2,FALSE),\"\")&IFERROR(VLOOKUP(A121,祝日など!$D$2:$E$20,2,FALSE),\"\")","v":""},"岩石変形学Ⅰ\n（片山）",null,null,null,"超高圧セミナー\n（井上・川添・高市）"]
["2025-07-30","(水)",{"$f":"IFERROR(VLOOKUP(A122,テーブル1[],2,FALSE),\"\")&IFERROR(VLOOKUP(A122,祝日など!$D$2:$E$20,2,FALSE),\"\")","v":""}]
["2025-07-31","(木)",{"$f":"IFERROR(VLOOKUP(A123,テーブル1[],2,FALSE),\"\")&IFERROR(VLOOKUP(A123,祝日など!$D$2:$E$20,2,FALSE),\"\")","v":""},null,null,null,null,"岩石変形学Ⅰ\n（片山）"]
["2025-08-01","(金)",{"$f":"IFERROR(VLOOKUP(A124,テーブル1[],2,FALSE),\"\")&IFERROR(VLOOKUP(A124,祝日など!$D$2:$E$20,2,FALSE),\"\")","v":""}]
["2025-08-02","(土)",{"$f":"IFERROR(VLOOKUP(A125,テーブル1[],2,FALSE),\"\")&IFERROR(VLOOKUP(A125,祝日など!$D$2:$E$20,2,FALSE),\"\")","v":""}]
["2025-08-03","(日)",{"$f":"IFERROR(VLOOKUP(A126,テーブル1[],2,FALSE),\"\")&IFERROR(VLOOKUP(A126,祝日など!$D$2:$E$20,2,FALSE),\"\")","v":""}]
["2025-08-04","(月)",{"$f":"IFERROR(VLOOKUP(A127,テーブル1[],2,FALSE),\"\")&IFERROR(VLOOKUP(A127,祝日など!$D$2:$E$20,2,FALSE),\"\")","v":"夏季休暇開始"}]
["2025-08-05","(火)",{"$f":"IFERROR(VLOOKUP(A128,テーブル1[],2,FALSE),\"\")&IFERROR(VLOOKUP(A128,祝日など!$D$2:$E$20,2,FALSE),\"\")","v":""}]
["2025-08-06","(水)",{"$f":"IFERROR(VLOOKUP(A129,テーブル1[],2,FALSE),\"\")&IFERROR(VLOOKUP(A129,祝日など!$D$2:$E$20,2,FALSE),\"\")","v":""}]
["2025-08-07","(木)",{"$f":"IFERROR(VLOOKUP(A130,テーブル1[],2,FALSE),\"\")&IFERROR(VLOOKUP(A130,祝日など!$D$2:$E$20,2,FALSE),\"\")","v":""}]
["2025-08-08","(金)",{"$f":"IFERROR(VLOOKUP(A131,テーブル1[],2,FALSE),\"\")&IFERROR(VLOOKUP(A131,祝日など!$D$2:$E$20,2,FALSE),\"\")","v":""},"←　DAS　→","←　DAS　→",null,null,"←　DAS　→","←　DAS　→"]
["2025-08-09","(土)",{"$f":"IFERROR(VLOOKUP(A132,テーブル1[],2,FALSE),\"\")&IFERROR(VLOOKUP(A132,祝日など!$D$2:$E$20,2,FALSE),\"\")","v":""}]
["2025-08-10","(日)",{"$f":"IFERROR(VLOOKUP(A133,テーブル1[],2,FALSE),\"\")&IFERROR(VLOOKUP(A133,祝日など!$D$2:$E$20,2,FALSE),\"\")","v":""}]
["2025-08-11","(月)",{"$f":"IFERROR(VLOOKUP(A134,テーブル1[],2,FALSE),\"\")&IFERROR(VLOOKUP(A134,祝日など!$D$2:$E$20,2,FALSE),\"\")","v":"山の日"}]
["2025-08-12","(火)",{"$f":"IFERROR(VLOOKUP(A135,テーブル1[],2,FALSE),\"\")&IFERROR(VLOOKUP(A135,祝日など!$D$2:$E$20,2,FALSE),\"\")","v":"夏季休業"}]
["2025-08-13","(水)",{"$f":"IFERROR(VLOOKUP(A136,テーブル1[],2,FALSE),\"\")&IFERROR(VLOOKUP(A136,祝日など!$D$2:$E$20,2,FALSE),\"\")","v":"夏季休業"}]
["2025-08-14","(木)",{"$f":"IFERROR(VLOOKUP(A137,テーブル1[],2,FALSE),\"\")&IFERROR(VLOOKUP(A137,祝日など!$D$2:$E$20,2,FALSE),\"\")","v":"夏季休業"}]
["2025-08-15","(金)",{"$f":"IFERROR(VLOOKUP(A138,テーブル1[],2,FALSE),\"\")&IFERROR(VLOOKUP(A138,祝日など!$D$2:$E$20,2,FALSE),\"\")","v":"夏季休業"}]
["2025-08-16","(土)",{"$f":"IFERROR(VLOOKUP(A139,テーブル1[],2,FALSE),\"\")&IFERROR(VLOOKUP(A139,祝日など!$D$2:$E$20,2,FALSE),\"\")","v":""}]
["2025-08-17","(日)",{"$f":"IFERROR(VLOOKUP(A140,テーブル1[],2,FALSE),\"\")&IFERROR(VLOOKUP(A140,祝日など!$D$2:$E$20,2,FALSE),\"\")","v":""}]
["2025-08-18","(月)",{"$f":"IFERROR(VLOOKUP(A141,テーブル1[],2,FALSE),\"\")&IFERROR(VLOOKUP(A141,祝日など!$D$2:$E$20,2,FALSE),\"\")","v":""}]
["2025-08-19","(火)",{"$f":"IFERROR(VLOOKUP(A142,テーブル1[],2,FALSE),\"\")&IFERROR(VLOOKUP(A142,祝日など!$D$2:$E$20,2,FALSE),\"\")","v":""}]
["2025-08-20","(水)",{"$f":"IFERROR(VLOOKUP(A143,テーブル1[],2,FALSE),\"\")&IFERROR(VLOOKUP(A143,祝日など!$D$2:$E$20,2,FALSE),\"\")","v":""}]
["2025-08-21","(木)",{"$f":"IFERROR(VLOOKUP(A144,テーブル1[],2,FALSE),\"\")&IFERROR(VLOOKUP(A144,祝日など!$D$2:$E$20,2,FALSE),\"\")","v":""}]
["2025-08-22","(金)",{"$f":"IFERROR(VLOOKUP(A145,テーブル1[],2,FALSE),\"\")&IFERROR(VLOOKUP(A145,祝日など!$D$2:$E$20,2,FALSE),\"\")","v":""}]
["2025-08-23","(土)",{"$f":"IFERROR(VLOOKUP(A146,テーブル1[],2,FALSE),\"\")&IFERROR(VLOOKUP(A146,祝日など!$D$2:$E$20,2,FALSE),\"\")","v":""}]
["2025-08-24","(日)",{"$f":"IFERROR(VLOOKUP(A147,テーブル1[],2,FALSE),\"\")&IFERROR(VLOOKUP(A147,祝日など!$D$2:$E$20,2,FALSE),\"\")","v":""}]
["2025-08-25","(月)",{"$f":"IFERROR(VLOOKUP(A148,テーブル1[],2,FALSE),\"\")&IFERROR(VLOOKUP(A148,祝日など!$D$2:$E$20,2,FALSE),\"\")","v":""}]
["2025-08-26","(火)",{"$f":"IFERROR(VLOOKUP(A149,テーブル1[],2,FALSE),\"\")&IFERROR(VLOOKUP(A149,祝日など!$D$2:$E$20,2,FALSE),\"\")","v":""}]
["2025-08-27","(水)",{"$f":"IFERROR(VLOOKUP(A150,テーブル1[],2,FALSE),\"\")&IFERROR(VLOOKUP(A150,祝日など!$D$2:$E$20,2,FALSE),\"\")","v":""}]
["2025-08-28","(木)",{"$f":"IFERROR(VLOOKUP(A151,テーブル1[],2,FALSE),\"\")&IFERROR(VLOOKUP(A151,祝日など!$D$2:$E$20,2,FALSE),\"\")","v":""}]
["2025-08-29","(金)",{"$f":"IFERROR(VLOOKUP(A152,テーブル1[],2,FALSE),\"\")&IFERROR(VLOOKUP(A152,祝日など!$D$2:$E$20,2,FALSE),\"\")","v":""}]
["2025-08-30","(土)",{"$f":"IFERROR(VLOOKUP(A153,テーブル1[],2,FALSE),\"\")&IFERROR(VLOOKUP(A153,祝日など!$D$2:$E$20,2,FALSE),\"\")","v":""}]
["2025-08-31","(日)",{"$f":"IFERROR(VLOOKUP(A154,テーブル1[],2,FALSE),\"\")&IFERROR(VLOOKUP(A154,祝日など!$D$2:$E$20,2,FALSE),\"\")","v":""},"全学停電（8：30～18：00）","全学停電（8：30～18：00）","停電","全学停電（8：30～18：00）","全学停電（8：30～18：00）","全学停電（8：30～18：00）"]
["2025-09-01","(月)",{"$f":"IFERROR(VLOOKUP(A155,テーブル1[],2,FALSE),\"\")&IFERROR(VLOOKUP(A155,祝日など!$D$2:$E$20,2,FALSE),\"\")","v":""},null,"薮田セミナー",null,null,"薮田セミナー","薮田セミナー"]
["2025-09-02","(火)",{"$f":"IFERROR(VLOOKUP(A156,テーブル1[],2,FALSE),\"\")&IFERROR(VLOOKUP(A156,祝日など!$D$2:$E$20,2,FALSE),\"\")","v":""}]
["2025-09-03","(水)",{"$f":"IFERROR(VLOOKUP(A157,テーブル1[],2,FALSE),\"\")&IFERROR(VLOOKUP(A157,祝日など!$D$2:$E$20,2,FALSE),\"\")","v":""}]
["2025-09-04","(木)",{"$f":"IFERROR(VLOOKUP(A158,テーブル1[],2,FALSE),\"\")&IFERROR(VLOOKUP(A158,祝日など!$D$2:$E$20,2,FALSE),\"\")","v":""},null,"ダス","ダス","ダス"]
["2025-09-05","(金)",{"$f":"IFERROR(VLOOKUP(A159,テーブル1[],2,FALSE),\"\")&IFERROR(VLOOKUP(A159,祝日など!$D$2:$E$20,2,FALSE),\"\")","v":""},null,null,null,"超高圧グループ","超高圧グループ"]
["2025-09-06","(土)",{"$f":"IFERROR(VLOOKUP(A160,テーブル1[],2,FALSE),\"\")&IFERROR(VLOOKUP(A160,祝日など!$D$2:$E$20,2,FALSE),\"\")","v":""}]
["2025-09-07","(日)",{"$f":"IFERROR(VLOOKUP(A161,テーブル1[],2,FALSE),\"\")&IFERROR(VLOOKUP(A161,祝日など!$D$2:$E$20,2,FALSE),\"\")","v":""}]
["2025-09-08","(月)",{"$f":"IFERROR(VLOOKUP(A162,テーブル1[],2,FALSE),\"\")&IFERROR(VLOOKUP(A162,祝日など!$D$2:$E$20,2,FALSE),\"\")","v":""}]
["2025-09-09","(火)",{"$f":"IFERROR(VLOOKUP(A163,テーブル1[],2,FALSE),\"\")&IFERROR(VLOOKUP(A163,祝日など!$D$2:$E$20,2,FALSE),\"\")","v":""}]
["2025-09-10","(水)",{"$f":"IFERROR(VLOOKUP(A164,テーブル1[],2,FALSE),\"\")&IFERROR(VLOOKUP(A164,祝日など!$D$2:$E$20,2,FALSE),\"\")","v":""}]
["2025-09-11","(木)",{"$f":"IFERROR(VLOOKUP(A165,テーブル1[],2,FALSE),\"\")&IFERROR(VLOOKUP(A165,祝日など!$D$2:$E$20,2,FALSE),\"\")","v":""}]
["2025-09-12","(金)",{"$f":"IFERROR(VLOOKUP(A166,テーブル1[],2,FALSE),\"\")&IFERROR(VLOOKUP(A166,祝日など!$D$2:$E$20,2,FALSE),\"\")","v":""}]
["2025-09-13","(土)",{"$f":"IFERROR(VLOOKUP(A167,テーブル1[],2,FALSE),\"\")&IFERROR(VLOOKUP(A167,祝日など!$D$2:$E$20,2,FALSE),\"\")","v":""}]
["2025-09-14","(日)",{"$f":"IFERROR(VLOOKUP(A168,テーブル1[],2,FALSE),\"\")&IFERROR(VLOOKUP(A168,祝日など!$D$2:$E$20,2,FALSE),\"\")","v":""}]
["2025-09-15","(月)",{"$f":"IFERROR(VLOOKUP(A169,テーブル1[],2,FALSE),\"\")&IFERROR(VLOOKUP(A169,祝日など!$D$2:$E$20,2,FALSE),\"\")","v":"敬老の日"}]
["2025-09-16","(火)",{"$f":"IFERROR(VLOOKUP(A170,テーブル1[],2,FALSE),\"\")&IFERROR(VLOOKUP(A170,祝日など!$D$2:$E$20,2,FALSE),\"\")","v":""}]
["2025-09-17","(水)",{"$f":"IFERROR(VLOOKUP(A171,テーブル1[],2,FALSE),\"\")&IFERROR(VLOOKUP(A171,祝日など!$D$2:$E$20,2,FALSE),\"\")","v":""}]
["2025-09-18","(木)",{"$f":"IFERROR(VLOOKUP(A172,テーブル1[],2,FALSE),\"\")&IFERROR(VLOOKUP(A172,祝日など!$D$2:$E$20,2,FALSE),\"\")","v":""}]
["2025-09-19","(金)",{"$f":"IFERROR(VLOOKUP(A173,テーブル1[],2,FALSE),\"\")&IFERROR(VLOOKUP(A173,祝日など!$D$2:$E$20,2,FALSE),\"\")","v":"秋季\n学位記授与式"}]
["2025-09-20","(土)",{"$f":"IFERROR(VLOOKUP(A174,テーブル1[],2,FALSE),\"\")&IFERROR(VLOOKUP(A174,祝日など!$D$2:$E$20,2,FALSE),\"\")","v":""}]
["2025-09-21","(日)",{"$f":"IFERROR(VLOOKUP(A175,テーブル1[],2,FALSE),\"\")&IFERROR(VLOOKUP(A175,祝日など!$D$2:$E$20,2,FALSE),\"\")","v":""}]
["2025-09-22","(月)",{"$f":"IFERROR(VLOOKUP(A176,テーブル1[],2,FALSE),\"\")&IFERROR(VLOOKUP(A176,祝日など!$D$2:$E$20,2,FALSE),\"\")","v":""}]
["2025-09-23","(火)",{"$f":"IFERROR(VLOOKUP(A177,テーブル1[],2,FALSE),\"\")&IFERROR(VLOOKUP(A177,祝日など!$D$2:$E$20,2,FALSE),\"\")","v":"秋分の日"}]
["2025-09-24","(水)",{"$f":"IFERROR(VLOOKUP(A178,テーブル1[],2,FALSE),\"\")&IFERROR(VLOOKUP(A178,祝日など!$D$2:$E$20,2,FALSE),\"\")","v":""}]
["2025-09-25","(木)",{"$f":"IFERROR(VLOOKUP(A179,テーブル1[],2,FALSE),\"\")&IFERROR(VLOOKUP(A179,祝日など!$D$2:$E$20,2,FALSE),\"\")","v":""}]
["2025-09-26","(金)",{"$f":"IFERROR(VLOOKUP(A180,テーブル1[],2,FALSE),\"\")&IFERROR(VLOOKUP(A180,祝日など!$D$2:$E$20,2,FALSE),\"\")","v":""}]
["2025-09-27","(土)",{"$f":"IFERROR(VLOOKUP(A181,テーブル1[],2,FALSE),\"\")&IFERROR(VLOOKUP(A181,祝日など!$D$2:$E$20,2,FALSE),\"\")","v":""}]
["2025-09-28","(日)",{"$f":"IFERROR(VLOOKUP(A182,テーブル1[],2,FALSE),\"\")&IFERROR(VLOOKUP(A182,祝日など!$D$2:$E$20,2,FALSE),\"\")","v":""}]
["2025-09-29","(月)",{"$f":"IFERROR(VLOOKUP(A183,テーブル1[],2,FALSE),\"\")&IFERROR(VLOOKUP(A183,祝日など!$D$2:$E$20,2,FALSE),\"\")","v":""}]
["2025-09-30","(火)",{"$f":"IFERROR(VLOOKUP(A184,テーブル1[],2,FALSE),\"\")&IFERROR(VLOOKUP(A184,祝日など!$D$2:$E$20,2,FALSE),\"\")","v":""}]
["2025-10-01","(水)",{"$f":"IFERROR(VLOOKUP(A185,テーブル1[],2,FALSE),\"\")&IFERROR(VLOOKUP(A185,祝日など!$D$2:$E$20,2,FALSE),\"\")","v":"秋季入学式"}]
["2025-10-02","(木)",{"$f":"IFERROR(VLOOKUP(A186,テーブル1[],2,FALSE),\"\")&IFERROR(VLOOKUP(A186,祝日など!$D$2:$E$20,2,FALSE),\"\")","v":"第3ターム開始"},"地球史\n(DAS･白石･柴田･DUTTA 他)","地球史\n(DAS･白石･柴田･DUTTA 他)",null,"岡﨑セミナー","岡﨑セミナー"]
["2025-10-03","(金)",{"$f":"IFERROR(VLOOKUP(A187,テーブル1[],2,FALSE),\"\")&IFERROR(VLOOKUP(A187,祝日など!$D$2:$E$20,2,FALSE),\"\")","v":""}]
["2025-10-04","(土)",{"$f":"IFERROR(VLOOKUP(A188,テーブル1[],2,FALSE),\"\")&IFERROR(VLOOKUP(A188,祝日など!$D$2:$E$20,2,FALSE),\"\")","v":""}]
["2025-10-05","(日)",{"$f":"IFERROR(VLOOKUP(A189,テーブル1[],2,FALSE),\"\")&IFERROR(VLOOKUP(A189,祝日など!$D$2:$E$20,2,FALSE),\"\")","v":""}]
["2025-10-06","(月)",{"$f":"IFERROR(VLOOKUP(A190,テーブル1[],2,FALSE),\"\")&IFERROR(VLOOKUP(A190,祝日など!$D$2:$E$20,2,FALSE),\"\")","v":""}]
["2025-10-07","(火)",{"$f":"IFERROR(VLOOKUP(A191,テーブル1[],2,FALSE),\"\")&IFERROR(VLOOKUP(A191,祝日など!$D$2:$E$20,2,FALSE),\"\")","v":""},null,"PRDセミナー\n(安東・DAS･DUTTA)",null,null,null,"超高圧セミナー\n（井上・川添・高市）"]
["2025-10-08","(水)",{"$f":"IFERROR(VLOOKUP(A192,テーブル1[],2,FALSE),\"\")&IFERROR(VLOOKUP(A192,祝日など!$D$2:$E$20,2,FALSE),\"\")","v":""},null,null,null,"地球惑星物質学セミナー\n（安東・DAS・大川）"]
["2025-10-09","(木)",{"$f":"IFERROR(VLOOKUP(A193,テーブル1[],2,FALSE),\"\")&IFERROR(VLOOKUP(A193,祝日など!$D$2:$E$20,2,FALSE),\"\")","v":""},"地球史\n(DAS･白石･柴田･DUTTA 他)","地球史\n(DAS･白石･柴田･DUTTA 他)"]
["2025-10-10","(金)",{"$f":"IFERROR(VLOOKUP(A194,テーブル1[],2,FALSE),\"\")&IFERROR(VLOOKUP(A194,祝日など!$D$2:$E$20,2,FALSE),\"\")","v":""}]
["2025-10-11","(土)",{"$f":"IFERROR(VLOOKUP(A195,テーブル1[],2,FALSE),\"\")&IFERROR(VLOOKUP(A195,祝日など!$D$2:$E$20,2,FALSE),\"\")","v":""}]
["2025-10-12","(日)",{"$f":"IFERROR(VLOOKUP(A196,テーブル1[],2,FALSE),\"\")&IFERROR(VLOOKUP(A196,祝日など!$D$2:$E$20,2,FALSE),\"\")","v":""}]
["2025-10-13","(月)",{"$f":"IFERROR(VLOOKUP(A197,テーブル1[],2,FALSE),\"\")&IFERROR(VLOOKUP(A197,祝日など!$D$2:$E$20,2,FALSE),\"\")","v":"スポーツの日"}]
["2025-10-14","(火)",{"$f":"IFERROR(VLOOKUP(A198,テーブル1[],2,FALSE),\"\")&IFERROR(VLOOKUP(A198,祝日など!$D$2:$E$20,2,FALSE),\"\")","v":""},null,"PRDセミナー\n(安東・DAS･DUTTA)",null,null,null,"超高圧セミナー\n（井上・川添・高市）"]
["2025-10-15","(水)",{"$f":"IFERROR(VLOOKUP(A199,テーブル1[],2,FALSE),\"\")&IFERROR(VLOOKUP(A199,祝日など!$D$2:$E$20,2,FALSE),\"\")","v":""},null,null,null,"地球惑星物質学セミナー\n（安東・DAS・大川）"]
["2025-10-16","(木)",{"$f":"IFERROR(VLOOKUP(A200,テーブル1[],2,FALSE),\"\")&IFERROR(VLOOKUP(A200,祝日など!$D$2:$E$20,2,FALSE),\"\")","v":"振替授業(月)"}]
["2025-10-17","(金)",{"$f":"IFERROR(VLOOKUP(A201,テーブル1[],2,FALSE),\"\")&IFERROR(VLOOKUP(A201,祝日など!$D$2:$E$20,2,FALSE),\"\")","v":""}]
["2025-10-18","(土)",{"$f":"IFERROR(VLOOKUP(A202,テーブル1[],2,FALSE),\"\")&IFERROR(VLOOKUP(A202,祝日など!$D$2:$E$20,2,FALSE),\"\")","v":""}]
["2025-10-19","(日)",{"$f":"IFERROR(VLOOKUP(A203,テーブル1[],2,FALSE),\"\")&IFERROR(VLOOKUP(A203,祝日など!$D$2:$E$20,2,FALSE),\"\")","v":""}]
["2025-10-20","(月)",{"$f":"IFERROR(VLOOKUP(A204,テーブル1[],2,FALSE),\"\")&IFERROR(VLOOKUP(A204,祝日など!$D$2:$E$20,2,FALSE),\"\")","v":""}]
["2025-10-21","(火)",{"$f":"IFERROR(VLOOKUP(A205,テーブル1[],2,FALSE),\"\")&IFERROR(VLOOKUP(A205,祝日など!$D$2:$E$20,2,FALSE),\"\")","v":""},null,"PRDセミナー\n(安東・DAS･DUTTA)",null,null,null,"超高圧セミナー\n（井上・川添・高市）"]
["2025-10-22","(水)",{"$f":"IFERROR(VLOOKUP(A206,テーブル1[],2,FALSE),\"\")&IFERROR(VLOOKUP(A206,祝日など!$D$2:$E$20,2,FALSE),\"\")","v":""},null,null,null,"地球惑星物質学セミナー\n（安東・DAS・大川）"]
["2025-10-23","(木)",{"$f":"IFERROR(VLOOKUP(A207,テーブル1[],2,FALSE),\"\")&IFERROR(VLOOKUP(A207,祝日など!$D$2:$E$20,2,FALSE),\"\")","v":""},"地球史\n(DAS･白石･柴田･DUTTA 他)","地球史\n(DAS･白石･柴田･DUTTA 他)"]
["2025-10-24","(金)",{"$f":"IFERROR(VLOOKUP(A208,テーブル1[],2,FALSE),\"\")&IFERROR(VLOOKUP(A208,祝日など!$D$2:$E$20,2,FALSE),\"\")","v":""},"薮田研セミナー","薮田研セミナー"]
["2025-10-25","(土)",{"$f":"IFERROR(VLOOKUP(A209,テーブル1[],2,FALSE),\"\")&IFERROR(VLOOKUP(A209,祝日など!$D$2:$E$20,2,FALSE),\"\")","v":""}]
["2025-10-26","(日)",{"$f":"IFERROR(VLOOKUP(A210,テーブル1[],2,FALSE),\"\")&IFERROR(VLOOKUP(A210,祝日など!$D$2:$E$20,2,FALSE),\"\")","v":""}]
["2025-10-27","(月)",{"$f":"IFERROR(VLOOKUP(A211,テーブル1[],2,FALSE),\"\")&IFERROR(VLOOKUP(A211,祝日など!$D$2:$E$20,2,FALSE),\"\")","v":""}]
["2025-10-28","(火)",{"$f":"IFERROR(VLOOKUP(A212,テーブル1[],2,FALSE),\"\")&IFERROR(VLOOKUP(A212,祝日など!$D$2:$E$20,2,FALSE),\"\")","v":""},null,"PRDセミナー\n(安東・DAS･DUTTA)",null,null,null,"超高圧セミナー\n（井上・川添・高市）"]
["2025-10-29","(水)",{"$f":"IFERROR(VLOOKUP(A213,テーブル1[],2,FALSE),\"\")&IFERROR(VLOOKUP(A213,祝日など!$D$2:$E$20,2,FALSE),\"\")","v":""},null,null,null,"地球惑星物質学セミナー\n（安東・DAS・大川）"]
["2025-10-30","(木)",{"$f":"IFERROR(VLOOKUP(A214,テーブル1[],2,FALSE),\"\")&IFERROR(VLOOKUP(A214,祝日など!$D$2:$E$20,2,FALSE),\"\")","v":""},"地球史\n(DAS･白石･柴田･DUTTA 他)","地球史\n(DAS･白石･柴田･DUTTA 他)"]
["2025-10-31","(金)",{"$f":"IFERROR(VLOOKUP(A215,テーブル1[],2,FALSE),\"\")&IFERROR(VLOOKUP(A215,祝日など!$D$2:$E$20,2,FALSE),\"\")","v":""},"薮田研セミナー","薮田研セミナー"]
["2025-11-01","(土)",{"$f":"IFERROR(VLOOKUP(A216,テーブル1[],2,FALSE),\"\")&IFERROR(VLOOKUP(A216,祝日など!$D$2:$E$20,2,FALSE),\"\")","v":""}]
["2025-11-02","(日)",{"$f":"IFERROR(VLOOKUP(A217,テーブル1[],2,FALSE),\"\")&IFERROR(VLOOKUP(A217,祝日など!$D$2:$E$20,2,FALSE),\"\")","v":""}]
["2025-11-03","(月)",{"$f":"IFERROR(VLOOKUP(A218,テーブル1[],2,FALSE),\"\")&IFERROR(VLOOKUP(A218,祝日など!$D$2:$E$20,2,FALSE),\"\")","v":"文化の日"}]
["2025-11-04","(火)",{"$f":"IFERROR(VLOOKUP(A219,テーブル1[],2,FALSE),\"\")&IFERROR(VLOOKUP(A219,祝日など!$D$2:$E$20,2,FALSE),\"\")","v":""},null,"PRDセミナー\n(安東・DAS･DUTTA)",null,null,null,"超高圧セミナー\n（井上・川添・高市）"]
["2025-11-05","(水)",{"$f":"IFERROR(VLOOKUP(A220,テーブル1[],2,FALSE),\"\")&IFERROR(VLOOKUP(A220,祝日など!$D$2:$E$20,2,FALSE),\"\")","v":""},null,null,null,"地球惑星物質学セミナー\n（安東・DAS・大川）"]
["2025-11-06","(木)",{"$f":"IFERROR(VLOOKUP(A221,テーブル1[],2,FALSE),\"\")&IFERROR(VLOOKUP(A221,祝日など!$D$2:$E$20,2,FALSE),\"\")","v":""},"地球史\n(DAS･白石･柴田･DUTTA 他)","地球史\n(DAS･白石･柴田･DUTTA 他)"]
["2025-11-07","(金)",{"$f":"IFERROR(VLOOKUP(A222,テーブル1[],2,FALSE),\"\")&IFERROR(VLOOKUP(A222,祝日など!$D$2:$E$20,2,FALSE),\"\")","v":"振替授業(月)"}]
["2025-11-08","(土)",{"$f":"IFERROR(VLOOKUP(A223,テーブル1[],2,FALSE),\"\")&IFERROR(VLOOKUP(A223,祝日など!$D$2:$E$20,2,FALSE),\"\")","v":""}]
["2025-11-09","(日)",{"$f":"IFERROR(VLOOKUP(A224,テーブル1[],2,FALSE),\"\")&IFERROR(VLOOKUP(A224,祝日など!$D$2:$E$20,2,FALSE),\"\")","v":""}]
["2025-11-10","(月)",{"$f":"IFERROR(VLOOKUP(A225,テーブル1[],2,FALSE),\"\")&IFERROR(VLOOKUP(A225,祝日など!$D$2:$E$20,2,FALSE),\"\")","v":""}]
["2025-11-11","(火)",{"$f":"IFERROR(VLOOKUP(A226,テーブル1[],2,FALSE),\"\")&IFERROR(VLOOKUP(A226,祝日など!$D$2:$E$20,2,FALSE),\"\")","v":""},null,"PRDセミナー\n(安東・DAS･DUTTA)",null,null,null,"超高圧セミナー\n（井上・川添・高市）"]
["2025-11-12","(水)",{"$f":"IFERROR(VLOOKUP(A227,テーブル1[],2,FALSE),\"\")&IFERROR(VLOOKUP(A227,祝日など!$D$2:$E$20,2,FALSE),\"\")","v":""},null,null,null,"地球惑星物質学セミナー\n（安東・DAS・大川）"]
["2025-11-13","(木)",{"$f":"IFERROR(VLOOKUP(A228,テーブル1[],2,FALSE),\"\")&IFERROR(VLOOKUP(A228,祝日など!$D$2:$E$20,2,FALSE),\"\")","v":""},"地球史\n(DAS･白石･柴田･DUTTA 他)","地球史\n(DAS･白石･柴田･DUTTA 他)"]
["2025-11-14","(金)",{"$f":"IFERROR(VLOOKUP(A229,テーブル1[],2,FALSE),\"\")&IFERROR(VLOOKUP(A229,祝日など!$D$2:$E$20,2,FALSE),\"\")","v":""}]
["2025-11-15","(土)",{"$f":"IFERROR(VLOOKUP(A230,テーブル1[],2,FALSE),\"\")&IFERROR(VLOOKUP(A230,祝日など!$D$2:$E$20,2,FALSE),\"\")","v":""}]
["2025-11-16","(日)",{"$f":"IFERROR(VLOOKUP(A231,テーブル1[],2,FALSE),\"\")&IFERROR(VLOOKUP(A231,祝日など!$D$2:$E$20,2,FALSE),\"\")","v":""}]
["2025-11-17","(月)",{"$f":"IFERROR(VLOOKUP(A232,テーブル1[],2,FALSE),\"\")&IFERROR(VLOOKUP(A232,祝日など!$D$2:$E$20,2,FALSE),\"\")","v":""}]
["2025-11-18","(火)",{"$f":"IFERROR(VLOOKUP(A233,テーブル1[],2,FALSE),\"\")&IFERROR(VLOOKUP(A233,祝日など!$D$2:$E$20,2,FALSE),\"\")","v":""},null,"PRDセミナー\n(安東・DAS･DUTTA)",null,null,null,"超高圧セミナー\n（井上・川添・高市）"]
["2025-11-19","(水)",{"$f":"IFERROR(VLOOKUP(A234,テーブル1[],2,FALSE),\"\")&IFERROR(VLOOKUP(A234,祝日など!$D$2:$E$20,2,FALSE),\"\")","v":""},null,null,null,"地球惑星物質学セミナー\n（安東・DAS・大川）"]
["2025-11-20","(木)",{"$f":"IFERROR(VLOOKUP(A235,テーブル1[],2,FALSE),\"\")&IFERROR(VLOOKUP(A235,祝日など!$D$2:$E$20,2,FALSE),\"\")","v":""},"地球史\n(DAS･白石･柴田･DUTTA 他)","地球史\n(DAS･白石･柴田･DUTTA 他)"]
["2025-11-21","(金)",{"$f":"IFERROR(VLOOKUP(A236,テーブル1[],2,FALSE),\"\")&IFERROR(VLOOKUP(A236,祝日など!$D$2:$E$20,2,FALSE),\"\")","v":""}]
["2025-11-22","(土)",{"$f":"IFERROR(VLOOKUP(A237,テーブル1[],2,FALSE),\"\")&IFERROR(VLOOKUP(A237,祝日など!$D$2:$E$20,2,FALSE),\"\")","v":""}]
["2025-11-23","(日)",{"$f":"IFERROR(VLOOKUP(A238,テーブル1[],2,FALSE),\"\")&IFERROR(VLOOKUP(A238,祝日など!$D$2:$E$20,2,FALSE),\"\")","v":"勤労感謝の日"}]
["2025-11-24","(月)",{"$f":"IFERROR(VLOOKUP(A239,テーブル1[],2,FALSE),\"\")&IFERROR(VLOOKUP(A239,祝日など!$D$2:$E$20,2,FALSE),\"\")","v":"振替休日"}]
["2025-11-25","(火)",{"$f":"IFERROR(VLOOKUP(A240,テーブル1[],2,FALSE),\"\")&IFERROR(VLOOKUP(A240,祝日など!$D$2:$E$20,2,FALSE),\"\")","v":""},null,"PRDセミナー\n(安東・DAS･DUTTA)",null,null,null,"超高圧セミナー\n（井上・川添・高市）"]
["2025-11-26","(水)",{"$f":"IFERROR(VLOOKUP(A241,テーブル1[],2,FALSE),\"\")&IFERROR(VLOOKUP(A241,祝日など!$D$2:$E$20,2,FALSE),\"\")","v":""},null,null,null,"地球惑星物質学セミナー\n（安東・DAS・大川）"]
["2025-11-27","(木)",{"$f":"IFERROR(VLOOKUP(A242,テーブル1[],2,FALSE),\"\")&IFERROR(VLOOKUP(A242,祝日など!$D$2:$E$20,2,FALSE),\"\")","v":""},"地球史\n(DAS･白石･柴田･DUTTA 他)","地球史\n(DAS･白石･柴田･DUTTA 他)"]
["2025-11-28","(金)",{"$f":"IFERROR(VLOOKUP(A243,テーブル1[],2,FALSE),\"\")&IFERROR(VLOOKUP(A243,祝日など!$D$2:$E$20,2,FALSE),\"\")","v":""}]
["2025-11-29","(土)",{"$f":"IFERROR(VLOOKUP(A244,テーブル1[],2,FALSE),\"\")&IFERROR(VLOOKUP(A244,祝日など!$D$2:$E$20,2,FALSE),\"\")","v":""}]
["2025-11-30","(日)",{"$f":"IFERROR(VLOOKUP(A245,テーブル1[],2,FALSE),\"\")&IFERROR(VLOOKUP(A245,祝日など!$D$2:$E$20,2,FALSE),\"\")","v":""}]
["2025-12-01","(月)",{"$f":"IFERROR(VLOOKUP(A246,テーブル1[],2,FALSE),\"\")&IFERROR(VLOOKUP(A246,祝日など!$D$2:$E$20,2,FALSE),\"\")","v":""}]
["2025-12-02","(火)",{"$f":"IFERROR(VLOOKUP(A247,テーブル1[],2,FALSE),\"\")&IFERROR(VLOOKUP(A247,祝日など!$D$2:$E$20,2,FALSE),\"\")","v":"第4ターム開始"},null,"PRDセミナー\n(安東・DAS･DUTTA)",null,"岩石学演習（岡崎）","岩石学演習（岡崎）","超高圧セミナー\n（井上・川添・高市）"]
["2025-12-03","(水)",{"$f":"IFERROR(VLOOKUP(A248,テーブル1[],2,FALSE),\"\")&IFERROR(VLOOKUP(A248,祝日など!$D$2:$E$20,2,FALSE),\"\")","v":""},null,null,null,"地球惑星物質学セミナー\n（安東・DAS・大川）"]
["2025-12-04","(木)",{"$f":"IFERROR(VLOOKUP(A249,テーブル1[],2,FALSE),\"\")&IFERROR(VLOOKUP(A249,祝日など!$D$2:$E$20,2,FALSE),\"\")","v":""}]
["2025-12-05","(金)",{"$f":"IFERROR(VLOOKUP(A250,テーブル1[],2,FALSE),\"\")&IFERROR(VLOOKUP(A250,祝日など!$D$2:$E$20,2,FALSE),\"\")","v":""}]
["2025-12-06","(土)",{"$f":"IFERROR(VLOOKUP(A251,テーブル1[],2,FALSE),\"\")&IFERROR(VLOOKUP(A251,祝日など!$D$2:$E$20,2,FALSE),\"\")","v":""}]
["2025-12-07","(日)",{"$f":"IFERROR(VLOOKUP(A252,テーブル1[],2,FALSE),\"\")&IFERROR(VLOOKUP(A252,祝日など!$D$2:$E$20,2,FALSE),\"\")","v":""}]
["2025-12-08","(月)",{"$f":"IFERROR(VLOOKUP(A253,テーブル1[],2,FALSE),\"\")&IFERROR(VLOOKUP(A253,祝日など!$D$2:$E$20,2,FALSE),\"\")","v":""},null,null,null,null,"超高圧セミナー\n（井上・川添・高市）"]
["2025-12-09","(火)",{"$f":"IFERROR(VLOOKUP(A254,テーブル1[],2,FALSE),\"\")&IFERROR(VLOOKUP(A254,祝日など!$D$2:$E$20,2,FALSE),\"\")","v":""},null,"PRDセミナー\n(安東・DAS･DUTTA)",null,"岩石学演習（岡崎）","岩石学演習（岡崎）"]
["2025-12-10","(水)",{"$f":"IFERROR(VLOOKUP(A255,テーブル1[],2,FALSE),\"\")&IFERROR(VLOOKUP(A255,祝日など!$D$2:$E$20,2,FALSE),\"\")","v":""},null,null,null,"地球惑星物質学セミナー\n（安東・DAS・大川）"]
["2025-12-11","(木)",{"$f":"IFERROR(VLOOKUP(A256,テーブル1[],2,FALSE),\"\")&IFERROR(VLOOKUP(A256,祝日など!$D$2:$E$20,2,FALSE),\"\")","v":""}]
["2025-12-12","(金)",{"$f":"IFERROR(VLOOKUP(A257,テーブル1[],2,FALSE),\"\")&IFERROR(VLOOKUP(A257,祝日など!$D$2:$E$20,2,FALSE),\"\")","v":""}]
["2025-12-13","(土)",{"$f":"IFERROR(VLOOKUP(A258,テーブル1[],2,FALSE),\"\")&IFERROR(VLOOKUP(A258,祝日など!$D$2:$E$20,2,FALSE),\"\")","v":""}]
["2025-12-14","(日)",{"$f":"IFERROR(VLOOKUP(A259,テーブル1[],2,FALSE),\"\")&IFERROR(VLOOKUP(A259,祝日など!$D$2:$E$20,2,FALSE),\"\")","v":""}]
["2025-12-15","(月)",{"$f":"IFERROR(VLOOKUP(A260,テーブル1[],2,FALSE),\"\")&IFERROR(VLOOKUP(A260,祝日など!$D$2:$E$20,2,FALSE),\"\")","v":""},null,null,null,null,"超高圧セミナー\n（井上・川添・高市）"]
["2025-12-16","(火)",{"$f":"IFERROR(VLOOKUP(A261,テーブル1[],2,FALSE),\"\")&IFERROR(VLOOKUP(A261,祝日など!$D$2:$E$20,2,FALSE),\"\")","v":""},null,"PRDセミナー\n(安東・DAS･DUTTA)",null,"岩石学演習（岡崎）","岩石学演習（岡崎）"]
["2025-12-17","(水)",{"$f":"IFERROR(VLOOKUP(A262,テーブル1[],2,FALSE),\"\")&IFERROR(VLOOKUP(A262,祝日など!$D$2:$E$20,2,FALSE),\"\")","v":""},null,null,null,"地球惑星物質学セミナー\n（安東・DAS・大川）"]
["2025-12-18","(木)",{"$f":"IFERROR(VLOOKUP(A263,テーブル1[],2,FALSE),\"\")&IFERROR(VLOOKUP(A263,祝日など!$D$2:$E$20,2,FALSE),\"\")","v":""}]
["2025-12-19","(金)",{"$f":"IFERROR(VLOOKUP(A264,テーブル1[],2,FALSE),\"\")&IFERROR(VLOOKUP(A264,祝日など!$D$2:$E$20,2,FALSE),\"\")","v":""}]
["2025-12-20","(土)",{"$f":"IFERROR(VLOOKUP(A265,テーブル1[],2,FALSE),\"\")&IFERROR(VLOOKUP(A265,祝日など!$D$2:$E$20,2,FALSE),\"\")","v":""},"改修用停電","改修用停電","停電","改修用停電","改修用停電","改修用停電"]
["2025-12-21","(日)",{"$f":"IFERROR(VLOOKUP(A266,テーブル1[],2,FALSE),\"\")&IFERROR(VLOOKUP(A266,祝日など!$D$2:$E$20,2,FALSE),\"\")","v":""},"改修用停電","改修用停電","停電","改修用停電","改修用停電","改修用停電"]
["2025-12-22","(月)",{"$f":"IFERROR(VLOOKUP(A267,テーブル1[],2,FALSE),\"\")&IFERROR(VLOOKUP(A267,祝日など!$D$2:$E$20,2,FALSE),\"\")","v":""},null,null,null,null,"超高圧セミナー\n（井上・川添・高市）"]
["2025-12-23","(火)",{"$f":"IFERROR(VLOOKUP(A268,テーブル1[],2,FALSE),\"\")&IFERROR(VLOOKUP(A268,祝日など!$D$2:$E$20,2,FALSE),\"\")","v":""},null,"PRDセミナー\n(安東・DAS･DUTTA)",null,"岩石学演習（岡崎）","岩石学演習（岡崎）"]
["2025-12-24","(水)",{"$f":"IFERROR(VLOOKUP(A269,テーブル1[],2,FALSE),\"\")&IFERROR(VLOOKUP(A269,祝日など!$D$2:$E$20,2,FALSE),\"\")","v":""},null,null,null,"地球惑星物質学セミナー\n（安東・DAS・大川）"]
["2025-12-25","(木)",{"$f":"IFERROR(VLOOKUP(A270,テーブル1[],2,FALSE),\"\")&IFERROR(VLOOKUP(A270,祝日など!$D$2:$E$20,2,FALSE),\"\")","v":"振替授業(金)"}]
["2025-12-26","(金)",{"$f":"IFERROR(VLOOKUP(A271,テーブル1[],2,FALSE),\"\")&IFERROR(VLOOKUP(A271,祝日など!$D$2:$E$20,2,FALSE),\"\")","v":""}]
["2025-12-27","(土)",{"$f":"IFERROR(VLOOKUP(A272,テーブル1[],2,FALSE),\"\")&IFERROR(VLOOKUP(A272,祝日など!$D$2:$E$20,2,FALSE),\"\")","v":""}]
["2025-12-28","(日)",{"$f":"IFERROR(VLOOKUP(A273,テーブル1[],2,FALSE),\"\")&IFERROR(VLOOKUP(A273,祝日など!$D$2:$E$20,2,FALSE),\"\")","v":""}]
["2025-12-29","(月)",{"$f":"IFERROR(VLOOKUP(A274,テーブル1[],2,FALSE),\"\")&IFERROR(VLOOKUP(A274,祝日など!$D$2:$E$20,2,FALSE),\"\")","v":"冬季休業"}]
["2025-12-30","(火)",{"$f":"IFERROR(VLOOKUP(A275,テーブル1[],2,FALSE),\"\")&IFERROR(VLOOKUP(A275,祝日など!$D$2:$E$20,2,FALSE),\"\")","v":"冬季休業"}]
["2025-12-31","(水)",{"$f":"IFERROR(VLOOKUP(A276,テーブル1[],2,FALSE),\"\")&IFERROR(VLOOKUP(A276,祝日など!$D$2:$E$20,2,FALSE),\"\")","v":"冬季休業"}]
["2026-01-01","(木)",{"$f":"IFERROR(VLOOKUP(A277,テーブル1[],2,FALSE),\"\")&IFERROR(VLOOKUP(A277,祝日など!$D$2:$E$20,2,FALSE),\"\")","v":"元日"}]
["2026-01-02","(金)",{"$f":"IFERROR(VLOOKUP(A278,テーブル1[],2,FALSE),\"\")&IFERROR(VLOOKUP(A278,祝日など!$D$2:$E$20,2,FALSE),\"\")","v":"休日"}]
["2026-01-03","(土)",{"$f":"IFERROR(VLOOKUP(A279,テーブル1[],2,FALSE),\"\")&IFERROR(VLOOKUP(A279,祝日など!$D$2:$E$20,2,FALSE),\"\")","v":"休日"}]
["2026-01-04","(日)",{"$f":"IFERROR(VLOOKUP(A280,テーブル1[],2,FALSE),\"\")&IFERROR(VLOOKUP(A280,祝日など!$D$2:$E$20,2,FALSE),\"\")","v":""}]
["2026-01-05","(月)",{"$f":"IFERROR(VLOOKUP(A281,テーブル1[],2,FALSE),\"\")&IFERROR(VLOOKUP(A281,祝日など!$D$2:$E$20,2,FALSE),\"\")","v":""}]
["2026-01-06","(火)",{"$f":"IFERROR(VLOOKUP(A282,テーブル1[],2,FALSE),\"\")&IFERROR(VLOOKUP(A282,祝日など!$D$2:$E$20,2,FALSE),\"\")","v":"振替授業(月)"},null,null,null,null,"超高圧セミナー\n（井上・川添・高市）"]
["2026-01-07","(水)",{"$f":"IFERROR(VLOOKUP(A283,テーブル1[],2,FALSE),\"\")&IFERROR(VLOOKUP(A283,祝日など!$D$2:$E$20,2,FALSE),\"\")","v":""},null,null,null,"地球惑星物質学セミナー\n（安東・DAS・大川）"]
["2026-01-08","(木)",{"$f":"IFERROR(VLOOKUP(A284,テーブル1[],2,FALSE),\"\")&IFERROR(VLOOKUP(A284,祝日など!$D$2:$E$20,2,FALSE),\"\")","v":""}]
["2026-01-09","(金)",{"$f":"IFERROR(VLOOKUP(A285,テーブル1[],2,FALSE),\"\")&IFERROR(VLOOKUP(A285,祝日など!$D$2:$E$20,2,FALSE),\"\")","v":""}]
["2026-01-10","(土)",{"$f":"IFERROR(VLOOKUP(A286,テーブル1[],2,FALSE),\"\")&IFERROR(VLOOKUP(A286,祝日など!$D$2:$E$20,2,FALSE),\"\")","v":""}]
["2026-01-11","(日)",{"$f":"IFERROR(VLOOKUP(A287,テーブル1[],2,FALSE),\"\")&IFERROR(VLOOKUP(A287,祝日など!$D$2:$E$20,2,FALSE),\"\")","v":""}]
["2026-01-12","(月)",{"$f":"IFERROR(VLOOKUP(A288,テーブル1[],2,FALSE),\"\")&IFERROR(VLOOKUP(A288,祝日など!$D$2:$E$20,2,FALSE),\"\")","v":"成人の日"}]
["2026-01-13","(火)",{"$f":"IFERROR(VLOOKUP(A289,テーブル1[],2,FALSE),\"\")&IFERROR(VLOOKUP(A289,祝日など!$D$2:$E$20,2,FALSE),\"\")","v":""},null,"PRDセミナー\n(安東・DAS･DUTTA)",null,"岩石学演習（岡崎）","岩石学演習（岡崎）"]
["2026-01-14","(水)",{"$f":"IFERROR(VLOOKUP(A290,テーブル1[],2,FALSE),\"\")&IFERROR(VLOOKUP(A290,祝日など!$D$2:$E$20,2,FALSE),\"\")","v":"振替授業(月)"},null,null,null,null,"超高圧セミナー\n（井上・川添・高市）"]
["2026-01-15","(木)",{"$f":"IFERROR(VLOOKUP(A291,テーブル1[],2,FALSE),\"\")&IFERROR(VLOOKUP(A291,祝日など!$D$2:$E$20,2,FALSE),\"\")","v":""}]
["2026-01-16","(金)",{"$f":"IFERROR(VLOOKUP(A292,テーブル1[],2,FALSE),\"\")&IFERROR(VLOOKUP(A292,祝日など!$D$2:$E$20,2,FALSE),\"\")","v":""},"薮田研セミナー","地球外物質\n学生セミナー"]
["2026-01-17","(土)",{"$f":"IFERROR(VLOOKUP(A293,テーブル1[],2,FALSE),\"\")&IFERROR(VLOOKUP(A293,祝日など!$D$2:$E$20,2,FALSE),\"\")","v":"大学入学\n共通テスト"}]
["2026-01-18","(日)",{"$f":"IFERROR(VLOOKUP(A294,テーブル1[],2,FALSE),\"\")&IFERROR(VLOOKUP(A294,祝日など!$D$2:$E$20,2,FALSE),\"\")","v":"大学入学\n共通テスト"}]
["2026-01-19","(月)",{"$f":"IFERROR(VLOOKUP(A295,テーブル1[],2,FALSE),\"\")&IFERROR(VLOOKUP(A295,祝日など!$D$2:$E$20,2,FALSE),\"\")","v":""},null,null,null,null,"超高圧セミナー\n（井上・川添・高市）"]
["2026-01-20","(火)",{"$f":"IFERROR(VLOOKUP(A296,テーブル1[],2,FALSE),\"\")&IFERROR(VLOOKUP(A296,祝日など!$D$2:$E$20,2,FALSE),\"\")","v":""},null,"PRDセミナー\n(安東・DAS･DUTTA)",null,"岩石学演習（岡崎）","岩石学演習（岡崎）"]
["2026-01-21","(水)",{"$f":"IFERROR(VLOOKUP(A297,テーブル1[],2,FALSE),\"\")&IFERROR(VLOOKUP(A297,祝日など!$D$2:$E$20,2,FALSE),\"\")","v":""},null,null,null,"地球惑星物質学セミナー\n（安東・DAS・大川）"]
["2026-01-22","(木)",{"$f":"IFERROR(VLOOKUP(A298,テーブル1[],2,FALSE),\"\")&IFERROR(VLOOKUP(A298,祝日など!$D$2:$E$20,2,FALSE),\"\")","v":""}]
["2026-01-23","(金)",{"$f":"IFERROR(VLOOKUP(A299,テーブル1[],2,FALSE),\"\")&IFERROR(VLOOKUP(A299,祝日など!$D$2:$E$20,2,FALSE),\"\")","v":""}]
["2026-01-24","(土)",{"$f":"IFERROR(VLOOKUP(A300,テーブル1[],2,FALSE),\"\")&IFERROR(VLOOKUP(A300,祝日など!$D$2:$E$20,2,FALSE),\"\")","v":""}]
["2026-01-25","(日)",{"$f":"IFERROR(VLOOKUP(A301,テーブル1[],2,FALSE),\"\")&IFERROR(VLOOKUP(A301,祝日など!$D$2:$E$20,2,FALSE),\"\")","v":""}]
["2026-01-26","(月)",{"$f":"IFERROR(VLOOKUP(A302,テーブル1[],2,FALSE),\"\")&IFERROR(VLOOKUP(A302,祝日など!$D$2:$E$20,2,FALSE),\"\")","v":""},null,null,null,null,"超高圧セミナー\n（井上・川添・高市）"]
["2026-01-27","(火)",{"$f":"IFERROR(VLOOKUP(A303,テーブル1[],2,FALSE),\"\")&IFERROR(VLOOKUP(A303,祝日など!$D$2:$E$20,2,FALSE),\"\")","v":""},null,"PRDセミナー\n(安東・DAS･DUTTA)",null,"岩石学演習（岡崎）","岩石学演習（岡崎）"]
["2026-01-28","(水)",{"$f":"IFERROR(VLOOKUP(A304,テーブル1[],2,FALSE),\"\")&IFERROR(VLOOKUP(A304,祝日など!$D$2:$E$20,2,FALSE),\"\")","v":""},null,null,null,"地球惑星物質学セミナー\n（安東・DAS・大川）"]
["2026-01-29","(木)",{"$f":"IFERROR(VLOOKUP(A305,テーブル1[],2,FALSE),\"\")&IFERROR(VLOOKUP(A305,祝日など!$D$2:$E$20,2,FALSE),\"\")","v":""}]
["2026-01-30","(金)",{"$f":"IFERROR(VLOOKUP(A306,テーブル1[],2,FALSE),\"\")&IFERROR(VLOOKUP(A306,祝日など!$D$2:$E$20,2,FALSE),\"\")","v":""},null,null,null,null,"教員会","教員会"]
["2026-01-31","(土)",{"$f":"IFERROR(VLOOKUP(A307,テーブル1[],2,FALSE),\"\")&IFERROR(VLOOKUP(A307,祝日など!$D$2:$E$20,2,FALSE),\"\")","v":""}]
["2026-02-01","(日)",{"$f":"IFERROR(VLOOKUP(A308,テーブル1[],2,FALSE),\"\")&IFERROR(VLOOKUP(A308,祝日など!$D$2:$E$20,2,FALSE),\"\")","v":""}]
["2026-02-02","(月)",{"$f":"IFERROR(VLOOKUP(A309,テーブル1[],2,FALSE),\"\")&IFERROR(VLOOKUP(A309,祝日など!$D$2:$E$20,2,FALSE),\"\")","v":""},null,null,null,null,"超高圧セミナー\n（井上・川添・高市）"]
["2026-02-03","(火)",{"$f":"IFERROR(VLOOKUP(A310,テーブル1[],2,FALSE),\"\")&IFERROR(VLOOKUP(A310,祝日など!$D$2:$E$20,2,FALSE),\"\")","v":""},null,"PRDセミナー\n(安東・DAS･DUTTA)",null,"岩石学演習（岡崎）","岩石学演習（岡崎）"]
["2026-02-04","(水)",{"$f":"IFERROR(VLOOKUP(A311,テーブル1[],2,FALSE),\"\")&IFERROR(VLOOKUP(A311,祝日など!$D$2:$E$20,2,FALSE),\"\")","v":""},null,null,null,"地球惑星物質学セミナー\n（安東・DAS・大川）"]
["2026-02-05","(木)",{"$f":"IFERROR(VLOOKUP(A312,テーブル1[],2,FALSE),\"\")&IFERROR(VLOOKUP(A312,祝日など!$D$2:$E$20,2,FALSE),\"\")","v":""}]
["2026-02-06","(金)",{"$f":"IFERROR(VLOOKUP(A313,テーブル1[],2,FALSE),\"\")&IFERROR(VLOOKUP(A313,祝日など!$D$2:$E$20,2,FALSE),\"\")","v":""}]
["2026-02-07","(土)",{"$f":"IFERROR(VLOOKUP(A314,テーブル1[],2,FALSE),\"\")&IFERROR(VLOOKUP(A314,祝日など!$D$2:$E$20,2,FALSE),\"\")","v":""}]
["2026-02-08","(日)",{"$f":"IFERROR(VLOOKUP(A315,テーブル1[],2,FALSE),\"\")&IFERROR(VLOOKUP(A315,祝日など!$D$2:$E$20,2,FALSE),\"\")","v":""}]
["2026-02-09","(月)",{"$f":"IFERROR(VLOOKUP(A316,テーブル1[],2,FALSE),\"\")&IFERROR(VLOOKUP(A316,祝日など!$D$2:$E$20,2,FALSE),\"\")","v":"春季休暇開始"},null,null,null,"超高圧セミナー\n（井上・川添・高市）","超高圧セミナー\n（井上・川添・高市）"]
["2026-02-10","(火)",{"$f":"IFERROR(VLOOKUP(A317,テーブル1[],2,FALSE),\"\")&IFERROR(VLOOKUP(A317,祝日など!$D$2:$E$20,2,FALSE),\"\")","v":""}]
["2026-02-11","(水)",{"$f":"IFERROR(VLOOKUP(A318,テーブル1[],2,FALSE),\"\")&IFERROR(VLOOKUP(A318,祝日など!$D$2:$E$20,2,FALSE),\"\")","v":"建国記念の日"}]
["2026-02-12","(木)",{"$f":"IFERROR(VLOOKUP(A319,テーブル1[],2,FALSE),\"\")&IFERROR(VLOOKUP(A319,祝日など!$D$2:$E$20,2,FALSE),\"\")","v":""}]
["2026-02-13","(金)",{"$f":"IFERROR(VLOOKUP(A320,テーブル1[],2,FALSE),\"\")&IFERROR(VLOOKUP(A320,祝日など!$D$2:$E$20,2,FALSE),\"\")","v":""}]
["2026-02-14","(土)",{"$f":"IFERROR(VLOOKUP(A321,テーブル1[],2,FALSE),\"\")&IFERROR(VLOOKUP(A321,祝日など!$D$2:$E$20,2,FALSE),\"\")","v":""}]
["2026-02-15","(日)",{"$f":"IFERROR(VLOOKUP(A322,テーブル1[],2,FALSE),\"\")&IFERROR(VLOOKUP(A322,祝日など!$D$2:$E$20,2,FALSE),\"\")","v":""}]
["2026-02-16","(月)",{"$f":"IFERROR(VLOOKUP(A323,テーブル1[],2,FALSE),\"\")&IFERROR(VLOOKUP(A323,祝日など!$D$2:$E$20,2,FALSE),\"\")","v":""}]
["2026-02-17","(火)",{"$f":"IFERROR(VLOOKUP(A324,テーブル1[],2,FALSE),\"\")&IFERROR(VLOOKUP(A324,祝日など!$D$2:$E$20,2,FALSE),\"\")","v":""}]
["2026-02-18","(水)",{"$f":"IFERROR(VLOOKUP(A325,テーブル1[],2,FALSE),\"\")&IFERROR(VLOOKUP(A325,祝日など!$D$2:$E$20,2,FALSE),\"\")","v":""}]
["2026-02-19","(木)",{"$f":"IFERROR(VLOOKUP(A326,テーブル1[],2,FALSE),\"\")&IFERROR(VLOOKUP(A326,祝日など!$D$2:$E$20,2,FALSE),\"\")","v":""}]
["2026-02-20","(金)",{"$f":"IFERROR(VLOOKUP(A327,テーブル1[],2,FALSE),\"\")&IFERROR(VLOOKUP(A327,祝日など!$D$2:$E$20,2,FALSE),\"\")","v":""}]
["2026-02-21","(土)",{"$f":"IFERROR(VLOOKUP(A328,テーブル1[],2,FALSE),\"\")&IFERROR(VLOOKUP(A328,祝日など!$D$2:$E$20,2,FALSE),\"\")","v":""},"改修用停電","改修用停電","停電","改修用停電","改修用停電","改修用停電"]
["2026-02-22","(日)",{"$f":"IFERROR(VLOOKUP(A329,テーブル1[],2,FALSE),\"\")&IFERROR(VLOOKUP(A329,祝日など!$D$2:$E$20,2,FALSE),\"\")","v":""},"改修用停電","改修用停電","停電","改修用停電","改修用停電","改修用停電"]
["2026-02-23","(月)",{"$f":"IFERROR(VLOOKUP(A330,テーブル1[],2,FALSE),\"\")&IFERROR(VLOOKUP(A330,祝日など!$D$2:$E$20,2,FALSE),\"\")","v":"天皇誕生日"}]
["2026-02-24","(火)",{"$f":"IFERROR(VLOOKUP(A331,テーブル1[],2,FALSE),\"\")&IFERROR(VLOOKUP(A331,祝日など!$D$2:$E$20,2,FALSE),\"\")","v":""}]
["2026-02-25","(水)",{"$f":"IFERROR(VLOOKUP(A332,テーブル1[],2,FALSE),\"\")&IFERROR(VLOOKUP(A332,祝日など!$D$2:$E$20,2,FALSE),\"\")","v":""}]
["2026-02-26","(木)",{"$f":"IFERROR(VLOOKUP(A333,テーブル1[],2,FALSE),\"\")&IFERROR(VLOOKUP(A333,祝日など!$D$2:$E$20,2,FALSE),\"\")","v":""}]
["2026-02-27","(金)",{"$f":"IFERROR(VLOOKUP(A334,テーブル1[],2,FALSE),\"\")&IFERROR(VLOOKUP(A334,祝日など!$D$2:$E$20,2,FALSE),\"\")","v":""}]
["2026-02-28","(土)",{"$f":"IFERROR(VLOOKUP(A335,テーブル1[],2,FALSE),\"\")&IFERROR(VLOOKUP(A335,祝日など!$D$2:$E$20,2,FALSE),\"\")","v":""}]
["2026-03-01","(日)",{"$f":"IFERROR(VLOOKUP(A336,テーブル1[],2,FALSE),\"\")&IFERROR(VLOOKUP(A336,祝日など!$D$2:$E$20,2,FALSE),\"\")","v":""}]
["2026-03-02","(月)",{"$f":"IFERROR(VLOOKUP(A337,テーブル1[],2,FALSE),\"\")&IFERROR(VLOOKUP(A337,祝日など!$D$2:$E$20,2,FALSE),\"\")","v":""}]
["2026-03-03","(火)",{"$f":"IFERROR(VLOOKUP(A338,テーブル1[],2,FALSE),\"\")&IFERROR(VLOOKUP(A338,祝日など!$D$2:$E$20,2,FALSE),\"\")","v":""}]
["2026-03-04","(水)",{"$f":"IFERROR(VLOOKUP(A339,テーブル1[],2,FALSE),\"\")&IFERROR(VLOOKUP(A339,祝日など!$D$2:$E$20,2,FALSE),\"\")","v":""}]
["2026-03-05","(木)",{"$f":"IFERROR(VLOOKUP(A340,テーブル1[],2,FALSE),\"\")&IFERROR(VLOOKUP(A340,祝日など!$D$2:$E$20,2,FALSE),\"\")","v":""},"顕微鏡点検","顕微鏡点検","点検","顕微鏡点検","顕微鏡点検","顕微鏡点検"]
["2026-03-06","(金)",{"$f":"IFERROR(VLOOKUP(A341,テーブル1[],2,FALSE),\"\")&IFERROR(VLOOKUP(A341,祝日など!$D$2:$E$20,2,FALSE),\"\")","v":""}]
["2026-03-07","(土)",{"$f":"IFERROR(VLOOKUP(A342,テーブル1[],2,FALSE),\"\")&IFERROR(VLOOKUP(A342,祝日など!$D$2:$E$20,2,FALSE),\"\")","v":""}]
["2026-03-08","(日)",{"$f":"IFERROR(VLOOKUP(A343,テーブル1[],2,FALSE),\"\")&IFERROR(VLOOKUP(A343,祝日など!$D$2:$E$20,2,FALSE),\"\")","v":""}]
["2026-03-09","(月)",{"$f":"IFERROR(VLOOKUP(A344,テーブル1[],2,FALSE),\"\")&IFERROR(VLOOKUP(A344,祝日など!$D$2:$E$20,2,FALSE),\"\")","v":""}]
["2026-03-10","(火)",{"$f":"IFERROR(VLOOKUP(A345,テーブル1[],2,FALSE),\"\")&IFERROR(VLOOKUP(A345,祝日など!$D$2:$E$20,2,FALSE),\"\")","v":""}]
["2026-03-11","(水)",{"$f":"IFERROR(VLOOKUP(A346,テーブル1[],2,FALSE),\"\")&IFERROR(VLOOKUP(A346,祝日など!$D$2:$E$20,2,FALSE),\"\")","v":""}]
["2026-03-12","(木)",{"$f":"IFERROR(VLOOKUP(A347,テーブル1[],2,FALSE),\"\")&IFERROR(VLOOKUP(A347,祝日など!$D$2:$E$20,2,FALSE),\"\")","v":""},"後期試験","後期試験","後期試験","後期試験","後期試験","後期試験"]
["2026-03-13","(金)",{"$f":"IFERROR(VLOOKUP(A348,テーブル1[],2,FALSE),\"\")&IFERROR(VLOOKUP(A348,祝日など!$D$2:$E$20,2,FALSE),\"\")","v":""}]
["2026-03-14","(土)",{"$f":"IFERROR(VLOOKUP(A349,テーブル1[],2,FALSE),\"\")&IFERROR(VLOOKUP(A349,祝日など!$D$2:$E$20,2,FALSE),\"\")","v":""}]
["2026-03-15","(日)",{"$f":"IFERROR(VLOOKUP(A350,テーブル1[],2,FALSE),\"\")&IFERROR(VLOOKUP(A350,祝日など!$D$2:$E$20,2,FALSE),\"\")","v":""}]
["2026-03-16","(月)",{"$f":"IFERROR(VLOOKUP(A351,テーブル1[],2,FALSE),\"\")&IFERROR(VLOOKUP(A351,祝日など!$D$2:$E$20,2,FALSE),\"\")","v":""}]
["2026-03-17","(火)",{"$f":"IFERROR(VLOOKUP(A352,テーブル1[],2,FALSE),\"\")&IFERROR(VLOOKUP(A352,祝日など!$D$2:$E$20,2,FALSE),\"\")","v":""}]
["2026-03-18","(水)",{"$f":"IFERROR(VLOOKUP(A353,テーブル1[],2,FALSE),\"\")&IFERROR(VLOOKUP(A353,祝日など!$D$2:$E$20,2,FALSE),\"\")","v":""}]
["2026-03-19","(木)",{"$f":"IFERROR(VLOOKUP(A354,テーブル1[],2,FALSE),\"\")&IFERROR(VLOOKUP(A354,祝日など!$D$2:$E$20,2,FALSE),\"\")","v":""}]
["2026-03-20","(金)",{"$f":"IFERROR(VLOOKUP(A355,テーブル1[],2,FALSE),\"\")&IFERROR(VLOOKUP(A355,祝日など!$D$2:$E$20,2,FALSE),\"\")","v":"春分の日"}]
["2026-03-21","(土)",{"$f":"IFERROR(VLOOKUP(A356,テーブル1[],2,FALSE),\"\")&IFERROR(VLOOKUP(A356,祝日など!$D$2:$E$20,2,FALSE),\"\")","v":""}]
["2026-03-22","(日)",{"$f":"IFERROR(VLOOKUP(A357,テーブル1[],2,FALSE),\"\")&IFERROR(VLOOKUP(A357,祝日など!$D$2:$E$20,2,FALSE),\"\")","v":""}]
["2026-03-23","(月)",{"$f":"IFERROR(VLOOKUP(A358,テーブル1[],2,FALSE),\"\")&IFERROR(VLOOKUP(A358,祝日など!$D$2:$E$20,2,FALSE),\"\")","v":""}]
["2026-03-24","(火)",{"$f":"IFERROR(VLOOKUP(A359,テーブル1[],2,FALSE),\"\")&IFERROR(VLOOKUP(A359,祝日など!$D$2:$E$20,2,FALSE),\"\")","v":""}]
["2026-03-25","(水)",{"$f":"IFERROR(VLOOKUP(A360,テーブル1[],2,FALSE),\"\")&IFERROR(VLOOKUP(A360,祝日など!$D$2:$E$20,2,FALSE),\"\")","v":""}]
["2026-03-26","(木)",{"$f":"IFERROR(VLOOKUP(A361,テーブル1[],2,FALSE),\"\")&IFERROR(VLOOKUP(A361,祝日など!$D$2:$E$20,2,FALSE),\"\")","v":""}]
["2026-03-27","(金)",{"$f":"IFERROR(VLOOKUP(A362,テーブル1[],2,FALSE),\"\")&IFERROR(VLOOKUP(A362,祝日など!$D$2:$E$20,2,FALSE),\"\")","v":""}]
["2026-03-28","(土)",{"$f":"IFERROR(VLOOKUP(A363,テーブル1[],2,FALSE),\"\")&IFERROR(VLOOKUP(A363,祝日など!$D$2:$E$20,2,FALSE),\"\")","v":""}]
["2026-03-29","(日)",{"$f":"IFERROR(VLOOKUP(A364,テーブル1[],2,FALSE),\"\")&IFERROR(VLOOKUP(A364,祝日など!$D$2:$E$20,2,FALSE),\"\")","v":""}]
["2026-03-30","(月)",{"$f":"IFERROR(VLOOKUP(A365,テーブル1[],2,FALSE),\"\")&IFERROR(VLOOKUP(A365,祝日など!$D$2:$E$20,2,FALSE),\"\")","v":""}]
["2026-03-31",{"$f":"A366","v":46112},{"$f":"IFERROR(VLOOKUP(A366,テーブル1[],2,FALSE),\"\")&IFERROR(VLOOKUP(A366,祝日など!$D$2:$E$20,2,FALSE),\"\")","v":""}]
["2026-04-01",{"$f":"A367","v":46113},{"$f":"IFERROR(VLOOKUP(A367,テーブル1[],2,FALSE),\"\")&IFERROR(VLOOKUP(A367,祝日など!$D$2:$E$20,2,FALSE),\"\")","v":""}]
["2026-04-02",{"$f":"A368","v":46114},{"$f":"IFERROR(VLOOKUP(A368,テーブル1[],2,FALSE),\"\")&IFERROR(VLOOKUP(A368,祝日など!$D$2:$E$20,2,FALSE),\"\")","v":""}]
["2026-04-03",{"$f":"A369","v":46115},{"$f":"IFERROR(VLOOKUP(A369,テーブル1[],2,FALSE),\"\")&IFERROR(VLOOKUP(A369,祝日など!$D$2:$E$20,2,FALSE),\"\")","v":""}]
["2026-04-04",46116,{"$f":"IFERROR(VLOOKUP(A370,テーブル1[],2,FALSE),\"\")&IFERROR(VLOOKUP(A370,祝日など!$D$2:$E$20,2,FALSE),\"\")","v":""}]
["2026-04-05",46117,{"$f":"IFERROR(VLOOKUP(A371,テーブル1[],2,FALSE),\"\")&IFERROR(VLOOKUP(A371,祝日など!$D$2:$E$20,2,FALSE),\"\")","v":""}]
["2026-04-06",46118,{"$f":"IFERROR(VLOOKUP(A372,テーブル1[],2,FALSE),\"\")&IFERROR(VLOOKUP(A372,祝日など!$D$2:$E$20,2,FALSE),\"\")","v":""},null,null,null,null,null,"地球外物質系輪読会\n（小池）"]
["2026-04-07",46119,{"$f":"IFERROR(VLOOKUP(A373,テーブル1[],2,FALSE),\"\")&IFERROR(VLOOKUP(A373,祝日など!$D$2:$E$20,2,FALSE),\"\")","v":""}]
["2026-04-08",46120,{"$f":"IFERROR(VLOOKUP(A374,テーブル1[],2,FALSE),\"\")&IFERROR(VLOOKUP(A374,祝日など!$D$2:$E$20,2,FALSE),\"\")","v":""},null,null,null,null,"結晶光学演習\n（川添）","地球外物質学生\nセミナー（小池）"]
["2026-04-09",46121,{"$f":"IFERROR(VLOOKUP(A375,テーブル1[],2,FALSE),\"\")&IFERROR(VLOOKUP(A375,祝日など!$D$2:$E$20,2,FALSE),\"\")","v":""}]
["2026-04-10",46122,{"$f":"IFERROR(VLOOKUP(A376,テーブル1[],2,FALSE),\"\")&IFERROR(VLOOKUP(A376,祝日など!$D$2:$E$20,2,FALSE),\"\")","v":""}]
["2026-04-11",46123,{"$f":"IFERROR(VLOOKUP(A377,テーブル1[],2,FALSE),\"\")&IFERROR(VLOOKUP(A377,祝日など!$D$2:$E$20,2,FALSE),\"\")","v":""}]
["2026-04-12",46124,{"$f":"IFERROR(VLOOKUP(A378,テーブル1[],2,FALSE),\"\")&IFERROR(VLOOKUP(A378,祝日など!$D$2:$E$20,2,FALSE),\"\")","v":""}]
["2026-04-13",46125,{"$f":"IFERROR(VLOOKUP(A379,テーブル1[],2,FALSE),\"\")&IFERROR(VLOOKUP(A379,祝日など!$D$2:$E$20,2,FALSE),\"\")","v":""},null,null,null,"変形微細組織セミナー\n（安東・DUTTA）",null,"地球外物質系輪読会\n（小池）"]
["2026-04-14",46126,{"$f":"IFERROR(VLOOKUP(A380,テーブル1[],2,FALSE),\"\")&IFERROR(VLOOKUP(A380,祝日など!$D$2:$E$20,2,FALSE),\"\")","v":""},null,null,null,null,"結晶光学演習\n（川添）","超高圧セミナー\n（井上・川添・高市）"]
["2026-04-15",46127,{"$f":"IFERROR(VLOOKUP(A381,テーブル1[],2,FALSE),\"\")&IFERROR(VLOOKUP(A381,祝日など!$D$2:$E$20,2,FALSE),\"\")","v":""},null,null,null,null,"結晶光学演習\n（川添）"]
["2026-04-16",46128,{"$f":"IFERROR(VLOOKUP(A382,テーブル1[],2,FALSE),\"\")&IFERROR(VLOOKUP(A382,祝日など!$D$2:$E$20,2,FALSE),\"\")","v":""},null,"11時-岡﨑","岡﨑","岡﨑","14：55-15：55　清原","内物・超高圧セミナー"]
["2026-04-17",46129,{"$f":"IFERROR(VLOOKUP(A383,テーブル1[],2,FALSE),\"\")&IFERROR(VLOOKUP(A383,祝日など!$D$2:$E$20,2,FALSE),\"\")","v":""},null,null,null,null,"15：00-16：00　中川"]
["2026-04-18",{"$f":"A384","v":46130},{"$f":"IFERROR(VLOOKUP(A384,テーブル1[],2,FALSE),\"\")&IFERROR(VLOOKUP(A384,祝日など!$D$2:$E$20,2,FALSE),\"\")","v":""}]
["2026-04-19",{"$f":"A385","v":46131},{"$f":"IFERROR(VLOOKUP(A385,テーブル1[],2,FALSE),\"\")&IFERROR(VLOOKUP(A385,祝日など!$D$2:$E$20,2,FALSE),\"\")","v":""}]
["2026-04-20",{"$f":"A386","v":46132},{"$f":"IFERROR(VLOOKUP(A386,テーブル1[],2,FALSE),\"\")&IFERROR(VLOOKUP(A386,祝日など!$D$2:$E$20,2,FALSE),\"\")","v":""},null,null,null,"変形微細組織セミナー\n（安東・DUTTA）",null,"地球外物質系輪読会\n（小池）"]
["2026-04-21",{"$f":"A387","v":46133},{"$f":"IFERROR(VLOOKUP(A387,テーブル1[],2,FALSE),\"\")&IFERROR(VLOOKUP(A387,祝日など!$D$2:$E$20,2,FALSE),\"\")","v":""},null,null,null,null,"結晶光学演習\n（川添）","超高圧セミナー\n（井上・川添・高市）"]
["2026-04-22",46134,{"$f":"IFERROR(VLOOKUP(A388,テーブル1[],2,FALSE),\"\")&IFERROR(VLOOKUP(A388,祝日など!$D$2:$E$20,2,FALSE),\"\")","v":""},null,null,null,null,"結晶光学演習\n（川添）","地球外物質学生\nセミナー（小池）"]
["2026-04-23",46135,{"$f":"IFERROR(VLOOKUP(A389,テーブル1[],2,FALSE),\"\")&IFERROR(VLOOKUP(A389,祝日など!$D$2:$E$20,2,FALSE),\"\")","v":""}]
["2026-04-24",46136,{"$f":"IFERROR(VLOOKUP(A390,テーブル1[],2,FALSE),\"\")&IFERROR(VLOOKUP(A390,祝日など!$D$2:$E$20,2,FALSE),\"\")","v":""},null,null,null,null,"14：45-15：15　清原\n15：30-16：10　森下"]
["2026-04-25",46137,{"$f":"IFERROR(VLOOKUP(A391,テーブル1[],2,FALSE),\"\")&IFERROR(VLOOKUP(A391,祝日など!$D$2:$E$20,2,FALSE),\"\")","v":""}]
["2026-04-26",46138,{"$f":"IFERROR(VLOOKUP(A392,テーブル1[],2,FALSE),\"\")&IFERROR(VLOOKUP(A392,祝日など!$D$2:$E$20,2,FALSE),\"\")","v":""}]
["2026-04-27",46139,{"$f":"IFERROR(VLOOKUP(A393,テーブル1[],2,FALSE),\"\")&IFERROR(VLOOKUP(A393,祝日など!$D$2:$E$20,2,FALSE),\"\")","v":""},null,null,null,"変形微細組織セミナー\n（安東・DUTTA）",null,"地球外物質系輪読会\n（小池）"]
["2026-04-28",46140,{"$f":"IFERROR(VLOOKUP(A394,テーブル1[],2,FALSE),\"\")&IFERROR(VLOOKUP(A394,祝日など!$D$2:$E$20,2,FALSE),\"\")","v":""},null,null,null,"内物学生セミナー","結晶光学演習\n（川添）","超高圧セミナー\n（井上・川添・高市）"]
["2026-04-29",46141,{"$f":"IFERROR(VLOOKUP(A395,テーブル1[],2,FALSE),\"\")&IFERROR(VLOOKUP(A395,祝日など!$D$2:$E$20,2,FALSE),\"\")","v":"昭和の日"},null,null,null,"13：10-13：45　立石"]
["2026-04-30",46142,{"$f":"IFERROR(VLOOKUP(A396,テーブル1[],2,FALSE),\"\")&IFERROR(VLOOKUP(A396,祝日など!$D$2:$E$20,2,FALSE),\"\")","v":""},null,null,null,null,null,"薮田"]
["2026-05-01",46143,{"$f":"IFERROR(VLOOKUP(A397,テーブル1[],2,FALSE),\"\")&IFERROR(VLOOKUP(A397,祝日など!$D$2:$E$20,2,FALSE),\"\")","v":""},null,null,null,null,"結晶光学演習\n（川添）"]
["2026-05-02",46144,{"$f":"IFERROR(VLOOKUP(A398,テーブル1[],2,FALSE),\"\")&IFERROR(VLOOKUP(A398,祝日など!$D$2:$E$20,2,FALSE),\"\")","v":""}]
["2026-05-03",46145,{"$f":"IFERROR(VLOOKUP(A399,テーブル1[],2,FALSE),\"\")&IFERROR(VLOOKUP(A399,祝日など!$D$2:$E$20,2,FALSE),\"\")","v":"憲法記念日"}]
["2026-05-04",46146,{"$f":"IFERROR(VLOOKUP(A400,テーブル1[],2,FALSE),\"\")&IFERROR(VLOOKUP(A400,祝日など!$D$2:$E$20,2,FALSE),\"\")","v":"みどりの日"}]
["2026-05-05",46147,{"$f":"IFERROR(VLOOKUP(A401,テーブル1[],2,FALSE),\"\")&IFERROR(VLOOKUP(A401,祝日など!$D$2:$E$20,2,FALSE),\"\")","v":"こどもの日"}]
["2026-05-06",46148,{"$f":"IFERROR(VLOOKUP(A402,テーブル1[],2,FALSE),\"\")&IFERROR(VLOOKUP(A402,祝日など!$D$2:$E$20,2,FALSE),\"\")","v":"振替休日"}]
["2026-05-07",46149,{"$f":"IFERROR(VLOOKUP(A403,テーブル1[],2,FALSE),\"\")&IFERROR(VLOOKUP(A403,祝日など!$D$2:$E$20,2,FALSE),\"\")","v":""},null,null,null,null,"結晶光学演習\n（川添）","超高圧セミナー\n（井上・川添・高市）"]
["2026-05-08",46150,{"$f":"IFERROR(VLOOKUP(A404,テーブル1[],2,FALSE),\"\")&IFERROR(VLOOKUP(A404,祝日など!$D$2:$E$20,2,FALSE),\"\")","v":""},null,null,null,null,"須田"]
["2026-05-09",46151,{"$f":"IFERROR(VLOOKUP(A405,テーブル1[],2,FALSE),\"\")&IFERROR(VLOOKUP(A405,祝日など!$D$2:$E$20,2,FALSE),\"\")","v":""}]
["2026-05-10",46152,{"$f":"IFERROR(VLOOKUP(A406,テーブル1[],2,FALSE),\"\")&IFERROR(VLOOKUP(A406,祝日など!$D$2:$E$20,2,FALSE),\"\")","v":""}]
["2026-05-11",46153,{"$f":"IFERROR(VLOOKUP(A407,テーブル1[],2,FALSE),\"\")&IFERROR(VLOOKUP(A407,祝日など!$D$2:$E$20,2,FALSE),\"\")","v":""},null,null,null,"変形微細組織セミナー\n（安東・DUTTA）",null,"地球外物質系輪読会\n（小池）"]
["2026-05-12",46154,{"$f":"IFERROR(VLOOKUP(A408,テーブル1[],2,FALSE),\"\")&IFERROR(VLOOKUP(A408,祝日など!$D$2:$E$20,2,FALSE),\"\")","v":""},null,null,null,"内物学生セミナー","結晶光学演習\n（川添）","超高圧セミナー\n（井上・川添・高市）"]
["2026-05-13",46155,{"$f":"IFERROR(VLOOKUP(A409,テーブル1[],2,FALSE),\"\")&IFERROR(VLOOKUP(A409,祝日など!$D$2:$E$20,2,FALSE),\"\")","v":""},null,null,null,null,"結晶光学演習\n（川添）","地球外物質学生\nセミナー（小池）"]
["2026-05-14",46156,{"$f":"IFERROR(VLOOKUP(A410,テーブル1[],2,FALSE),\"\")&IFERROR(VLOOKUP(A410,祝日など!$D$2:$E$20,2,FALSE),\"\")","v":""}]
["2026-05-15",46157,{"$f":"IFERROR(VLOOKUP(A411,テーブル1[],2,FALSE),\"\")&IFERROR(VLOOKUP(A411,祝日など!$D$2:$E$20,2,FALSE),\"\")","v":""},null,null,null,"須田","須田"]
["2026-05-16",46158,{"$f":"IFERROR(VLOOKUP(A412,テーブル1[],2,FALSE),\"\")&IFERROR(VLOOKUP(A412,祝日など!$D$2:$E$20,2,FALSE),\"\")","v":""}]
["2026-05-17",46159,{"$f":"IFERROR(VLOOKUP(A413,テーブル1[],2,FALSE),\"\")&IFERROR(VLOOKUP(A413,祝日など!$D$2:$E$20,2,FALSE),\"\")","v":""}]
["2026-05-18",46160,{"$f":"IFERROR(VLOOKUP(A414,テーブル1[],2,FALSE),\"\")&IFERROR(VLOOKUP(A414,祝日など!$D$2:$E$20,2,FALSE),\"\")","v":""},null,null,"DUTTA","変形微細組織セミナー\n（安東・DUTTA）",null,"地球外物質系輪読会\n（小池）"]
["2026-05-19",46161,{"$f":"IFERROR(VLOOKUP(A415,テーブル1[],2,FALSE),\"\")&IFERROR(VLOOKUP(A415,祝日など!$D$2:$E$20,2,FALSE),\"\")","v":""},null,null,null,"内物学生セミナー","結晶光学演習\n（川添）","超高圧セミナー\n（井上・川添・高市）"]
["2026-05-20",46162,{"$f":"IFERROR(VLOOKUP(A416,テーブル1[],2,FALSE),\"\")&IFERROR(VLOOKUP(A416,祝日など!$D$2:$E$20,2,FALSE),\"\")","v":""},"DAS","DAS",null,"14時～立石","結晶光学演習\n（川添）","地球外物質学生\nセミナー（小池）"]
["2026-05-21",46163,{"$f":"IFERROR(VLOOKUP(A417,テーブル1[],2,FALSE),\"\")&IFERROR(VLOOKUP(A417,祝日など!$D$2:$E$20,2,FALSE),\"\")","v":""},null,null,null,null,null,"超高圧セミナー\n（井上・川添・高市）"]
["2026-05-22",46164,{"$f":"IFERROR(VLOOKUP(A418,テーブル1[],2,FALSE),\"\")&IFERROR(VLOOKUP(A418,祝日など!$D$2:$E$20,2,FALSE),\"\")","v":""}]
["2026-05-23",46165,{"$f":"IFERROR(VLOOKUP(A419,テーブル1[],2,FALSE),\"\")&IFERROR(VLOOKUP(A419,祝日など!$D$2:$E$20,2,FALSE),\"\")","v":""}]
["2026-05-24",46166,{"$f":"IFERROR(VLOOKUP(A420,テーブル1[],2,FALSE),\"\")&IFERROR(VLOOKUP(A420,祝日など!$D$2:$E$20,2,FALSE),\"\")","v":""}]
["2026-05-25",46167,{"$f":"IFERROR(VLOOKUP(A421,テーブル1[],2,FALSE),\"\")&IFERROR(VLOOKUP(A421,祝日など!$D$2:$E$20,2,FALSE),\"\")","v":""},null,null,null,"変形微細組織セミナー\n（安東・DUTTA）",null,"地球外物質系輪読会\n（小池）"]
["2026-05-26",46168,{"$f":"IFERROR(VLOOKUP(A422,テーブル1[],2,FALSE),\"\")&IFERROR(VLOOKUP(A422,祝日など!$D$2:$E$20,2,FALSE),\"\")","v":""},null,null,null,"内物学生セミナー","結晶光学演習\n（川添）","超高圧セミナー\n（井上・川添・高市）"]
["2026-05-27",46169,{"$f":"IFERROR(VLOOKUP(A423,テーブル1[],2,FALSE),\"\")&IFERROR(VLOOKUP(A423,祝日など!$D$2:$E$20,2,FALSE),\"\")","v":""},null,null,null,null,"結晶光学演習\n（川添）"]
["2026-05-28",46170,{"$f":"IFERROR(VLOOKUP(A424,テーブル1[],2,FALSE),\"\")&IFERROR(VLOOKUP(A424,祝日など!$D$2:$E$20,2,FALSE),\"\")","v":""}]
["2026-05-29",46171,{"$f":"IFERROR(VLOOKUP(A425,テーブル1[],2,FALSE),\"\")&IFERROR(VLOOKUP(A425,祝日など!$D$2:$E$20,2,FALSE),\"\")","v":""}]
["2026-05-30",46172,{"$f":"IFERROR(VLOOKUP(A426,テーブル1[],2,FALSE),\"\")&IFERROR(VLOOKUP(A426,祝日など!$D$2:$E$20,2,FALSE),\"\")","v":""}]
["2026-05-31",46173,{"$f":"IFERROR(VLOOKUP(A427,テーブル1[],2,FALSE),\"\")&IFERROR(VLOOKUP(A427,祝日など!$D$2:$E$20,2,FALSE),\"\")","v":""}]
["2026-06-01",46174,{"$f":"IFERROR(VLOOKUP(A428,テーブル1[],2,FALSE),\"\")&IFERROR(VLOOKUP(A428,祝日など!$D$2:$E$20,2,FALSE),\"\")","v":""},null,null,null,"変形微細組織セミナー\n（安東・DUTTA）",null,"地球外物質系輪読会\n（小池）"]
["2026-06-02",46175,{"$f":"IFERROR(VLOOKUP(A429,テーブル1[],2,FALSE),\"\")&IFERROR(VLOOKUP(A429,祝日など!$D$2:$E$20,2,FALSE),\"\")","v":""},null,null,null,null,"結晶光学演習\n（川添）","超高圧セミナー\n（井上・川添・高市）"]
["2026-06-03",46176,{"$f":"IFERROR(VLOOKUP(A430,テーブル1[],2,FALSE),\"\")&IFERROR(VLOOKUP(A430,祝日など!$D$2:$E$20,2,FALSE),\"\")","v":""},null,null,null,null,"結晶光学演習\n（川添）"]
["2026-06-04",46177,{"$f":"IFERROR(VLOOKUP(A431,テーブル1[],2,FALSE),\"\")&IFERROR(VLOOKUP(A431,祝日など!$D$2:$E$20,2,FALSE),\"\")","v":""}]
["2026-06-05",46178,{"$f":"IFERROR(VLOOKUP(A432,テーブル1[],2,FALSE),\"\")&IFERROR(VLOOKUP(A432,祝日など!$D$2:$E$20,2,FALSE),\"\")","v":""}]
["2026-06-06",46179,{"$f":"IFERROR(VLOOKUP(A433,テーブル1[],2,FALSE),\"\")&IFERROR(VLOOKUP(A433,祝日など!$D$2:$E$20,2,FALSE),\"\")","v":""}]
["2026-06-07",46180,{"$f":"IFERROR(VLOOKUP(A434,テーブル1[],2,FALSE),\"\")&IFERROR(VLOOKUP(A434,祝日など!$D$2:$E$20,2,FALSE),\"\")","v":""}]
["2026-06-08",46181,{"$f":"IFERROR(VLOOKUP(A435,テーブル1[],2,FALSE),\"\")&IFERROR(VLOOKUP(A435,祝日など!$D$2:$E$20,2,FALSE),\"\")","v":""},null,null,null,"変形微細組織セミナー\n（安東・DUTTA）",null,"地球外物質系輪読会\n（小池）"]
["2026-06-09",46182,{"$f":"IFERROR(VLOOKUP(A436,テーブル1[],2,FALSE),\"\")&IFERROR(VLOOKUP(A436,祝日など!$D$2:$E$20,2,FALSE),\"\")","v":""},null,null,null,"地球内部物質学（井上）","地球内部物質学（井上）","超高圧セミナー\n（井上・川添・高市）"]
["2026-06-10",46183,{"$f":"IFERROR(VLOOKUP(A437,テーブル1[],2,FALSE),\"\")&IFERROR(VLOOKUP(A437,祝日など!$D$2:$E$20,2,FALSE),\"\")","v":""},null,null,null,"地球ダイナミクス（安東）","地球ダイナミクス（安東）","地球外物質学生\nセミナー（小池）"]
["2026-06-11",46184,{"$f":"IFERROR(VLOOKUP(A438,テーブル1[],2,FALSE),\"\")&IFERROR(VLOOKUP(A438,祝日など!$D$2:$E$20,2,FALSE),\"\")","v":""}]
["2026-06-12",46185,{"$f":"IFERROR(VLOOKUP(A439,テーブル1[],2,FALSE),\"\")&IFERROR(VLOOKUP(A439,祝日など!$D$2:$E$20,2,FALSE),\"\")","v":""}]
["2026-06-13",46186,{"$f":"IFERROR(VLOOKUP(A440,テーブル1[],2,FALSE),\"\")&IFERROR(VLOOKUP(A440,祝日など!$D$2:$E$20,2,FALSE),\"\")","v":""}]
["2026-06-14",46187,{"$f":"IFERROR(VLOOKUP(A441,テーブル1[],2,FALSE),\"\")&IFERROR(VLOOKUP(A441,祝日など!$D$2:$E$20,2,FALSE),\"\")","v":""}]
["2026-06-15",46188,{"$f":"IFERROR(VLOOKUP(A442,テーブル1[],2,FALSE),\"\")&IFERROR(VLOOKUP(A442,祝日など!$D$2:$E$20,2,FALSE),\"\")","v":""},null,null,null,"変形微細組織セミナー\n（安東・DUTTA）",null,"地球外物質系輪読会\n（小池）"]
["2026-06-16",46189,{"$f":"IFERROR(VLOOKUP(A443,テーブル1[],2,FALSE),\"\")&IFERROR(VLOOKUP(A443,祝日など!$D$2:$E$20,2,FALSE),\"\")","v":""},null,null,null,"地球内部物質学（井上）","地球内部物質学（井上）","超高圧セミナー\n（井上・川添・高市）"]
["2026-06-17",46190,{"$f":"IFERROR(VLOOKUP(A444,テーブル1[],2,FALSE),\"\")&IFERROR(VLOOKUP(A444,祝日など!$D$2:$E$20,2,FALSE),\"\")","v":""},null,null,null,"地球ダイナミクス（安東）","地球ダイナミクス（安東）"]
["2026-06-18",46191,{"$f":"IFERROR(VLOOKUP(A445,テーブル1[],2,FALSE),\"\")&IFERROR(VLOOKUP(A445,祝日など!$D$2:$E$20,2,FALSE),\"\")","v":""}]
["2026-06-19",46192,{"$f":"IFERROR(VLOOKUP(A446,テーブル1[],2,FALSE),\"\")&IFERROR(VLOOKUP(A446,祝日など!$D$2:$E$20,2,FALSE),\"\")","v":""}]
["2026-06-20",46193,{"$f":"IFERROR(VLOOKUP(A447,テーブル1[],2,FALSE),\"\")&IFERROR(VLOOKUP(A447,祝日など!$D$2:$E$20,2,FALSE),\"\")","v":""}]
["2026-06-21",46194,{"$f":"IFERROR(VLOOKUP(A448,テーブル1[],2,FALSE),\"\")&IFERROR(VLOOKUP(A448,祝日など!$D$2:$E$20,2,FALSE),\"\")","v":""}]
["2026-06-22",46195,{"$f":"IFERROR(VLOOKUP(A449,テーブル1[],2,FALSE),\"\")&IFERROR(VLOOKUP(A449,祝日など!$D$2:$E$20,2,FALSE),\"\")","v":""},null,null,null,"変形微細組織セミナー\n（安東・DUTTA）",null,"地球外物質系輪読会\n（小池）"]
["2026-06-23",46196,{"$f":"IFERROR(VLOOKUP(A450,テーブル1[],2,FALSE),\"\")&IFERROR(VLOOKUP(A450,祝日など!$D$2:$E$20,2,FALSE),\"\")","v":""},null,null,null,"地球内部物質学（井上）","地球内部物質学（井上）","超高圧セミナー\n（井上・川添・高市）"]
["2026-06-24",{"$f":"A451","v":46197},{"$f":"IFERROR(VLOOKUP(A451,テーブル1[],2,FALSE),\"\")&IFERROR(VLOOKUP(A451,祝日など!$D$2:$E$20,2,FALSE),\"\")","v":""},null,null,null,"地球ダイナミクス（安東）","地球ダイナミクス（安東）","地球外物質学生\nセミナー（小池）"]
["2026-06-25",46198,{"$f":"IFERROR(VLOOKUP(A452,テーブル1[],2,FALSE),\"\")&IFERROR(VLOOKUP(A452,祝日など!$D$2:$E$20,2,FALSE),\"\")","v":""}]
["2026-06-26",{"$f":"A453","v":46199},{"$f":"IFERROR(VLOOKUP(A453,テーブル1[],2,FALSE),\"\")&IFERROR(VLOOKUP(A453,祝日など!$D$2:$E$20,2,FALSE),\"\")","v":""}]
["2026-06-27",46200,{"$f":"IFERROR(VLOOKUP(A454,テーブル1[],2,FALSE),\"\")&IFERROR(VLOOKUP(A454,祝日など!$D$2:$E$20,2,FALSE),\"\")","v":""}]
["2026-06-28",46201,{"$f":"IFERROR(VLOOKUP(A455,テーブル1[],2,FALSE),\"\")&IFERROR(VLOOKUP(A455,祝日など!$D$2:$E$20,2,FALSE),\"\")","v":""}]
["2026-06-29",46202,{"$f":"IFERROR(VLOOKUP(A456,テーブル1[],2,FALSE),\"\")&IFERROR(VLOOKUP(A456,祝日など!$D$2:$E$20,2,FALSE),\"\")","v":""},null,null,null,"変形微細組織セミナー\n（安東・DUTTA）",null,"地球外物質系輪読会\n（小池）"]
["2026-06-30",46203,{"$f":"IFERROR(VLOOKUP(A457,テーブル1[],2,FALSE),\"\")&IFERROR(VLOOKUP(A457,祝日など!$D$2:$E$20,2,FALSE),\"\")","v":""},null,null,null,"地球内部物質学（井上）","地球内部物質学（井上）","超高圧セミナー\n（井上・川添・高市）"]
["2026-07-01",46204,{"$f":"IFERROR(VLOOKUP(A458,テーブル1[],2,FALSE),\"\")&IFERROR(VLOOKUP(A458,祝日など!$D$2:$E$20,2,FALSE),\"\")","v":""},null,null,null,"地球ダイナミクス（安東）","地球ダイナミクス（安東）"]
["2026-07-02",46205,{"$f":"IFERROR(VLOOKUP(A459,テーブル1[],2,FALSE),\"\")&IFERROR(VLOOKUP(A459,祝日など!$D$2:$E$20,2,FALSE),\"\")","v":""}]
["2026-07-03",46206,{"$f":"IFERROR(VLOOKUP(A460,テーブル1[],2,FALSE),\"\")&IFERROR(VLOOKUP(A460,祝日など!$D$2:$E$20,2,FALSE),\"\")","v":""}]
["2026-07-04",46207,{"$f":"IFERROR(VLOOKUP(A461,テーブル1[],2,FALSE),\"\")&IFERROR(VLOOKUP(A461,祝日など!$D$2:$E$20,2,FALSE),\"\")","v":""},"地学実験A","地学実験A","地学実験","地学実験A","地学実験A","地学実験A"]
["2026-07-05",46208,{"$f":"IFERROR(VLOOKUP(A462,テーブル1[],2,FALSE),\"\")&IFERROR(VLOOKUP(A462,祝日など!$D$2:$E$20,2,FALSE),\"\")","v":""}]
["2026-07-06",46209,{"$f":"IFERROR(VLOOKUP(A463,テーブル1[],2,FALSE),\"\")&IFERROR(VLOOKUP(A463,祝日など!$D$2:$E$20,2,FALSE),\"\")","v":""},null,null,null,"変形微細組織セミナー\n（安東・DUTTA）",null,"地球外物質系輪読会\n（小池）"]
["2026-07-07",46210,{"$f":"IFERROR(VLOOKUP(A464,テーブル1[],2,FALSE),\"\")&IFERROR(VLOOKUP(A464,祝日など!$D$2:$E$20,2,FALSE),\"\")","v":""},null,null,null,"地球内部物質学（井上）","地球内部物質学（井上）","超高圧セミナー\n（井上・川添・高市）"]
["2026-07-08",46211,{"$f":"IFERROR(VLOOKUP(A465,テーブル1[],2,FALSE),\"\")&IFERROR(VLOOKUP(A465,祝日など!$D$2:$E$20,2,FALSE),\"\")","v":""},null,null,null,"地球ダイナミクス（安東）","地球ダイナミクス（安東）","地球外物質学生\nセミナー（小池）"]
["2026-07-09",46212,{"$f":"IFERROR(VLOOKUP(A466,テーブル1[],2,FALSE),\"\")&IFERROR(VLOOKUP(A466,祝日など!$D$2:$E$20,2,FALSE),\"\")","v":""}]
["2026-07-10",46213,{"$f":"IFERROR(VLOOKUP(A467,テーブル1[],2,FALSE),\"\")&IFERROR(VLOOKUP(A467,祝日など!$D$2:$E$20,2,FALSE),\"\")","v":""}]
["2026-07-11",46214,{"$f":"IFERROR(VLOOKUP(A468,テーブル1[],2,FALSE),\"\")&IFERROR(VLOOKUP(A468,祝日など!$D$2:$E$20,2,FALSE),\"\")","v":""}]
["2026-07-12",46215,{"$f":"IFERROR(VLOOKUP(A469,テーブル1[],2,FALSE),\"\")&IFERROR(VLOOKUP(A469,祝日など!$D$2:$E$20,2,FALSE),\"\")","v":""}]
["2026-07-13",46216,{"$f":"IFERROR(VLOOKUP(A470,テーブル1[],2,FALSE),\"\")&IFERROR(VLOOKUP(A470,祝日など!$D$2:$E$20,2,FALSE),\"\")","v":""},null,null,null,"変形微細組織セミナー\n（安東・DUTTA）",null,"地球外物質系輪読会\n（小池）"]
["2026-07-14",46217,{"$f":"IFERROR(VLOOKUP(A471,テーブル1[],2,FALSE),\"\")&IFERROR(VLOOKUP(A471,祝日など!$D$2:$E$20,2,FALSE),\"\")","v":""},null,null,null,"変形微細組織セミナー\n（安東・DUTTA）",null,"地球外物質系輪読会\n（小池）"]
["2026-07-15",46218,{"$f":"IFERROR(VLOOKUP(A472,テーブル1[],2,FALSE),\"\")&IFERROR(VLOOKUP(A472,祝日など!$D$2:$E$20,2,FALSE),\"\")","v":""},null,null,null,"地球ダイナミクス（安東）","地球ダイナミクス（安東）"]
["2026-07-16",46219,{"$f":"IFERROR(VLOOKUP(A473,テーブル1[],2,FALSE),\"\")&IFERROR(VLOOKUP(A473,祝日など!$D$2:$E$20,2,FALSE),\"\")","v":""}]
["2026-07-17",46220,{"$f":"IFERROR(VLOOKUP(A474,テーブル1[],2,FALSE),\"\")&IFERROR(VLOOKUP(A474,祝日など!$D$2:$E$20,2,FALSE),\"\")","v":""}]
["2026-07-18",46221,{"$f":"IFERROR(VLOOKUP(A475,テーブル1[],2,FALSE),\"\")&IFERROR(VLOOKUP(A475,祝日など!$D$2:$E$20,2,FALSE),\"\")","v":""}]
["2026-07-19",46222,{"$f":"IFERROR(VLOOKUP(A476,テーブル1[],2,FALSE),\"\")&IFERROR(VLOOKUP(A476,祝日など!$D$2:$E$20,2,FALSE),\"\")","v":""}]
["2026-07-20",46223,{"$f":"IFERROR(VLOOKUP(A477,テーブル1[],2,FALSE),\"\")&IFERROR(VLOOKUP(A477,祝日など!$D$2:$E$20,2,FALSE),\"\")","v":"海の日"}]
["2026-07-21",46224,{"$f":"IFERROR(VLOOKUP(A478,テーブル1[],2,FALSE),\"\")&IFERROR(VLOOKUP(A478,祝日など!$D$2:$E$20,2,FALSE),\"\")","v":""},null,null,null,"地球内部物質学（井上）","地球内部物質学（井上）","超高圧セミナー\n（井上・川添・高市）"]
["2026-07-22",46225,{"$f":"IFERROR(VLOOKUP(A479,テーブル1[],2,FALSE),\"\")&IFERROR(VLOOKUP(A479,祝日など!$D$2:$E$20,2,FALSE),\"\")","v":""},null,null,null,"地球ダイナミクス（安東）","地球ダイナミクス（安東）","地球外物質学生\nセミナー（小池）"]
["2026-07-23",46226,{"$f":"IFERROR(VLOOKUP(A480,テーブル1[],2,FALSE),\"\")&IFERROR(VLOOKUP(A480,祝日など!$D$2:$E$20,2,FALSE),\"\")","v":""}]
["2026-07-24",46227,{"$f":"IFERROR(VLOOKUP(A481,テーブル1[],2,FALSE),\"\")&IFERROR(VLOOKUP(A481,祝日など!$D$2:$E$20,2,FALSE),\"\")","v":""}]
["2026-07-25",46228,{"$f":"IFERROR(VLOOKUP(A482,テーブル1[],2,FALSE),\"\")&IFERROR(VLOOKUP(A482,祝日など!$D$2:$E$20,2,FALSE),\"\")","v":""}]
["2026-07-26",46229,{"$f":"IFERROR(VLOOKUP(A483,テーブル1[],2,FALSE),\"\")&IFERROR(VLOOKUP(A483,祝日など!$D$2:$E$20,2,FALSE),\"\")","v":""}]
["2026-07-27",46230,{"$f":"IFERROR(VLOOKUP(A484,テーブル1[],2,FALSE),\"\")&IFERROR(VLOOKUP(A484,祝日など!$D$2:$E$20,2,FALSE),\"\")","v":""},null,null,null,"変形微細組織セミナー\n（安東・DUTTA）",null,"地球外物質系輪読会\n（小池）"]
["2026-07-28",46231,{"$f":"IFERROR(VLOOKUP(A485,テーブル1[],2,FALSE),\"\")&IFERROR(VLOOKUP(A485,祝日など!$D$2:$E$20,2,FALSE),\"\")","v":""},null,null,null,"地球内部物質学（井上）","地球内部物質学（井上）","超高圧セミナー\n（井上・川添・高市）"]
["2026-07-29",46232,{"$f":"IFERROR(VLOOKUP(A486,テーブル1[],2,FALSE),\"\")&IFERROR(VLOOKUP(A486,祝日など!$D$2:$E$20,2,FALSE),\"\")","v":""},null,null,null,"地球ダイナミクス（安東）","地球ダイナミクス（安東）"]
["2026-07-30",46233,{"$f":"IFERROR(VLOOKUP(A487,テーブル1[],2,FALSE),\"\")&IFERROR(VLOOKUP(A487,祝日など!$D$2:$E$20,2,FALSE),\"\")","v":""}]
["2026-07-31",46234,{"$f":"IFERROR(VLOOKUP(A488,テーブル1[],2,FALSE),\"\")&IFERROR(VLOOKUP(A488,祝日など!$D$2:$E$20,2,FALSE),\"\")","v":""}]
["2026-08-01",46235,{"$f":"IFERROR(VLOOKUP(A489,テーブル1[],2,FALSE),\"\")&IFERROR(VLOOKUP(A489,祝日など!$D$2:$E$20,2,FALSE),\"\")","v":""}]
["2026-08-02",46236,{"$f":"IFERROR(VLOOKUP(A490,テーブル1[],2,FALSE),\"\")&IFERROR(VLOOKUP(A490,祝日など!$D$2:$E$20,2,FALSE),\"\")","v":""}]
["2026-08-03",46237,{"$f":"IFERROR(VLOOKUP(A491,テーブル1[],2,FALSE),\"\")&IFERROR(VLOOKUP(A491,祝日など!$D$2:$E$20,2,FALSE),\"\")","v":""},null,null,null,"変形微細組織セミナー\n（安東・DUTTA）",null,"地球外物質系輪読会\n（小池）"]
["2026-08-04",46238,{"$f":"IFERROR(VLOOKUP(A492,テーブル1[],2,FALSE),\"\")&IFERROR(VLOOKUP(A492,祝日など!$D$2:$E$20,2,FALSE),\"\")","v":""},null,null,null,"地球内部物質学（井上）","地球内部物質学（井上）","超高圧セミナー\n（井上・川添・高市）"]
["2026-08-05",46239,{"$f":"IFERROR(VLOOKUP(A493,テーブル1[],2,FALSE),\"\")&IFERROR(VLOOKUP(A493,祝日など!$D$2:$E$20,2,FALSE),\"\")","v":""}]
["2026-08-06",46240,{"$f":"IFERROR(VLOOKUP(A494,テーブル1[],2,FALSE),\"\")&IFERROR(VLOOKUP(A494,祝日など!$D$2:$E$20,2,FALSE),\"\")","v":""}]
["2026-08-07",46241,{"$f":"IFERROR(VLOOKUP(A495,テーブル1[],2,FALSE),\"\")&IFERROR(VLOOKUP(A495,祝日など!$D$2:$E$20,2,FALSE),\"\")","v":""}]
["2026-08-08",46242,{"$f":"IFERROR(VLOOKUP(A496,テーブル1[],2,FALSE),\"\")&IFERROR(VLOOKUP(A496,祝日など!$D$2:$E$20,2,FALSE),\"\")","v":""}]
["2026-08-09",46243,{"$f":"IFERROR(VLOOKUP(A497,テーブル1[],2,FALSE),\"\")&IFERROR(VLOOKUP(A497,祝日など!$D$2:$E$20,2,FALSE),\"\")","v":""}]
["2026-08-10",46244,{"$f":"IFERROR(VLOOKUP(A498,テーブル1[],2,FALSE),\"\")&IFERROR(VLOOKUP(A498,祝日など!$D$2:$E$20,2,FALSE),\"\")","v":""}]
["2026-08-11",46245,{"$f":"IFERROR(VLOOKUP(A499,テーブル1[],2,FALSE),\"\")&IFERROR(VLOOKUP(A499,祝日など!$D$2:$E$20,2,FALSE),\"\")","v":"山の日"}]
["2026-08-12",46246,{"$f":"IFERROR(VLOOKUP(A500,テーブル1[],2,FALSE),\"\")&IFERROR(VLOOKUP(A500,祝日など!$D$2:$E$20,2,FALSE),\"\")","v":"夏季休業"}]
["2026-08-13",46247,{"$f":"IFERROR(VLOOKUP(A501,テーブル1[],2,FALSE),\"\")&IFERROR(VLOOKUP(A501,祝日など!$D$2:$E$20,2,FALSE),\"\")","v":"夏季休業"}]
["2026-08-14",46248,{"$f":"IFERROR(VLOOKUP(A502,テーブル1[],2,FALSE),\"\")&IFERROR(VLOOKUP(A502,祝日など!$D$2:$E$20,2,FALSE),\"\")","v":"夏季休業"}]
["2026-08-15",46249,{"$f":"IFERROR(VLOOKUP(A503,テーブル1[],2,FALSE),\"\")&IFERROR(VLOOKUP(A503,祝日など!$D$2:$E$20,2,FALSE),\"\")","v":""}]
["2026-08-16",46250,{"$f":"IFERROR(VLOOKUP(A504,テーブル1[],2,FALSE),\"\")&IFERROR(VLOOKUP(A504,祝日など!$D$2:$E$20,2,FALSE),\"\")","v":""}]
["2026-08-17",46251,{"$f":"IFERROR(VLOOKUP(A505,テーブル1[],2,FALSE),\"\")&IFERROR(VLOOKUP(A505,祝日など!$D$2:$E$20,2,FALSE),\"\")","v":""}]
["2026-08-18",46252,{"$f":"IFERROR(VLOOKUP(A506,テーブル1[],2,FALSE),\"\")&IFERROR(VLOOKUP(A506,祝日など!$D$2:$E$20,2,FALSE),\"\")","v":""}]
["2026-08-19",46253,{"$f":"IFERROR(VLOOKUP(A507,テーブル1[],2,FALSE),\"\")&IFERROR(VLOOKUP(A507,祝日など!$D$2:$E$20,2,FALSE),\"\")","v":""}]
["2026-08-20",46254,{"$f":"IFERROR(VLOOKUP(A508,テーブル1[],2,FALSE),\"\")&IFERROR(VLOOKUP(A508,祝日など!$D$2:$E$20,2,FALSE),\"\")","v":""}]
["2026-08-21",46255,{"$f":"IFERROR(VLOOKUP(A509,テーブル1[],2,FALSE),\"\")&IFERROR(VLOOKUP(A509,祝日など!$D$2:$E$20,2,FALSE),\"\")","v":""}]
["2026-08-22",46256,{"$f":"IFERROR(VLOOKUP(A510,テーブル1[],2,FALSE),\"\")&IFERROR(VLOOKUP(A510,祝日など!$D$2:$E$20,2,FALSE),\"\")","v":""}]
["2026-08-23",46257,{"$f":"IFERROR(VLOOKUP(A511,テーブル1[],2,FALSE),\"\")&IFERROR(VLOOKUP(A511,祝日など!$D$2:$E$20,2,FALSE),\"\")","v":""}]
["2026-08-24",46258,{"$f":"IFERROR(VLOOKUP(A512,テーブル1[],2,FALSE),\"\")&IFERROR(VLOOKUP(A512,祝日など!$D$2:$E$20,2,FALSE),\"\")","v":""}]
["2026-08-25",46259,{"$f":"IFERROR(VLOOKUP(A513,テーブル1[],2,FALSE),\"\")&IFERROR(VLOOKUP(A513,祝日など!$D$2:$E$20,2,FALSE),\"\")","v":""}]
["2026-08-26",46260,{"$f":"IFERROR(VLOOKUP(A514,テーブル1[],2,FALSE),\"\")&IFERROR(VLOOKUP(A514,祝日など!$D$2:$E$20,2,FALSE),\"\")","v":""}]
["2026-08-27",46261,{"$f":"IFERROR(VLOOKUP(A515,テーブル1[],2,FALSE),\"\")&IFERROR(VLOOKUP(A515,祝日など!$D$2:$E$20,2,FALSE),\"\")","v":""}]
["2026-08-28",46262,{"$f":"IFERROR(VLOOKUP(A516,テーブル1[],2,FALSE),\"\")&IFERROR(VLOOKUP(A516,祝日など!$D$2:$E$20,2,FALSE),\"\")","v":""}]
["2026-08-29",{"$f":"A517","v":46263},{"$f":"IFERROR(VLOOKUP(A517,テーブル1[],2,FALSE),\"\")&IFERROR(VLOOKUP(A517,祝日など!$D$2:$E$20,2,FALSE),\"\")","v":""}]
["2026-08-30",46264,{"$f":"IFERROR(VLOOKUP(A518,テーブル1[],2,FALSE),\"\")&IFERROR(VLOOKUP(A518,祝日など!$D$2:$E$20,2,FALSE),\"\")","v":""},"停電","停電","停電","停電","停電","停電"]
["2026-08-31",46265,{"$f":"IFERROR(VLOOKUP(A519,テーブル1[],2,FALSE),\"\")&IFERROR(VLOOKUP(A519,祝日など!$D$2:$E$20,2,FALSE),\"\")","v":""}]
["2026-09-01",46266,{"$f":"IFERROR(VLOOKUP(A520,テーブル1[],2,FALSE),\"\")&IFERROR(VLOOKUP(A520,祝日など!$D$2:$E$20,2,FALSE),\"\")","v":""}]
["2026-09-02",46267,{"$f":"IFERROR(VLOOKUP(A521,テーブル1[],2,FALSE),\"\")&IFERROR(VLOOKUP(A521,祝日など!$D$2:$E$20,2,FALSE),\"\")","v":""}]
["2026-09-03",46268,{"$f":"IFERROR(VLOOKUP(A522,テーブル1[],2,FALSE),\"\")&IFERROR(VLOOKUP(A522,祝日など!$D$2:$E$20,2,FALSE),\"\")","v":""}]
["2026-09-04",46269,{"$f":"IFERROR(VLOOKUP(A523,テーブル1[],2,FALSE),\"\")&IFERROR(VLOOKUP(A523,祝日など!$D$2:$E$20,2,FALSE),\"\")","v":""}]
["2026-09-05",46270,{"$f":"IFERROR(VLOOKUP(A524,テーブル1[],2,FALSE),\"\")&IFERROR(VLOOKUP(A524,祝日など!$D$2:$E$20,2,FALSE),\"\")","v":""}]
["2026-09-06",46271,{"$f":"IFERROR(VLOOKUP(A525,テーブル1[],2,FALSE),\"\")&IFERROR(VLOOKUP(A525,祝日など!$D$2:$E$20,2,FALSE),\"\")","v":""}]
["2026-09-07",46272,{"$f":"IFERROR(VLOOKUP(A526,テーブル1[],2,FALSE),\"\")&IFERROR(VLOOKUP(A526,祝日など!$D$2:$E$20,2,FALSE),\"\")","v":""}]
["2026-09-08",46273,{"$f":"IFERROR(VLOOKUP(A527,テーブル1[],2,FALSE),\"\")&IFERROR(VLOOKUP(A527,祝日など!$D$2:$E$20,2,FALSE),\"\")","v":""}]
["2026-09-09",46274,{"$f":"IFERROR(VLOOKUP(A528,テーブル1[],2,FALSE),\"\")&IFERROR(VLOOKUP(A528,祝日など!$D$2:$E$20,2,FALSE),\"\")","v":""}]
["2026-09-10",46275,{"$f":"IFERROR(VLOOKUP(A529,テーブル1[],2,FALSE),\"\")&IFERROR(VLOOKUP(A529,祝日など!$D$2:$E$20,2,FALSE),\"\")","v":""}]
["2026-09-11",46276,{"$f":"IFERROR(VLOOKUP(A530,テーブル1[],2,FALSE),\"\")&IFERROR(VLOOKUP(A530,祝日など!$D$2:$E$20,2,FALSE),\"\")","v":""}]
["2026-09-12",46277,{"$f":"IFERROR(VLOOKUP(A531,テーブル1[],2,FALSE),\"\")&IFERROR(VLOOKUP(A531,祝日など!$D$2:$E$20,2,FALSE),\"\")","v":""}]
["2026-09-13",46278,{"$f":"IFERROR(VLOOKUP(A532,テーブル1[],2,FALSE),\"\")&IFERROR(VLOOKUP(A532,祝日など!$D$2:$E$20,2,FALSE),\"\")","v":""}]
["2026-09-14",46279,{"$f":"IFERROR(VLOOKUP(A533,テーブル1[],2,FALSE),\"\")&IFERROR(VLOOKUP(A533,祝日など!$D$2:$E$20,2,FALSE),\"\")","v":""}]
["2026-09-15",46280,{"$f":"IFERROR(VLOOKUP(A534,テーブル1[],2,FALSE),\"\")&IFERROR(VLOOKUP(A534,祝日など!$D$2:$E$20,2,FALSE),\"\")","v":""}]
["2026-09-16",46281,{"$f":"IFERROR(VLOOKUP(A535,テーブル1[],2,FALSE),\"\")&IFERROR(VLOOKUP(A535,祝日など!$D$2:$E$20,2,FALSE),\"\")","v":""}]
["2026-09-17",46282,{"$f":"IFERROR(VLOOKUP(A536,テーブル1[],2,FALSE),\"\")&IFERROR(VLOOKUP(A536,祝日など!$D$2:$E$20,2,FALSE),\"\")","v":""}]
["2026-09-18",46283,{"$f":"IFERROR(VLOOKUP(A537,テーブル1[],2,FALSE),\"\")&IFERROR(VLOOKUP(A537,祝日など!$D$2:$E$20,2,FALSE),\"\")","v":""}]
["2026-09-19",46284,{"$f":"IFERROR(VLOOKUP(A538,テーブル1[],2,FALSE),\"\")&IFERROR(VLOOKUP(A538,祝日など!$D$2:$E$20,2,FALSE),\"\")","v":""}]
["2026-09-20",46285,{"$f":"IFERROR(VLOOKUP(A539,テーブル1[],2,FALSE),\"\")&IFERROR(VLOOKUP(A539,祝日など!$D$2:$E$20,2,FALSE),\"\")","v":""}]
["2026-09-21",46286,{"$f":"IFERROR(VLOOKUP(A540,テーブル1[],2,FALSE),\"\")&IFERROR(VLOOKUP(A540,祝日など!$D$2:$E$20,2,FALSE),\"\")","v":"敬老の日"}]
["2026-09-22",46287,{"$f":"IFERROR(VLOOKUP(A541,テーブル1[],2,FALSE),\"\")&IFERROR(VLOOKUP(A541,祝日など!$D$2:$E$20,2,FALSE),\"\")","v":"振替休日"}]
["2026-09-23",46288,{"$f":"IFERROR(VLOOKUP(A542,テーブル1[],2,FALSE),\"\")&IFERROR(VLOOKUP(A542,祝日など!$D$2:$E$20,2,FALSE),\"\")","v":"秋分の日"}]
["2026-09-24",46289,{"$f":"IFERROR(VLOOKUP(A543,テーブル1[],2,FALSE),\"\")&IFERROR(VLOOKUP(A543,祝日など!$D$2:$E$20,2,FALSE),\"\")","v":""}]
["2026-09-25",46290,{"$f":"IFERROR(VLOOKUP(A544,テーブル1[],2,FALSE),\"\")&IFERROR(VLOOKUP(A544,祝日など!$D$2:$E$20,2,FALSE),\"\")","v":""}]
["2026-09-26",46291,{"$f":"IFERROR(VLOOKUP(A545,テーブル1[],2,FALSE),\"\")&IFERROR(VLOOKUP(A545,祝日など!$D$2:$E$20,2,FALSE),\"\")","v":""}]
["2026-09-27",46292,{"$f":"IFERROR(VLOOKUP(A546,テーブル1[],2,FALSE),\"\")&IFERROR(VLOOKUP(A546,祝日など!$D$2:$E$20,2,FALSE),\"\")","v":""}]
["2026-09-28",46293,{"$f":"IFERROR(VLOOKUP(A547,テーブル1[],2,FALSE),\"\")&IFERROR(VLOOKUP(A547,祝日など!$D$2:$E$20,2,FALSE),\"\")","v":""}]
["2026-09-29",46294,{"$f":"IFERROR(VLOOKUP(A548,テーブル1[],2,FALSE),\"\")&IFERROR(VLOOKUP(A548,祝日など!$D$2:$E$20,2,FALSE),\"\")","v":""}]
["2026-09-30",46295,{"$f":"IFERROR(VLOOKUP(A549,テーブル1[],2,FALSE),\"\")&IFERROR(VLOOKUP(A549,祝日など!$D$2:$E$20,2,FALSE),\"\")","v":""}]
["2026-10-01",46296,{"$f":"IFERROR(VLOOKUP(A550,テーブル1[],2,FALSE),\"\")&IFERROR(VLOOKUP(A550,祝日など!$D$2:$E$20,2,FALSE),\"\")","v":""}]
["2026-10-02",46297,{"$f":"IFERROR(VLOOKUP(A551,テーブル1[],2,FALSE),\"\")&IFERROR(VLOOKUP(A551,祝日など!$D$2:$E$20,2,FALSE),\"\")","v":""}]
["2026-10-03",46298,{"$f":"IFERROR(VLOOKUP(A552,テーブル1[],2,FALSE),\"\")&IFERROR(VLOOKUP(A552,祝日など!$D$2:$E$20,2,FALSE),\"\")","v":""}]
["2026-10-04",46299,{"$f":"IFERROR(VLOOKUP(A553,テーブル1[],2,FALSE),\"\")&IFERROR(VLOOKUP(A553,祝日など!$D$2:$E$20,2,FALSE),\"\")","v":""}]
["2026-10-05",46300,{"$f":"IFERROR(VLOOKUP(A554,テーブル1[],2,FALSE),\"\")&IFERROR(VLOOKUP(A554,祝日など!$D$2:$E$20,2,FALSE),\"\")","v":""}]
["2026-10-06",46301,{"$f":"IFERROR(VLOOKUP(A555,テーブル1[],2,FALSE),\"\")&IFERROR(VLOOKUP(A555,祝日など!$D$2:$E$20,2,FALSE),\"\")","v":""}]
["2026-10-07",46302,{"$f":"IFERROR(VLOOKUP(A556,テーブル1[],2,FALSE),\"\")&IFERROR(VLOOKUP(A556,祝日など!$D$2:$E$20,2,FALSE),\"\")","v":""}]
["2026-10-08",46303,{"$f":"IFERROR(VLOOKUP(A557,テーブル1[],2,FALSE),\"\")&IFERROR(VLOOKUP(A557,祝日など!$D$2:$E$20,2,FALSE),\"\")","v":""}]
["2026-10-09",46304,{"$f":"IFERROR(VLOOKUP(A558,テーブル1[],2,FALSE),\"\")&IFERROR(VLOOKUP(A558,祝日など!$D$2:$E$20,2,FALSE),\"\")","v":""}]
["2026-10-10",46305,{"$f":"IFERROR(VLOOKUP(A559,テーブル1[],2,FALSE),\"\")&IFERROR(VLOOKUP(A559,祝日など!$D$2:$E$20,2,FALSE),\"\")","v":""}]
["2026-10-11",46306,{"$f":"IFERROR(VLOOKUP(A560,テーブル1[],2,FALSE),\"\")&IFERROR(VLOOKUP(A560,祝日など!$D$2:$E$20,2,FALSE),\"\")","v":""}]
["2026-10-12",46307,{"$f":"IFERROR(VLOOKUP(A561,テーブル1[],2,FALSE),\"\")&IFERROR(VLOOKUP(A561,祝日など!$D$2:$E$20,2,FALSE),\"\")","v":"スポーツの日"}]
["2026-10-13",46308,{"$f":"IFERROR(VLOOKUP(A562,テーブル1[],2,FALSE),\"\")&IFERROR(VLOOKUP(A562,祝日など!$D$2:$E$20,2,FALSE),\"\")","v":""}]
["2026-10-14",46309,{"$f":"IFERROR(VLOOKUP(A563,テーブル1[],2,FALSE),\"\")&IFERROR(VLOOKUP(A563,祝日など!$D$2:$E$20,2,FALSE),\"\")","v":""}]
["2026-10-15",46310,{"$f":"IFERROR(VLOOKUP(A564,テーブル1[],2,FALSE),\"\")&IFERROR(VLOOKUP(A564,祝日など!$D$2:$E$20,2,FALSE),\"\")","v":""}]
["2026-10-16",46311,{"$f":"IFERROR(VLOOKUP(A565,テーブル1[],2,FALSE),\"\")&IFERROR(VLOOKUP(A565,祝日など!$D$2:$E$20,2,FALSE),\"\")","v":""}]
["2026-10-17",46312,{"$f":"IFERROR(VLOOKUP(A566,テーブル1[],2,FALSE),\"\")&IFERROR(VLOOKUP(A566,祝日など!$D$2:$E$20,2,FALSE),\"\")","v":""}]
["2026-10-18",46313,{"$f":"IFERROR(VLOOKUP(A567,テーブル1[],2,FALSE),\"\")&IFERROR(VLOOKUP(A567,祝日など!$D$2:$E$20,2,FALSE),\"\")","v":""}]
["2026-10-19",46314,{"$f":"IFERROR(VLOOKUP(A568,テーブル1[],2,FALSE),\"\")&IFERROR(VLOOKUP(A568,祝日など!$D$2:$E$20,2,FALSE),\"\")","v":""}]
["2026-10-20",46315,{"$f":"IFERROR(VLOOKUP(A569,テーブル1[],2,FALSE),\"\")&IFERROR(VLOOKUP(A569,祝日など!$D$2:$E$20,2,FALSE),\"\")","v":""}]
["2026-10-21",46316,{"$f":"IFERROR(VLOOKUP(A570,テーブル1[],2,FALSE),\"\")&IFERROR(VLOOKUP(A570,祝日など!$D$2:$E$20,2,FALSE),\"\")","v":""}]
["2026-10-22",46317,{"$f":"IFERROR(VLOOKUP(A571,テーブル1[],2,FALSE),\"\")&IFERROR(VLOOKUP(A571,祝日など!$D$2:$E$20,2,FALSE),\"\")","v":""}]
["2026-10-23",46318,{"$f":"IFERROR(VLOOKUP(A572,テーブル1[],2,FALSE),\"\")&IFERROR(VLOOKUP(A572,祝日など!$D$2:$E$20,2,FALSE),\"\")","v":""}]
["2026-10-24",46319,{"$f":"IFERROR(VLOOKUP(A573,テーブル1[],2,FALSE),\"\")&IFERROR(VLOOKUP(A573,祝日など!$D$2:$E$20,2,FALSE),\"\")","v":""}]
["2026-10-25",46320,{"$f":"IFERROR(VLOOKUP(A574,テーブル1[],2,FALSE),\"\")&IFERROR(VLOOKUP(A574,祝日など!$D$2:$E$20,2,FALSE),\"\")","v":""}]
["2026-10-26",46321,{"$f":"IFERROR(VLOOKUP(A575,テーブル1[],2,FALSE),\"\")&IFERROR(VLOOKUP(A575,祝日など!$D$2:$E$20,2,FALSE),\"\")","v":""}]
["2026-10-27",46322,{"$f":"IFERROR(VLOOKUP(A576,テーブル1[],2,FALSE),\"\")&IFERROR(VLOOKUP(A576,祝日など!$D$2:$E$20,2,FALSE),\"\")","v":""}]
["2026-10-28",46323,{"$f":"IFERROR(VLOOKUP(A577,テーブル1[],2,FALSE),\"\")&IFERROR(VLOOKUP(A577,祝日など!$D$2:$E$20,2,FALSE),\"\")","v":""}]
["2026-10-29",46324,{"$f":"IFERROR(VLOOKUP(A578,テーブル1[],2,FALSE),\"\")&IFERROR(VLOOKUP(A578,祝日など!$D$2:$E$20,2,FALSE),\"\")","v":""}]
["2026-10-30",46325,{"$f":"IFERROR(VLOOKUP(A579,テーブル1[],2,FALSE),\"\")&IFERROR(VLOOKUP(A579,祝日など!$D$2:$E$20,2,FALSE),\"\")","v":""}]
["2026-10-31",46326,{"$f":"IFERROR(VLOOKUP(A580,テーブル1[],2,FALSE),\"\")&IFERROR(VLOOKUP(A580,祝日など!$D$2:$E$20,2,FALSE),\"\")","v":""}]
["2026-11-01",{"$f":"A581","v":46327},{"$f":"IFERROR(VLOOKUP(A581,テーブル1[],2,FALSE),\"\")&IFERROR(VLOOKUP(A581,祝日など!$D$2:$E$20,2,FALSE),\"\")","v":""}]
["2026-11-02",46328,{"$f":"IFERROR(VLOOKUP(A582,テーブル1[],2,FALSE),\"\")&IFERROR(VLOOKUP(A582,祝日など!$D$2:$E$20,2,FALSE),\"\")","v":""}]
["2026-11-03",46329,{"$f":"IFERROR(VLOOKUP(A583,テーブル1[],2,FALSE),\"\")&IFERROR(VLOOKUP(A583,祝日など!$D$2:$E$20,2,FALSE),\"\")","v":"文化の日"}]
["2026-11-04",46330,{"$f":"IFERROR(VLOOKUP(A584,テーブル1[],2,FALSE),\"\")&IFERROR(VLOOKUP(A584,祝日など!$D$2:$E$20,2,FALSE),\"\")","v":""}]
["2026-11-05",46331,{"$f":"IFERROR(VLOOKUP(A585,テーブル1[],2,FALSE),\"\")&IFERROR(VLOOKUP(A585,祝日など!$D$2:$E$20,2,FALSE),\"\")","v":""}]
["2026-11-06",46332,{"$f":"IFERROR(VLOOKUP(A586,テーブル1[],2,FALSE),\"\")&IFERROR(VLOOKUP(A586,祝日など!$D$2:$E$20,2,FALSE),\"\")","v":""}]
["2026-11-07",46333,{"$f":"IFERROR(VLOOKUP(A587,テーブル1[],2,FALSE),\"\")&IFERROR(VLOOKUP(A587,祝日など!$D$2:$E$20,2,FALSE),\"\")","v":""}]
["2026-11-08",46334,{"$f":"IFERROR(VLOOKUP(A588,テーブル1[],2,FALSE),\"\")&IFERROR(VLOOKUP(A588,祝日など!$D$2:$E$20,2,FALSE),\"\")","v":""}]
["2026-11-09",46335,{"$f":"IFERROR(VLOOKUP(A589,テーブル1[],2,FALSE),\"\")&IFERROR(VLOOKUP(A589,祝日など!$D$2:$E$20,2,FALSE),\"\")","v":""}]
["2026-11-10",46336,{"$f":"IFERROR(VLOOKUP(A590,テーブル1[],2,FALSE),\"\")&IFERROR(VLOOKUP(A590,祝日など!$D$2:$E$20,2,FALSE),\"\")","v":""}]
["2026-11-11",46337,{"$f":"IFERROR(VLOOKUP(A591,テーブル1[],2,FALSE),\"\")&IFERROR(VLOOKUP(A591,祝日など!$D$2:$E$20,2,FALSE),\"\")","v":""}]
["2026-11-12",46338,{"$f":"IFERROR(VLOOKUP(A592,テーブル1[],2,FALSE),\"\")&IFERROR(VLOOKUP(A592,祝日など!$D$2:$E$20,2,FALSE),\"\")","v":""}]
["2026-11-13",46339,{"$f":"IFERROR(VLOOKUP(A593,テーブル1[],2,FALSE),\"\")&IFERROR(VLOOKUP(A593,祝日など!$D$2:$E$20,2,FALSE),\"\")","v":""}]
["2026-11-14",46340,{"$f":"IFERROR(VLOOKUP(A594,テーブル1[],2,FALSE),\"\")&IFERROR(VLOOKUP(A594,祝日など!$D$2:$E$20,2,FALSE),\"\")","v":""}]
["2026-11-15",46341,{"$f":"IFERROR(VLOOKUP(A595,テーブル1[],2,FALSE),\"\")&IFERROR(VLOOKUP(A595,祝日など!$D$2:$E$20,2,FALSE),\"\")","v":""}]
["2026-11-16",46342,{"$f":"IFERROR(VLOOKUP(A596,テーブル1[],2,FALSE),\"\")&IFERROR(VLOOKUP(A596,祝日など!$D$2:$E$20,2,FALSE),\"\")","v":""}]
["2026-11-17",46343,{"$f":"IFERROR(VLOOKUP(A597,テーブル1[],2,FALSE),\"\")&IFERROR(VLOOKUP(A597,祝日など!$D$2:$E$20,2,FALSE),\"\")","v":""}]
["2026-11-18",46344,{"$f":"IFERROR(VLOOKUP(A598,テーブル1[],2,FALSE),\"\")&IFERROR(VLOOKUP(A598,祝日など!$D$2:$E$20,2,FALSE),\"\")","v":""}]
["2026-11-19",46345,{"$f":"IFERROR(VLOOKUP(A599,テーブル1[],2,FALSE),\"\")&IFERROR(VLOOKUP(A599,祝日など!$D$2:$E$20,2,FALSE),\"\")","v":""}]
["2026-11-20",46346,{"$f":"IFERROR(VLOOKUP(A600,テーブル1[],2,FALSE),\"\")&IFERROR(VLOOKUP(A600,祝日など!$D$2:$E$20,2,FALSE),\"\")","v":""}]
["2026-11-21",46347,{"$f":"IFERROR(VLOOKUP(A601,テーブル1[],2,FALSE),\"\")&IFERROR(VLOOKUP(A601,祝日など!$D$2:$E$20,2,FALSE),\"\")","v":""}]
["2026-11-22",46348,{"$f":"IFERROR(VLOOKUP(A602,テーブル1[],2,FALSE),\"\")&IFERROR(VLOOKUP(A602,祝日など!$D$2:$E$20,2,FALSE),\"\")","v":""}]
["2026-11-23",46349,{"$f":"IFERROR(VLOOKUP(A603,テーブル1[],2,FALSE),\"\")&IFERROR(VLOOKUP(A603,祝日など!$D$2:$E$20,2,FALSE),\"\")","v":"勤労感謝の日"}]
["2026-11-24",46350,{"$f":"IFERROR(VLOOKUP(A604,テーブル1[],2,FALSE),\"\")&IFERROR(VLOOKUP(A604,祝日など!$D$2:$E$20,2,FALSE),\"\")","v":""}]
["2026-11-25",46351,{"$f":"IFERROR(VLOOKUP(A605,テーブル1[],2,FALSE),\"\")&IFERROR(VLOOKUP(A605,祝日など!$D$2:$E$20,2,FALSE),\"\")","v":""}]
["2026-11-26",46352,{"$f":"IFERROR(VLOOKUP(A606,テーブル1[],2,FALSE),\"\")&IFERROR(VLOOKUP(A606,祝日など!$D$2:$E$20,2,FALSE),\"\")","v":""}]
["2026-11-27",46353,{"$f":"IFERROR(VLOOKUP(A607,テーブル1[],2,FALSE),\"\")&IFERROR(VLOOKUP(A607,祝日など!$D$2:$E$20,2,FALSE),\"\")","v":""}]
["2026-11-28",46354,{"$f":"IFERROR(VLOOKUP(A608,テーブル1[],2,FALSE),\"\")&IFERROR(VLOOKUP(A608,祝日など!$D$2:$E$20,2,FALSE),\"\")","v":""}]
["2026-11-29",46355,{"$f":"IFERROR(VLOOKUP(A609,テーブル1[],2,FALSE),\"\")&IFERROR(VLOOKUP(A609,祝日など!$D$2:$E$20,2,FALSE),\"\")","v":""}]
["2026-11-30",46356,{"$f":"IFERROR(VLOOKUP(A610,テーブル1[],2,FALSE),\"\")&IFERROR(VLOOKUP(A610,祝日など!$D$2:$E$20,2,FALSE),\"\")","v":""}]
["2026-12-01",46357,{"$f":"IFERROR(VLOOKUP(A611,テーブル1[],2,FALSE),\"\")&IFERROR(VLOOKUP(A611,祝日など!$D$2:$E$20,2,FALSE),\"\")","v":""}]
["2026-12-02",46358,{"$f":"IFERROR(VLOOKUP(A612,テーブル1[],2,FALSE),\"\")&IFERROR(VLOOKUP(A612,祝日など!$D$2:$E$20,2,FALSE),\"\")","v":""}]
["2026-12-03",46359,{"$f":"IFERROR(VLOOKUP(A613,テーブル1[],2,FALSE),\"\")&IFERROR(VLOOKUP(A613,祝日など!$D$2:$E$20,2,FALSE),\"\")","v":""}]
["2026-12-04",46360,{"$f":"IFERROR(VLOOKUP(A614,テーブル1[],2,FALSE),\"\")&IFERROR(VLOOKUP(A614,祝日など!$D$2:$E$20,2,FALSE),\"\")","v":""}]
["2026-12-05",46361,{"$f":"IFERROR(VLOOKUP(A615,テーブル1[],2,FALSE),\"\")&IFERROR(VLOOKUP(A615,祝日など!$D$2:$E$20,2,FALSE),\"\")","v":""}]
["2026-12-06",46362,{"$f":"IFERROR(VLOOKUP(A616,テーブル1[],2,FALSE),\"\")&IFERROR(VLOOKUP(A616,祝日など!$D$2:$E$20,2,FALSE),\"\")","v":""}]
["2026-12-07",46363,{"$f":"IFERROR(VLOOKUP(A617,テーブル1[],2,FALSE),\"\")&IFERROR(VLOOKUP(A617,祝日など!$D$2:$E$20,2,FALSE),\"\")","v":""}]
["2026-12-08",46364,{"$f":"IFERROR(VLOOKUP(A618,テーブル1[],2,FALSE),\"\")&IFERROR(VLOOKUP(A618,祝日など!$D$2:$E$20,2,FALSE),\"\")","v":""}]
["2026-12-09",46365,{"$f":"IFERROR(VLOOKUP(A619,テーブル1[],2,FALSE),\"\")&IFERROR(VLOOKUP(A619,祝日など!$D$2:$E$20,2,FALSE),\"\")","v":""}]
["2026-12-10",46366,{"$f":"IFERROR(VLOOKUP(A620,テーブル1[],2,FALSE),\"\")&IFERROR(VLOOKUP(A620,祝日など!$D$2:$E$20,2,FALSE),\"\")","v":""}]
["2026-12-11",46367,{"$f":"IFERROR(VLOOKUP(A621,テーブル1[],2,FALSE),\"\")&IFERROR(VLOOKUP(A621,祝日など!$D$2:$E$20,2,FALSE),\"\")","v":""}]
["2026-12-12",46368,{"$f":"IFERROR(VLOOKUP(A622,テーブル1[],2,FALSE),\"\")&IFERROR(VLOOKUP(A622,祝日など!$D$2:$E$20,2,FALSE),\"\")","v":""}]
["2026-12-13",46369,{"$f":"IFERROR(VLOOKUP(A623,テーブル1[],2,FALSE),\"\")&IFERROR(VLOOKUP(A623,祝日など!$D$2:$E$20,2,FALSE),\"\")","v":""}]
["2026-12-14",46370,{"$f":"IFERROR(VLOOKUP(A624,テーブル1[],2,FALSE),\"\")&IFERROR(VLOOKUP(A624,祝日など!$D$2:$E$20,2,FALSE),\"\")","v":""}]
["2026-12-15",46371,{"$f":"IFERROR(VLOOKUP(A625,テーブル1[],2,FALSE),\"\")&IFERROR(VLOOKUP(A625,祝日など!$D$2:$E$20,2,FALSE),\"\")","v":""}]
["2026-12-16",46372,{"$f":"IFERROR(VLOOKUP(A626,テーブル1[],2,FALSE),\"\")&IFERROR(VLOOKUP(A626,祝日など!$D$2:$E$20,2,FALSE),\"\")","v":""}]
["2026-12-17",46373,{"$f":"IFERROR(VLOOKUP(A627,テーブル1[],2,FALSE),\"\")&IFERROR(VLOOKUP(A627,祝日など!$D$2:$E$20,2,FALSE),\"\")","v":""}]
["2026-12-18",46374,{"$f":"IFERROR(VLOOKUP(A628,テーブル1[],2,FALSE),\"\")&IFERROR(VLOOKUP(A628,祝日など!$D$2:$E$20,2,FALSE),\"\")","v":""}]
["2026-12-19",46375,{"$f":"IFERROR(VLOOKUP(A629,テーブル1[],2,FALSE),\"\")&IFERROR(VLOOKUP(A629,祝日など!$D$2:$E$20,2,FALSE),\"\")","v":""}]
["2026-12-20",46376,{"$f":"IFERROR(VLOOKUP(A630,テーブル1[],2,FALSE),\"\")&IFERROR(VLOOKUP(A630,祝日など!$D$2:$E$20,2,FALSE),\"\")","v":""}]
["2026-12-21",46377,{"$f":"IFERROR(VLOOKUP(A631,テーブル1[],2,FALSE),\"\")&IFERROR(VLOOKUP(A631,祝日など!$D$2:$E$20,2,FALSE),\"\")","v":""}]
["2026-12-22",46378,{"$f":"IFERROR(VLOOKUP(A632,テーブル1[],2,FALSE),\"\")&IFERROR(VLOOKUP(A632,祝日など!$D$2:$E$20,2,FALSE),\"\")","v":""}]
["2026-12-23",46379,{"$f":"IFERROR(VLOOKUP(A633,テーブル1[],2,FALSE),\"\")&IFERROR(VLOOKUP(A633,祝日など!$D$2:$E$20,2,FALSE),\"\")","v":""}]
["2026-12-24",46380,{"$f":"IFERROR(VLOOKUP(A634,テーブル1[],2,FALSE),\"\")&IFERROR(VLOOKUP(A634,祝日など!$D$2:$E$20,2,FALSE),\"\")","v":""}]
["2026-12-25",46381,{"$f":"IFERROR(VLOOKUP(A635,テーブル1[],2,FALSE),\"\")&IFERROR(VLOOKUP(A635,祝日など!$D$2:$E$20,2,FALSE),\"\")","v":""}]
["2026-12-26",46382,{"$f":"IFERROR(VLOOKUP(A636,テーブル1[],2,FALSE),\"\")&IFERROR(VLOOKUP(A636,祝日など!$D$2:$E$20,2,FALSE),\"\")","v":""}]
["2026-12-27",46383,{"$f":"IFERROR(VLOOKUP(A637,テーブル1[],2,FALSE),\"\")&IFERROR(VLOOKUP(A637,祝日など!$D$2:$E$20,2,FALSE),\"\")","v":""}]
["2026-12-28",46384,{"$f":"IFERROR(VLOOKUP(A638,テーブル1[],2,FALSE),\"\")&IFERROR(VLOOKUP(A638,祝日など!$D$2:$E$20,2,FALSE),\"\")","v":""}]
["2026-12-29",46385,{"$f":"IFERROR(VLOOKUP(A639,テーブル1[],2,FALSE),\"\")&IFERROR(VLOOKUP(A639,祝日など!$D$2:$E$20,2,FALSE),\"\")","v":"冬季休業"}]
["2026-12-30",46386,{"$f":"IFERROR(VLOOKUP(A640,テーブル1[],2,FALSE),\"\")&IFERROR(VLOOKUP(A640,祝日など!$D$2:$E$20,2,FALSE),\"\")","v":"冬季休業"}]
["2026-12-31",46387,{"$f":"IFERROR(VLOOKUP(A641,テーブル1[],2,FALSE),\"\")&IFERROR(VLOOKUP(A641,祝日など!$D$2:$E$20,2,FALSE),\"\")","v":"冬季休業"}]
["2027-01-01",46388,{"$f":"IFERROR(VLOOKUP(A642,テーブル1[],2,FALSE),\"\")&IFERROR(VLOOKUP(A642,祝日など!$D$2:$E$20,2,FALSE),\"\")","v":"元日"}]
["2027-01-02",46389,{"$f":"IFERROR(VLOOKUP(A643,テーブル1[],2,FALSE),\"\")&IFERROR(VLOOKUP(A643,祝日など!$D$2:$E$20,2,FALSE),\"\")","v":""}]
["2027-01-03",46390,{"$f":"IFERROR(VLOOKUP(A644,テーブル1[],2,FALSE),\"\")&IFERROR(VLOOKUP(A644,祝日など!$D$2:$E$20,2,FALSE),\"\")","v":""}]
["2027-01-04",{"$f":"A645","v":46391},{"$f":"IFERROR(VLOOKUP(A645,テーブル1[],2,FALSE),\"\")&IFERROR(VLOOKUP(A645,祝日など!$D$2:$E$20,2,FALSE),\"\")","v":""}]
["2027-01-05",46392,{"$f":"IFERROR(VLOOKUP(A646,テーブル1[],2,FALSE),\"\")&IFERROR(VLOOKUP(A646,祝日など!$D$2:$E$20,2,FALSE),\"\")","v":""}]
["2027-01-06",46393,{"$f":"IFERROR(VLOOKUP(A647,テーブル1[],2,FALSE),\"\")&IFERROR(VLOOKUP(A647,祝日など!$D$2:$E$20,2,FALSE),\"\")","v":""}]
["2027-01-07",46394,{"$f":"IFERROR(VLOOKUP(A648,テーブル1[],2,FALSE),\"\")&IFERROR(VLOOKUP(A648,祝日など!$D$2:$E$20,2,FALSE),\"\")","v":""}]
["2027-01-08",46395,{"$f":"IFERROR(VLOOKUP(A649,テーブル1[],2,FALSE),\"\")&IFERROR(VLOOKUP(A649,祝日など!$D$2:$E$20,2,FALSE),\"\")","v":""}]
["2027-01-09",46396,{"$f":"IFERROR(VLOOKUP(A650,テーブル1[],2,FALSE),\"\")&IFERROR(VLOOKUP(A650,祝日など!$D$2:$E$20,2,FALSE),\"\")","v":""}]
["2027-01-10",46397,{"$f":"IFERROR(VLOOKUP(A651,テーブル1[],2,FALSE),\"\")&IFERROR(VLOOKUP(A651,祝日など!$D$2:$E$20,2,FALSE),\"\")","v":""}]
["2027-01-11",46398,{"$f":"IFERROR(VLOOKUP(A652,テーブル1[],2,FALSE),\"\")&IFERROR(VLOOKUP(A652,祝日など!$D$2:$E$20,2,FALSE),\"\")","v":"成人の日"}]
["2027-01-12",46399,{"$f":"IFERROR(VLOOKUP(A653,テーブル1[],2,FALSE),\"\")&IFERROR(VLOOKUP(A653,祝日など!$D$2:$E$20,2,FALSE),\"\")","v":""}]
["2027-01-13",46400,{"$f":"IFERROR(VLOOKUP(A654,テーブル1[],2,FALSE),\"\")&IFERROR(VLOOKUP(A654,祝日など!$D$2:$E$20,2,FALSE),\"\")","v":""}]
["2027-01-14",46401,{"$f":"IFERROR(VLOOKUP(A655,テーブル1[],2,FALSE),\"\")&IFERROR(VLOOKUP(A655,祝日など!$D$2:$E$20,2,FALSE),\"\")","v":""}]
["2027-01-15",46402,{"$f":"IFERROR(VLOOKUP(A656,テーブル1[],2,FALSE),\"\")&IFERROR(VLOOKUP(A656,祝日など!$D$2:$E$20,2,FALSE),\"\")","v":""}]
["2027-01-16",46403,{"$f":"IFERROR(VLOOKUP(A657,テーブル1[],2,FALSE),\"\")&IFERROR(VLOOKUP(A657,祝日など!$D$2:$E$20,2,FALSE),\"\")","v":""}]
["2027-01-17",46404,{"$f":"IFERROR(VLOOKUP(A658,テーブル1[],2,FALSE),\"\")&IFERROR(VLOOKUP(A658,祝日など!$D$2:$E$20,2,FALSE),\"\")","v":""}]
["2027-01-18",46405,{"$f":"IFERROR(VLOOKUP(A659,テーブル1[],2,FALSE),\"\")&IFERROR(VLOOKUP(A659,祝日など!$D$2:$E$20,2,FALSE),\"\")","v":""}]
["2027-01-19",46406,{"$f":"IFERROR(VLOOKUP(A660,テーブル1[],2,FALSE),\"\")&IFERROR(VLOOKUP(A660,祝日など!$D$2:$E$20,2,FALSE),\"\")","v":""}]
["2027-01-20",46407,{"$f":"IFERROR(VLOOKUP(A661,テーブル1[],2,FALSE),\"\")&IFERROR(VLOOKUP(A661,祝日など!$D$2:$E$20,2,FALSE),\"\")","v":""}]
["2027-01-21",46408,{"$f":"IFERROR(VLOOKUP(A662,テーブル1[],2,FALSE),\"\")&IFERROR(VLOOKUP(A662,祝日など!$D$2:$E$20,2,FALSE),\"\")","v":""}]
["2027-01-22",46409,{"$f":"IFERROR(VLOOKUP(A663,テーブル1[],2,FALSE),\"\")&IFERROR(VLOOKUP(A663,祝日など!$D$2:$E$20,2,FALSE),\"\")","v":""}]
["2027-01-23",46410,{"$f":"IFERROR(VLOOKUP(A664,テーブル1[],2,FALSE),\"\")&IFERROR(VLOOKUP(A664,祝日など!$D$2:$E$20,2,FALSE),\"\")","v":""}]
["2027-01-24",46411,{"$f":"IFERROR(VLOOKUP(A665,テーブル1[],2,FALSE),\"\")&IFERROR(VLOOKUP(A665,祝日など!$D$2:$E$20,2,FALSE),\"\")","v":""}]
["2027-01-25",46412,{"$f":"IFERROR(VLOOKUP(A666,テーブル1[],2,FALSE),\"\")&IFERROR(VLOOKUP(A666,祝日など!$D$2:$E$20,2,FALSE),\"\")","v":""}]
["2027-01-26",46413,{"$f":"IFERROR(VLOOKUP(A667,テーブル1[],2,FALSE),\"\")&IFERROR(VLOOKUP(A667,祝日など!$D$2:$E$20,2,FALSE),\"\")","v":""}]
["2027-01-27",46414,{"$f":"IFERROR(VLOOKUP(A668,テーブル1[],2,FALSE),\"\")&IFERROR(VLOOKUP(A668,祝日など!$D$2:$E$20,2,FALSE),\"\")","v":""}]
["2027-01-28",46415,{"$f":"IFERROR(VLOOKUP(A669,テーブル1[],2,FALSE),\"\")&IFERROR(VLOOKUP(A669,祝日など!$D$2:$E$20,2,FALSE),\"\")","v":""}]
["2027-01-29",46416,{"$f":"IFERROR(VLOOKUP(A670,テーブル1[],2,FALSE),\"\")&IFERROR(VLOOKUP(A670,祝日など!$D$2:$E$20,2,FALSE),\"\")","v":""}]
["2027-01-30",46417,{"$f":"IFERROR(VLOOKUP(A671,テーブル1[],2,FALSE),\"\")&IFERROR(VLOOKUP(A671,祝日など!$D$2:$E$20,2,FALSE),\"\")","v":""}]
["2027-01-31",46418,{"$f":"IFERROR(VLOOKUP(A672,テーブル1[],2,FALSE),\"\")&IFERROR(VLOOKUP(A672,祝日など!$D$2:$E$20,2,FALSE),\"\")","v":""}]
["2027-02-01",46419,{"$f":"IFERROR(VLOOKUP(A673,テーブル1[],2,FALSE),\"\")&IFERROR(VLOOKUP(A673,祝日など!$D$2:$E$20,2,FALSE),\"\")","v":""}]
["2027-02-02",46420,{"$f":"IFERROR(VLOOKUP(A674,テーブル1[],2,FALSE),\"\")&IFERROR(VLOOKUP(A674,祝日など!$D$2:$E$20,2,FALSE),\"\")","v":""}]
["2027-02-03",46421,{"$f":"IFERROR(VLOOKUP(A675,テーブル1[],2,FALSE),\"\")&IFERROR(VLOOKUP(A675,祝日など!$D$2:$E$20,2,FALSE),\"\")","v":""}]
["2027-02-04",46422,{"$f":"IFERROR(VLOOKUP(A676,テーブル1[],2,FALSE),\"\")&IFERROR(VLOOKUP(A676,祝日など!$D$2:$E$20,2,FALSE),\"\")","v":""}]
["2027-02-05",46423,{"$f":"IFERROR(VLOOKUP(A677,テーブル1[],2,FALSE),\"\")&IFERROR(VLOOKUP(A677,祝日など!$D$2:$E$20,2,FALSE),\"\")","v":""}]
["2027-02-06",46424,{"$f":"IFERROR(VLOOKUP(A678,テーブル1[],2,FALSE),\"\")&IFERROR(VLOOKUP(A678,祝日など!$D$2:$E$20,2,FALSE),\"\")","v":""}]
["2027-02-07",46425,{"$f":"IFERROR(VLOOKUP(A679,テーブル1[],2,FALSE),\"\")&IFERROR(VLOOKUP(A679,祝日など!$D$2:$E$20,2,FALSE),\"\")","v":""}]
["2027-02-08",46426,{"$f":"IFERROR(VLOOKUP(A680,テーブル1[],2,FALSE),\"\")&IFERROR(VLOOKUP(A680,祝日など!$D$2:$E$20,2,FALSE),\"\")","v":""}]
["2027-02-09",46427,{"$f":"IFERROR(VLOOKUP(A681,テーブル1[],2,FALSE),\"\")&IFERROR(VLOOKUP(A681,祝日など!$D$2:$E$20,2,FALSE),\"\")","v":""}]
["2027-02-10",46428,{"$f":"IFERROR(VLOOKUP(A682,テーブル1[],2,FALSE),\"\")&IFERROR(VLOOKUP(A682,祝日など!$D$2:$E$20,2,FALSE),\"\")","v":""}]
["2027-02-11",46429,{"$f":"IFERROR(VLOOKUP(A683,テーブル1[],2,FALSE),\"\")&IFERROR(VLOOKUP(A683,祝日など!$D$2:$E$20,2,FALSE),\"\")","v":"建国記念の日"}]
["2027-02-12",46430,{"$f":"IFERROR(VLOOKUP(A684,テーブル1[],2,FALSE),\"\")&IFERROR(VLOOKUP(A684,祝日など!$D$2:$E$20,2,FALSE),\"\")","v":""}]
["2027-02-13",46431,{"$f":"IFERROR(VLOOKUP(A685,テーブル1[],2,FALSE),\"\")&IFERROR(VLOOKUP(A685,祝日など!$D$2:$E$20,2,FALSE),\"\")","v":""}]
["2027-02-14",46432,{"$f":"IFERROR(VLOOKUP(A686,テーブル1[],2,FALSE),\"\")&IFERROR(VLOOKUP(A686,祝日など!$D$2:$E$20,2,FALSE),\"\")","v":""}]
["2027-02-15",46433,{"$f":"IFERROR(VLOOKUP(A687,テーブル1[],2,FALSE),\"\")&IFERROR(VLOOKUP(A687,祝日など!$D$2:$E$20,2,FALSE),\"\")","v":""}]
["2027-02-16",46434,{"$f":"IFERROR(VLOOKUP(A688,テーブル1[],2,FALSE),\"\")&IFERROR(VLOOKUP(A688,祝日など!$D$2:$E$20,2,FALSE),\"\")","v":""}]
["2027-02-17",46435,{"$f":"IFERROR(VLOOKUP(A689,テーブル1[],2,FALSE),\"\")&IFERROR(VLOOKUP(A689,祝日など!$D$2:$E$20,2,FALSE),\"\")","v":""}]
["2027-02-18",46436,{"$f":"IFERROR(VLOOKUP(A690,テーブル1[],2,FALSE),\"\")&IFERROR(VLOOKUP(A690,祝日など!$D$2:$E$20,2,FALSE),\"\")","v":""}]
["2027-02-19",46437,{"$f":"IFERROR(VLOOKUP(A691,テーブル1[],2,FALSE),\"\")&IFERROR(VLOOKUP(A691,祝日など!$D$2:$E$20,2,FALSE),\"\")","v":""}]
["2027-02-20",46438,{"$f":"IFERROR(VLOOKUP(A692,テーブル1[],2,FALSE),\"\")&IFERROR(VLOOKUP(A692,祝日など!$D$2:$E$20,2,FALSE),\"\")","v":""}]
["2027-02-21",46439,{"$f":"IFERROR(VLOOKUP(A693,テーブル1[],2,FALSE),\"\")&IFERROR(VLOOKUP(A693,祝日など!$D$2:$E$20,2,FALSE),\"\")","v":""}]
["2027-02-22",46440,{"$f":"IFERROR(VLOOKUP(A694,テーブル1[],2,FALSE),\"\")&IFERROR(VLOOKUP(A694,祝日など!$D$2:$E$20,2,FALSE),\"\")","v":""}]
["2027-02-23",46441,{"$f":"IFERROR(VLOOKUP(A695,テーブル1[],2,FALSE),\"\")&IFERROR(VLOOKUP(A695,祝日など!$D$2:$E$20,2,FALSE),\"\")","v":"天皇誕生日"}]
["2027-02-24",46442,{"$f":"IFERROR(VLOOKUP(A696,テーブル1[],2,FALSE),\"\")&IFERROR(VLOOKUP(A696,祝日など!$D$2:$E$20,2,FALSE),\"\")","v":""}]
["2027-02-25",46443,{"$f":"IFERROR(VLOOKUP(A697,テーブル1[],2,FALSE),\"\")&IFERROR(VLOOKUP(A697,祝日など!$D$2:$E$20,2,FALSE),\"\")","v":""}]
["2027-02-26",46444,{"$f":"IFERROR(VLOOKUP(A698,テーブル1[],2,FALSE),\"\")&IFERROR(VLOOKUP(A698,祝日など!$D$2:$E$20,2,FALSE),\"\")","v":""}]
["2027-02-27",46445,{"$f":"IFERROR(VLOOKUP(A699,テーブル1[],2,FALSE),\"\")&IFERROR(VLOOKUP(A699,祝日など!$D$2:$E$20,2,FALSE),\"\")","v":""}]
["2027-02-28",46446,{"$f":"IFERROR(VLOOKUP(A700,テーブル1[],2,FALSE),\"\")&IFERROR(VLOOKUP(A700,祝日など!$D$2:$E$20,2,FALSE),\"\")","v":""}]
["2027-03-01",46447,{"$f":"IFERROR(VLOOKUP(A701,テーブル1[],2,FALSE),\"\")&IFERROR(VLOOKUP(A701,祝日など!$D$2:$E$20,2,FALSE),\"\")","v":""}]
["2027-03-02",46448,{"$f":"IFERROR(VLOOKUP(A702,テーブル1[],2,FALSE),\"\")&IFERROR(VLOOKUP(A702,祝日など!$D$2:$E$20,2,FALSE),\"\")","v":""}]
["2027-03-03",46449,{"$f":"IFERROR(VLOOKUP(A703,テーブル1[],2,FALSE),\"\")&IFERROR(VLOOKUP(A703,祝日など!$D$2:$E$20,2,FALSE),\"\")","v":""}]
["2027-03-04",46450,{"$f":"IFERROR(VLOOKUP(A704,テーブル1[],2,FALSE),\"\")&IFERROR(VLOOKUP(A704,祝日など!$D$2:$E$20,2,FALSE),\"\")","v":""}]
["2027-03-05",46451,{"$f":"IFERROR(VLOOKUP(A705,テーブル1[],2,FALSE),\"\")&IFERROR(VLOOKUP(A705,祝日など!$D$2:$E$20,2,FALSE),\"\")","v":""}]
["2027-03-06",46452,{"$f":"IFERROR(VLOOKUP(A706,テーブル1[],2,FALSE),\"\")&IFERROR(VLOOKUP(A706,祝日など!$D$2:$E$20,2,FALSE),\"\")","v":""}]
["2027-03-07",46453,{"$f":"IFERROR(VLOOKUP(A707,テーブル1[],2,FALSE),\"\")&IFERROR(VLOOKUP(A707,祝日など!$D$2:$E$20,2,FALSE),\"\")","v":""}]
["2027-03-08",46454,{"$f":"IFERROR(VLOOKUP(A708,テーブル1[],2,FALSE),\"\")&IFERROR(VLOOKUP(A708,祝日など!$D$2:$E$20,2,FALSE),\"\")","v":""}]
["2027-03-09",{"$f":"A709","v":46455},{"$f":"IFERROR(VLOOKUP(A709,テーブル1[],2,FALSE),\"\")&IFERROR(VLOOKUP(A709,祝日など!$D$2:$E$20,2,FALSE),\"\")","v":""}]
["2027-03-10",46456,{"$f":"IFERROR(VLOOKUP(A710,テーブル1[],2,FALSE),\"\")&IFERROR(VLOOKUP(A710,祝日など!$D$2:$E$20,2,FALSE),\"\")","v":""}]
["2027-03-11",46457,{"$f":"IFERROR(VLOOKUP(A711,テーブル1[],2,FALSE),\"\")&IFERROR(VLOOKUP(A711,祝日など!$D$2:$E$20,2,FALSE),\"\")","v":""}]
["2027-03-12",46458,{"$f":"IFERROR(VLOOKUP(A712,テーブル1[],2,FALSE),\"\")&IFERROR(VLOOKUP(A712,祝日など!$D$2:$E$20,2,FALSE),\"\")","v":""},"後期試験","後期試験","試験","後期試験","後期試験","後期試験"]
["2027-03-13",46459,{"$f":"IFERROR(VLOOKUP(A713,テーブル1[],2,FALSE),\"\")&IFERROR(VLOOKUP(A713,祝日など!$D$2:$E$20,2,FALSE),\"\")","v":""}]
["2027-03-14",46460,{"$f":"IFERROR(VLOOKUP(A714,テーブル1[],2,FALSE),\"\")&IFERROR(VLOOKUP(A714,祝日など!$D$2:$E$20,2,FALSE),\"\")","v":""}]
["2027-03-15",46461,{"$f":"IFERROR(VLOOKUP(A715,テーブル1[],2,FALSE),\"\")&IFERROR(VLOOKUP(A715,祝日など!$D$2:$E$20,2,FALSE),\"\")","v":""}]
["2027-03-16",46462,{"$f":"IFERROR(VLOOKUP(A716,テーブル1[],2,FALSE),\"\")&IFERROR(VLOOKUP(A716,祝日など!$D$2:$E$20,2,FALSE),\"\")","v":""}]
["2027-03-17",46463,{"$f":"IFERROR(VLOOKUP(A717,テーブル1[],2,FALSE),\"\")&IFERROR(VLOOKUP(A717,祝日など!$D$2:$E$20,2,FALSE),\"\")","v":""}]
["2027-03-18",46464,{"$f":"IFERROR(VLOOKUP(A718,テーブル1[],2,FALSE),\"\")&IFERROR(VLOOKUP(A718,祝日など!$D$2:$E$20,2,FALSE),\"\")","v":""}]
["2027-03-19",46465,{"$f":"IFERROR(VLOOKUP(A719,テーブル1[],2,FALSE),\"\")&IFERROR(VLOOKUP(A719,祝日など!$D$2:$E$20,2,FALSE),\"\")","v":""}]
["2027-03-20",46466,{"$f":"IFERROR(VLOOKUP(A720,テーブル1[],2,FALSE),\"\")&IFERROR(VLOOKUP(A720,祝日など!$D$2:$E$20,2,FALSE),\"\")","v":""}]
["2027-03-21",46467,{"$f":"IFERROR(VLOOKUP(A721,テーブル1[],2,FALSE),\"\")&IFERROR(VLOOKUP(A721,祝日など!$D$2:$E$20,2,FALSE),\"\")","v":"春分の日"}]
["2027-03-22",46468,{"$f":"IFERROR(VLOOKUP(A722,テーブル1[],2,FALSE),\"\")&IFERROR(VLOOKUP(A722,祝日など!$D$2:$E$20,2,FALSE),\"\")","v":"振替休日"}]
["2027-03-23",46469,{"$f":"IFERROR(VLOOKUP(A723,テーブル1[],2,FALSE),\"\")&IFERROR(VLOOKUP(A723,祝日など!$D$2:$E$20,2,FALSE),\"\")","v":""}]
["2027-03-24",46470,{"$f":"IFERROR(VLOOKUP(A724,テーブル1[],2,FALSE),\"\")&IFERROR(VLOOKUP(A724,祝日など!$D$2:$E$20,2,FALSE),\"\")","v":""}]
["2027-03-25",46471,{"$f":"IFERROR(VLOOKUP(A725,テーブル1[],2,FALSE),\"\")&IFERROR(VLOOKUP(A725,祝日など!$D$2:$E$20,2,FALSE),\"\")","v":""}]
["2027-03-26",46472,{"$f":"IFERROR(VLOOKUP(A726,テーブル1[],2,FALSE),\"\")&IFERROR(VLOOKUP(A726,祝日など!$D$2:$E$20,2,FALSE),\"\")","v":""}]
["2027-03-27",46473,{"$f":"IFERROR(VLOOKUP(A727,テーブル1[],2,FALSE),\"\")&IFERROR(VLOOKUP(A727,祝日など!$D$2:$E$20,2,FALSE),\"\")","v":""}]
["2027-03-28",46474,{"$f":"IFERROR(VLOOKUP(A728,テーブル1[],2,FALSE),\"\")&IFERROR(VLOOKUP(A728,祝日など!$D$2:$E$20,2,FALSE),\"\")","v":""}]
["2027-03-29",46475,{"$f":"IFERROR(VLOOKUP(A729,テーブル1[],2,FALSE),\"\")&IFERROR(VLOOKUP(A729,祝日など!$D$2:$E$20,2,FALSE),\"\")","v":""}]
["2027-03-30",46476,{"$f":"IFERROR(VLOOKUP(A730,テーブル1[],2,FALSE),\"\")&IFERROR(VLOOKUP(A730,祝日など!$D$2:$E$20,2,FALSE),\"\")","v":""}]
["2027-03-31",46477,{"$f":"IFERROR(VLOOKUP(A731,テーブル1[],2,FALSE),\"\")&IFERROR(VLOOKUP(A731,祝日など!$D$2:$E$20,2,FALSE),\"\")","v":""}]
["2027-04-01",46478,{"$f":"IFERROR(VLOOKUP(A732,テーブル1[],2,FALSE),\"\")&IFERROR(VLOOKUP(A732,祝日など!$D$2:$E$20,2,FALSE),\"\")","v":""}]
["2027-04-02",46479,{"$f":"IFERROR(VLOOKUP(A733,テーブル1[],2,FALSE),\"\")&IFERROR(VLOOKUP(A733,祝日など!$D$2:$E$20,2,FALSE),\"\")","v":""}]
["2027-04-03",46480,{"$f":"IFERROR(VLOOKUP(A734,テーブル1[],2,FALSE),\"\")&IFERROR(VLOOKUP(A734,祝日など!$D$2:$E$20,2,FALSE),\"\")","v":""}]
["2027-04-04",46481,{"$f":"IFERROR(VLOOKUP(A735,テーブル1[],2,FALSE),\"\")&IFERROR(VLOOKUP(A735,祝日など!$D$2:$E$20,2,FALSE),\"\")","v":""}]
["2027-04-05",46482,{"$f":"IFERROR(VLOOKUP(A736,テーブル1[],2,FALSE),\"\")&IFERROR(VLOOKUP(A736,祝日など!$D$2:$E$20,2,FALSE),\"\")","v":""}]
["2027-04-06",46483,{"$f":"IFERROR(VLOOKUP(A737,テーブル1[],2,FALSE),\"\")&IFERROR(VLOOKUP(A737,祝日など!$D$2:$E$20,2,FALSE),\"\")","v":""}]
["2027-04-07",46484,{"$f":"IFERROR(VLOOKUP(A738,テーブル1[],2,FALSE),\"\")&IFERROR(VLOOKUP(A738,祝日など!$D$2:$E$20,2,FALSE),\"\")","v":""}]
["2027-04-08",46485,{"$f":"IFERROR(VLOOKUP(A739,テーブル1[],2,FALSE),\"\")&IFERROR(VLOOKUP(A739,祝日など!$D$2:$E$20,2,FALSE),\"\")","v":""}]
["2027-04-09",46486,{"$f":"IFERROR(VLOOKUP(A740,テーブル1[],2,FALSE),\"\")&IFERROR(VLOOKUP(A740,祝日など!$D$2:$E$20,2,FALSE),\"\")","v":""}]
["2027-04-10",46487,{"$f":"IFERROR(VLOOKUP(A741,テーブル1[],2,FALSE),\"\")&IFERROR(VLOOKUP(A741,祝日など!$D$2:$E$20,2,FALSE),\"\")","v":""}]
["2027-04-11",46488,{"$f":"IFERROR(VLOOKUP(A742,テーブル1[],2,FALSE),\"\")&IFERROR(VLOOKUP(A742,祝日など!$D$2:$E$20,2,FALSE),\"\")","v":""}]
["2027-04-12",46489,{"$f":"IFERROR(VLOOKUP(A743,テーブル1[],2,FALSE),\"\")&IFERROR(VLOOKUP(A743,祝日など!$D$2:$E$20,2,FALSE),\"\")","v":""}]